{"text_format":"1","workbook":"xlsx","n_sheets":7,"sheets":["DialogFile","GL Template","Instructions","Web Links","Drop Downs","SOAP","Change Log"],"not_rendered":{"charts":0,"images":1,"macros":1,"external_links":0,"defined_names":1139,"comments":1,"pivot_tables":0},"unopened":[{"sheet":"DialogFile","index":0,"reason":"not_a_worksheet"}],"bounds":{"document_bytes":16777216,"sheet_cells":100000,"rows_first":2000,"rows_last":500,"rows_between":2000,"halvings":0,"cell_chars":16384,"cell_head_chars":4096},"cells_cut":0,"cells_raw":0,"read":"whole","date_system":"1900"}

{"sheet":"GL Template","index":1,"n_rows":516,"n_cols":17,"rows_kept":516,"cut":false,"hidden":false,"merged":[[7,1,7,13],[8,3,8,4],[9,3,9,4],[11,0,11,6],[12,0,12,6],[11,7,11,8],[12,7,12,8],[8,1,8,2],[9,1,9,2]]}
[]
[]
[null,null,null,null,null,null,null,null,null,null,"Created by:"]
[null,null,null,null,null,null,null,null,null,null,"Dept Approval:"]
[null,null,null,null,null,null,null,null,null,null,"Entered in PS by:"]
[null,null,null,null,null,null,null,null,null,null,"UC Approval:"]
[null,null,null,null,null,"UMASS Lowell",null,null,null,null,"Journal ID:"]
[null,"                                                    Journal Entry"]
[null,"Business Unit",null,"Journal ID",null,"Journal Date","Ledger","Journal Source",null,null,"Reversal Date","Reversal Code","BU_ID"]
[null,"UMLOW",null,null,null,null,"ACTUALS","ONL",{"$f":"\"c:\\Transfer\\\"&N13&\".txt\"","v":"c:\\Transfer\\1.txt"},null,null,"N - Do Not Generate Reversal",{"$f":"B10","v":"UMLOW"}]
[]
["Header Description (30)",null,null,null,null,null,null,"Header Reference",null,null,"Total Lines"," Total Debits","Net Debit/Credit","Upload name"]
[null,null,null,null,null,null,null,null,null,null,{"$f":"MAX(JrnlLn1)","v":1},{"$f":"ROUND(SUMIF(MonetaryAmount1, \">0\",MonetaryAmount1),2)","v":0},{"$f":"ROUND(SUM(MonetaryAmount1),2)","v":0},"1"]
[]
["Line","Business Unit","Account","Speed Chart","Fund","DeptID","Program","Class","Project/Grant","Analysis Type","Monetary Amount","Line Description (30)",null,"Line Reference"]
[1,"UMLOW",null,null,null,null,null,null,null,null,null,null,null,null,null,null,{"$f":"B16&C16&D16&E16&F16&G16&H16&I16&J16&K16&L16&N16","v":"UMLOW"}]
[{"$f":"IF(Q17=\"\",\" \",A16+1)","v":" "},null,null,null,null,null,null,null,null,null,null,null,null,null,null,null,{"$f":"B17&C17&D17&E17&F17&G17&H17&I17&J17&K17&L17&N17","v":""}]
[{"$f":"IF(Q18=\"\",\" \",A17+1)","v":" "},null,null,null,null,null,null,null,null,null,null,null,null,null,null,null,""]
[" ",null,null,null,null,null,null,null,null,null,null,null,null,null,null,null,""]
[" ",null,null,null,null,null,null,null,null,null,null,null,null,null,null,null,""]
[" ",null,null,null,null,null,null,null,null,null,null,null,null,null,null,null,""]
[" ",null,null,null,null,null,null,null,null,null,null,null,null,null,null,null,""]
[" ",null,null,null,null,null,null,null,null,null,null,null,null,null,null,null,""]
[" ",null,null,null,null,null,null,null,null,null,null,null,null,null,null,null,""]
[" ",null,null,null,null,null,null,null,null,null,null,null,null,null,null,null,""]
[" ",null,null,null,null,null,null,null,null,null,null,null,null,null,null,null,""]
[" ","",null,null,null,null,null,null,null,null,null,null,null,null,null,null,""]
[" ","",null,null,null,null,null,null,null,null,null,null,null,null,null,null,""]
[" ","",null,null,null,null,null,null,null,null,null,null,null,null,null,null,""]
[" ","",null,null,null,null,null,null,null,null,null,null,null,null,null,null,""]
[" ","",null,null,null,null,null,null,null,null,null,null,null,null,null,null,""]
[" ","",null,null,null,null,null,null,null,null,null,null,null,null,null,null,""]
[" ","",null,null,null,null,null,null,null,null,null,null,null,null,null,null,""]
[" ","",null,null,null,null,null,null,null,null,null,null,null,null,null,null,""]
[" ","",null,null,null,null,null,null,null,null,null,null,null,null,null,null,""]
[" ","",null,null,null,null,null,null,null,null,null,null,null,null,null,null,""]
[" ","",null,null,null,null,null,null,null,null,null,null,null,null,null,null,""]
[" ","",null,null,null,null,null,null,null,null,null,null,null,null,null,null,""]
[" ","",null,null,null,null,null,null,null,null,null,null,null,null,null,null,""]
[" ","",null,null,null,null,null,null,null,null,null,null,null,null,null,null,""]
[" ","",null,null,null,null,null,null,null,null,null,null,null,null,null,null,""]
[" ","",null,null,null,null,null,null,null,null,null,null,null,null,null,null,""]
[" ","",null,null,null,null,null,null,null,null,null,null,null,null,null,null,""]
[" ","",null,null,null,null,null,null,null,null,null,null,null,null,null,null,""]
[" ","",null,null,null,null,null,null,null,null,null,null,null,null,null,null,""]
[" ","",null,null,null,null,null,null,null,null,null,null,null,null,null,null,""]
[" ","",null,null,null,null,null,null,null,null,null,null,null,null,null,null,""]
[" ","",null,null,null,null,null,null,null,null,null,null,null,null,null,null,""]
[" ","",null,null,null,null,null,null,null,null,null,null,null,null,null,null,""]
[" ","",null,null,null,null,null,null,null,null,null,null,null,null,null,null,""]
[" ","",null,null,null,null,null,null,null,null,null,null,null,null,null,null,""]
[" ","",null,null,null,null,null,null,null,null,null,null,null,null,null,null,""]
[" ","",null,null,null,null,null,null,null,null,null,null,null,null,null,null,""]
[" ","",null,null,null,null,null,null,null,null,null,null,null,null,null,null,""]
[" ","",null,null,null,null,null,null,null,null,null,null,null,null,null,null,""]
[" ","",null,null,null,null,null,null,null,null,null,null,null,null,null,null,""]
[" ","",null,null,null,null,null,null,null,null,null,null,null,null,null,null,""]
[" ","",null,null,null,null,null,null,null,null,null,null,null,null,null,null,""]
[" ","",null,null,null,null,null,null,null,null,null,null,null,null,null,null,""]
[" ","",null,null,null,null,null,null,null,null,null,null,null,null,null,null,""]
[" ","",null,null,null,null,null,null,null,null,null,null,null,null,null,null,""]
[" ","",null,null,null,null,null,null,null,null,null,null,null,null,null,null,""]
[" ","",null,null,null,null,null,null,null,null,null,null,null,null,null,null,""]
[" ","",null,null,null,null,null,null,null,null,null,null,null,null,null,null,""]
[" ","",null,null,null,null,null,null,null,null,null,null,null,null,null,null,""]
[" ","",null,null,null,null,null,null,null,null,null,null,null,null,null,null,""]
[" ","",null,null,null,null,null,null,null,null,null,null,null,null,null,null,""]
[" ","",null,null,null,null,null,null,null,null,null,null,null,null,null,null,""]
[" ","",null,null,null,null,null,null,null,null,null,null,null,null,null,null,""]
[" ","",null,null,null,null,null,null,null,null,null,null,null,null,null,null,""]
[" ","",null,null,null,null,null,null,null,null,null,null,null,null,null,null,""]
[" ","",null,null,null,null,null,null,null,null,null,null,null,null,null,null,""]
[" ","",null,null,null,null,null,null,null,null,null,null,null,null,null,null,""]
[" ","",null,null,null,null,null,null,null,null,null,null,null,null,null,null,""]
[" ","",null,null,null,null,null,null,null,null,null,null,null,null,null,null,""]
[" ","",null,null,null,null,null,null,null,null,null,null,null,null,null,null,""]
[" ","",null,null,null,null,null,null,null,null,null,null,null,null,null,null,""]
[" ","",null,null,null,null,null,null,null,null,null,null,null,null,null,null,""]
[" ","",null,null,null,null,null,null,null,null,null,null,null,null,null,null,""]
[" ","",null,null,null,null,null,null,null,null,null,null,null,null,null,null,""]
[" ","",null,null,null,null,null,null,null,null,null,null,null,null,null,null,{"$f":"B81&C81&D81&E81&F81&G81&H81&I81&J81&K81&L81&N81","v":""}]
[{"$f":"IF(Q82=\"\",\" \",A81+1)","v":" "},"",null,null,null,null,null,null,null,null,null,null,null,null,null,null,""]
[" ","",null,null,null,null,null,null,null,null,null,null,null,null,null,null,""]
[" ","",null,null,null,null,null,null,null,null,null,null,null,null,null,null,""]
[" ","",null,null,null,null,null,null,null,null,null,null,null,null,null,null,""]
[" ","",null,null,null,null,null,null,null,null,null,null,null,null,null,null,""]
[" ","",null,null,null,null,null,null,null,null,null,null,null,null,null,null,""]
[" ","",null,null,null,null,null,null,null,null,null,null,null,null,null,null,""]
[" ","",null,null,null,null,null,null,null,null,null,null,null,null,null,null,""]
[" ","",null,null,null,null,null,null,null,null,null,null,null,null,null,null,""]
[" ","",null,null,null,null,null,null,null,null,null,null,null,null,null,null,""]
[" ","",null,null,null,null,null,null,null,null,null,null,null,null,null,null,""]
[" ","",null,null,null,null,null,null,null,null,null,null,null,null,null,null,""]
[" ","",null,null,null,null,null,null,null,null,null,null,null,null,null,null,""]
[" ","",null,null,null,null,null,null,null,null,null,null,null,null,null,null,""]
[" ","",null,null,null,null,null,null,null,null,null,null,null,null,null,null,""]
[" ","",null,null,null,null,null,null,null,null,null,null,null,null,null,null,""]
[" ","",null,null,null,null,null,null,null,null,null,null,null,null,null,null,""]
[" ","",null,null,null,null,null,null,null,null,null,null,null,null,null,null,""]
[" ","",null,null,null,null,null,null,null,null,null,null,null,null,null,null,""]
[" ","",null,null,null,null,null,null,null,null,null,null,null,null,null,null,""]
[" ","",null,null,null,null,null,null,null,null,null,null,null,null,null,null,""]
[" ","",null,null,null,null,null,null,null,null,null,null,null,null,null,null,""]
[" ","",null,null,null,null,null,null,null,null,null,null,null,null,null,null,""]
[" ","",null,null,null,null,null,null,null,null,null,null,null,null,null,null,""]
[" ","",null,null,null,null,null,null,null,null,null,null,null,null,null,null,""]
[" ","",null,null,null,null,null,null,null,null,null,null,null,null,null,null,""]
[" ","",null,null,null,null,null,null,null,null,null,null,null,null,null,null,""]
[" ","",null,null,null,null,null,null,null,null,null,null,null,null,null,null,""]
[" ","",null,null,null,null,null,null,null,null,null,null,null,null,null,null,""]
[" ","",null,null,null,null,null,null,null,null,null,null,null,null,null,null,""]
[" ","",null,null,null,null,null,null,null,null,null,null,null,null,null,null,""]
[" ","",null,null,null,null,null,null,null,null,null,null,null,null,null,null,""]
[" ","",null,null,null,null,null,null,null,null,null,null,null,null,null,null,""]
[" ","",null,null,null,null,null,null,null,null,null,null,null,null,null,null,""]
[" ","",null,null,null,null,null,null,null,null,null,null,null,null,null,null,""]
[" ","",null,null,null,null,null,null,null,null,null,null,null,null,null,null,""]
[" ","",null,null,null,null,null,null,null,null,null,null,null,null,null,null,""]
[" ","",null,null,null,null,null,null,null,null,null,null,null,null,null,null,""]
[" ","",null,null,null,null,null,null,null,null,null,null,null,null,null,null,""]
[" ","",null,null,null,null,null,null,null,null,null,null,null,null,null,null,""]
[" ","",null,null,null,null,null,null,null,null,null,null,null,null,null,null,""]
[" ","",null,null,null,null,null,null,null,null,null,null,null,null,null,null,""]
[" ","",null,null,null,null,null,null,null,null,null,null,null,null,null,null,""]
[" ","",null,null,null,null,null,null,null,null,null,null,null,null,null,null,""]
[" ","",null,null,null,null,null,null,null,null,null,null,null,null,null,null,""]
[" ","",null,null,null,null,null,null,null,null,null,null,null,null,null,null,""]
[" ","",null,null,null,null,null,null,null,null,null,null,null,null,null,null,""]
[" ","",null,null,null,null,null,null,null,null,null,null,null,null,null,null,""]
[" ","",null,null,null,null,null,null,null,null,null,null,null,null,null,null,""]
[" ","",null,null,null,null,null,null,null,null,null,null,null,null,null,null,""]
[" ","",null,null,null,null,null,null,null,null,null,null,null,null,null,null,""]
[" ","",null,null,null,null,null,null,null,null,null,null,null,null,null,null,""]
[" ","",null,null,null,null,null,null,null,null,null,null,null,null,null,null,""]
[" ","",null,null,null,null,null,null,null,null,null,null,null,null,null,null,""]
[" ","",null,null,null,null,null,null,null,null,null,null,null,null,null,null,""]
[" ","",null,null,null,null,null,null,null,null,null,null,null,null,null,null,""]
[" ","",null,null,null,null,null,null,null,null,null,null,null,null,null,null,""]
[" ","",null,null,null,null,null,null,null,null,null,null,null,null,null,null,""]
[" ","",null,null,null,null,null,null,null,null,null,null,null,null,null,null,""]
[" ","",null,null,null,null,null,null,null,null,null,null,null,null,null,null,""]
[" ","",null,null,null,null,null,null,null,null,null,null,null,null,null,null,""]
[" ","",null,null,null,null,null,null,null,null,null,null,null,null,null,null,""]
[" ","",null,null,null,null,null,null,null,null,null,null,null,null,null,null,""]
[" ","",null,null,null,null,null,null,null,null,null,null,null,null,null,null,{"$f":"B145&C145&D145&E145&F145&G145&H145&I145&J145&K145&L145&N145","v":""}]
[{"$f":"IF(Q146=\"\",\" \",A145+1)","v":" "},"",null,null,null,null,null,null,null,null,null,null,null,null,null,null,""]
[" ","",null,null,null,null,null,null,null,null,null,null,null,null,null,null,""]
[" ","",null,null,null,null,null,null,null,null,null,null,null,null,null,null,""]
[" ","",null,null,null,null,null,null,null,null,null,null,null,null,null,null,""]
[" ","",null,null,null,null,null,null,null,null,null,null,null,null,null,null,""]
[" ","",null,null,null,null,null,null,null,null,null,null,null,null,null,null,""]
[" ","",null,null,null,null,null,null,null,null,null,null,null,null,null,null,""]
[" ","",null,null,null,null,null,null,null,null,null,null,null,null,null,null,""]
[" ","",null,null,null,null,null,null,null,null,null,null,null,null,null,null,""]
[" ","",null,null,null,null,null,null,null,null,null,null,null,null,null,null,""]
[" ","",null,null,null,null,null,null,null,null,null,null,null,null,null,null,""]
[" ","",null,null,null,null,null,null,null,null,null,null,null,null,null,null,""]
[" ","",null,null,null,null,null,null,null,null,null,null,null,null,null,null,""]
[" ","",null,null,null,null,null,null,null,null,null,null,null,null,null,null,""]
[" ","",null,null,null,null,null,null,null,null,null,null,null,null,null,null,""]
[" ","",null,null,null,null,null,null,null,null,null,null,null,null,null,null,""]
[" ","",null,null,null,null,null,null,null,null,null,null,null,null,null,null,""]
[" ","",null,null,null,null,null,null,null,null,null,null,null,null,null,null,""]
[" ","",null,null,null,null,null,null,null,null,null,null,null,null,null,null,""]
[" ","",null,null,null,null,null,null,null,null,null,null,null,null,null,null,""]
[" ","",null,null,null,null,null,null,null,null,null,null,null,null,null,null,""]
[" ","",null,null,null,null,null,null,null,null,null,null,null,null,null,null,""]
[" ","",null,null,null,null,null,null,null,null,null,null,null,null,null,null,""]
[" ","",null,null,null,null,null,null,null,null,null,null,null,null,null,null,""]
[" ","",null,null,null,null,null,null,null,null,null,null,null,null,null,null,""]
[" ","",null,null,null,null,null,null,null,null,null,null,null,null,null,null,""]
[" ","",null,null,null,null,null,null,null,null,null,null,null,null,null,null,""]
[" ","",null,null,null,null,null,null,null,null,null,null,null,null,null,null,""]
[" ","",null,null,null,null,null,null,null,null,null,null,null,null,null,null,""]
[" ","",null,null,null,null,null,null,null,null,null,null,null,null,null,null,""]
[" ","",null,null,null,null,null,null,null,null,null,null,null,null,null,null,""]
[" ","",null,null,null,null,null,null,null,null,null,null,null,null,null,null,""]
[" ","",null,null,null,null,null,null,null,null,null,null,null,null,null,null,""]
[" ","",null,null,null,null,null,null,null,null,null,null,null,null,null,null,""]
[" ","",null,null,null,null,null,null,null,null,null,null,null,null,null,null,""]
[" ","",null,null,null,null,null,null,null,null,null,null,null,null,null,null,""]
[" ","",null,null,null,null,null,null,null,null,null,null,null,null,null,null,""]
[" ","",null,null,null,null,null,null,null,null,null,null,null,null,null,null,""]
[" ","",null,null,null,null,null,null,null,null,null,null,null,null,null,null,""]
[" ","",null,null,null,null,null,null,null,null,null,null,null,null,null,null,""]
[" ","",null,null,null,null,null,null,null,null,null,null,null,null,null,null,""]
[" ","",null,null,null,null,null,null,null,null,null,null,null,null,null,null,""]
[" ","",null,null,null,null,null,null,null,null,null,null,null,null,null,null,""]
[" ","",null,null,null,null,null,null,null,null,null,null,null,null,null,null,""]
[" ","",null,null,null,null,null,null,null,null,null,null,null,null,null,null,""]
[" ","",null,null,null,null,null,null,null,null,null,null,null,null,null,null,""]
[" ","",null,null,null,null,null,null,null,null,null,null,null,null,null,null,""]
[" ","",null,null,null,null,null,null,null,null,null,null,null,null,null,null,""]
[" ","",null,null,null,null,null,null,null,null,null,null,null,null,null,null,""]
[" ","",null,null,null,null,null,null,null,null,null,null,null,null,null,null,""]
[" ","",null,null,null,null,null,null,null,null,null,null,null,null,null,null,""]
[" ","",null,null,null,null,null,null,null,null,null,null,null,null,null,null,""]
[" ","",null,null,null,null,null,null,null,null,null,null,null,null,null,null,""]
[" ","",null,null,null,null,null,null,null,null,null,null,null,null,null,null,""]
[" ","",null,null,null,null,null,null,null,null,null,null,null,null,null,null,""]
[" ","",null,null,null,null,null,null,null,null,null,null,null,null,null,null,""]
[" ","",null,null,null,null,null,null,null,null,null,null,null,null,null,null,""]
[" ","",null,null,null,null,null,null,null,null,null,null,null,null,null,null,""]
[" ","",null,null,null,null,null,null,null,null,null,null,null,null,null,null,""]
[" ","",null,null,null,null,null,null,null,null,null,null,null,null,null,null,""]
[" ","",null,null,null,null,null,null,null,null,null,null,null,null,null,null,""]
[" ","",null,null,null,null,null,null,null,null,null,null,null,null,null,null,""]
[" ","",null,null,null,null,null,null,null,null,null,null,null,null,null,null,""]
[" ","",null,null,null,null,null,null,null,null,null,null,null,null,null,null,{"$f":"B209&C209&D209&E209&F209&G209&H209&I209&J209&K209&L209&N209","v":""}]
[{"$f":"IF(Q210=\"\",\" \",A209+1)","v":" "},"",null,null,null,null,null,null,null,null,null,null,null,null,null,null,""]
[" ","",null,null,null,null,null,null,null,null,null,null,null,null,null,null,""]
[" ","",null,null,null,null,null,null,null,null,null,null,null,null,null,null,""]
[" ","",null,null,null,null,null,null,null,null,null,null,null,null,null,null,""]
[" ","",null,null,null,null,null,null,null,null,null,null,null,null,null,null,""]
[" ","",null,null,null,null,null,null,null,null,null,null,null,null,null,null,""]
[" ","",null,null,null,null,null,null,null,null,null,null,null,null,null,null,""]
[" ","",null,null,null,null,null,null,null,null,null,null,null,null,null,null,""]
[" ","",null,null,null,null,null,null,null,null,null,null,null,null,null,null,""]
[" ","",null,null,null,null,null,null,null,null,null,null,null,null,null,null,""]
[" ","",null,null,null,null,null,null,null,null,null,null,null,null,null,null,""]
[" ","",null,null,null,null,null,null,null,null,null,null,null,null,null,null,""]
[" ","",null,null,null,null,null,null,null,null,null,null,null,null,null,null,""]
[" ","",null,null,null,null,null,null,null,null,null,null,null,null,null,null,""]
[" ","",null,null,null,null,null,null,null,null,null,null,null,null,null,null,""]
[" ","",null,null,null,null,null,null,null,null,null,null,null,null,null,null,""]
[" ","",null,null,null,null,null,null,null,null,null,null,null,null,null,null,""]
[" ","",null,null,null,null,null,null,null,null,null,null,null,null,null,null,""]
[" ","",null,null,null,null,null,null,null,null,null,null,null,null,null,null,""]
[" ","",null,null,null,null,null,null,null,null,null,null,null,null,null,null,""]
[" ","",null,null,null,null,null,null,null,null,null,null,null,null,null,null,""]
[" ","",null,null,null,null,null,null,null,null,null,null,null,null,null,null,""]
[" ","",null,null,null,null,null,null,null,null,null,null,null,null,null,null,""]
[" ","",null,null,null,null,null,null,null,null,null,null,null,null,null,null,""]
[" ","",null,null,null,null,null,null,null,null,null,null,null,null,null,null,""]
[" ","",null,null,null,null,null,null,null,null,null,null,null,null,null,null,""]
[" ","",null,null,null,null,null,null,null,null,null,null,null,null,null,null,""]
[" ","",null,null,null,null,null,null,null,null,null,null,null,null,null,null,""]
[" ","",null,null,null,null,null,null,null,null,null,null,null,null,null,null,""]
[" ","",null,null,null,null,null,null,null,null,null,null,null,null,null,null,""]
[" ","",null,null,null,null,null,null,null,null,null,null,null,null,null,null,""]
[" ","",null,null,null,null,null,null,null,null,null,null,null,null,null,null,""]
[" ","",null,null,null,null,null,null,null,null,null,null,null,null,null,null,""]
[" ","",null,null,null,null,null,null,null,null,null,null,null,null,null,null,""]
[" ","",null,null,null,null,null,null,null,null,null,null,null,null,null,null,""]
[" ","",null,null,null,null,null,null,null,null,null,null,null,null,null,null,""]
[" ","",null,null,null,null,null,null,null,null,null,null,null,null,null,null,""]
[" ","",null,null,null,null,null,null,null,null,null,null,null,null,null,null,""]
[" ","",null,null,null,null,null,null,null,null,null,null,null,null,null,null,""]
[" ","",null,null,null,null,null,null,null,null,null,null,null,null,null,null,""]
[" ","",null,null,null,null,null,null,null,null,null,null,null,null,null,null,""]
[" ","",null,null,null,null,null,null,null,null,null,null,null,null,null,null,""]
[" ","",null,null,null,null,null,null,null,null,null,null,null,null,null,null,""]
[" ","",null,null,null,null,null,null,null,null,null,null,null,null,null,null,""]
[" ","",null,null,null,null,null,null,null,null,null,null,null,null,null,null,""]
[" ","",null,null,null,null,null,null,null,null,null,null,null,null,null,null,""]
[" ","",null,null,null,null,null,null,null,null,null,null,null,null,null,null,""]
[" ","",null,null,null,null,null,null,null,null,null,null,null,null,null,null,""]
[" ","",null,null,null,null,null,null,null,null,null,null,null,null,null,null,""]
[" ","",null,null,null,null,null,null,null,null,null,null,null,null,null,null,""]
[" ","",null,null,null,null,null,null,null,null,null,null,null,null,null,null,""]
[" ","",null,null,null,null,null,null,null,null,null,null,null,null,null,null,""]
[" ","",null,null,null,null,null,null,null,null,null,null,null,null,null,null,""]
[" ","",null,null,null,null,null,null,null,null,null,null,null,null,null,null,""]
[" ","",null,null,null,null,null,null,null,null,null,null,null,null,null,null,""]
[" ","",null,null,null,null,null,null,null,null,null,null,null,null,null,null,""]
[" ","",null,null,null,null,null,null,null,null,null,null,null,null,null,null,""]
[" ","",null,null,null,null,null,null,null,null,null,null,null,null,null,null,""]
[" ","",null,null,null,null,null,null,null,null,null,null,null,null,null,null,""]
[" ","",null,null,null,null,null,null,null,null,null,null,null,null,null,null,""]
[" ","",null,null,null,null,null,null,null,null,null,null,null,null,null,null,""]
[" ","",null,null,null,null,null,null,null,null,null,null,null,null,null,null,""]
[" ","",null,null,null,null,null,null,null,null,null,null,null,null,null,null,""]
[" ","",null,null,null,null,null,null,null,null,null,null,null,null,null,null,{"$f":"B273&C273&D273&E273&F273&G273&H273&I273&J273&K273&L273&N273","v":""}]
[{"$f":"IF(Q274=\"\",\" \",A273+1)","v":" "},"",null,null,null,null,null,null,null,null,null,null,null,null,null,null,""]
[" ","",null,null,null,null,null,null,null,null,null,null,null,null,null,null,""]
[" ","",null,null,null,null,null,null,null,null,null,null,null,null,null,null,""]
[" ","",null,null,null,null,null,null,null,null,null,null,null,null,null,null,""]
[" ","",null,null,null,null,null,null,null,null,null,null,null,null,null,null,""]
[" ","",null,null,null,null,null,null,null,null,null,null,null,null,null,null,""]
[" ","",null,null,null,null,null,null,null,null,null,null,null,null,null,null,""]
[" ","",null,null,null,null,null,null,null,null,null,null,null,null,null,null,""]
[" ","",null,null,null,null,null,null,null,null,null,null,null,null,null,null,""]
[" ","",null,null,null,null,null,null,null,null,null,null,null,null,null,null,""]
[" ","",null,null,null,null,null,null,null,null,null,null,null,null,null,null,""]
[" ","",null,null,null,null,null,null,null,null,null,null,null,null,null,null,""]
[" ","",null,null,null,null,null,null,null,null,null,null,null,null,null,null,""]
[" ","",null,null,null,null,null,null,null,null,null,null,null,null,null,null,""]
[" ","",null,null,null,null,null,null,null,null,null,null,null,null,null,null,""]
[" ","",null,null,null,null,null,null,null,null,null,null,null,null,null,null,""]
[" ","",null,null,null,null,null,null,null,null,null,null,null,null,null,null,""]
[" ","",null,null,null,null,null,null,null,null,null,null,null,null,null,null,""]
[" ","",null,null,null,null,null,null,null,null,null,null,null,null,null,null,""]
[" ","",null,null,null,null,null,null,null,null,null,null,null,null,null,null,""]
[" ","",null,null,null,null,null,null,null,null,null,null,null,null,null,null,""]
[" ","",null,null,null,null,null,null,null,null,null,null,null,null,null,null,""]
[" ","",null,null,null,null,null,null,null,null,null,null,null,null,null,null,""]
[" ","",null,null,null,null,null,null,null,null,null,null,null,null,null,null,""]
[" ","",null,null,null,null,null,null,null,null,null,null,null,null,null,null,""]
[" ","",null,null,null,null,null,null,null,null,null,null,null,null,null,null,""]
[" ","",null,null,null,null,null,null,null,null,null,null,null,null,null,null,""]
[" ","",null,null,null,null,null,null,null,null,null,null,null,null,null,null,""]
[" ","",null,null,null,null,null,null,null,null,null,null,null,null,null,null,""]
[" ","",null,null,null,null,null,null,null,null,null,null,null,null,null,null,""]
[" ","",null,null,null,null,null,null,null,null,null,null,null,null,null,null,""]
[" ","",null,null,null,null,null,null,null,null,null,null,null,null,null,null,""]
[" ","",null,null,null,null,null,null,null,null,null,null,null,null,null,null,""]
[" ","",null,null,null,null,null,null,null,null,null,null,null,null,null,null,""]
[" ","",null,null,null,null,null,null,null,null,null,null,null,null,null,null,""]
[" ","",null,null,null,null,null,null,null,null,null,null,null,null,null,null,""]
[" ","",null,null,null,null,null,null,null,null,null,null,null,null,null,null,""]
[" ","",null,null,null,null,null,null,null,null,null,null,null,null,null,null,""]
[" ","",null,null,null,null,null,null,null,null,null,null,null,null,null,null,""]
[" ","",null,null,null,null,null,null,null,null,null,null,null,null,null,null,""]
[" ","",null,null,null,null,null,null,null,null,null,null,null,null,null,null,""]
[" ","",null,null,null,null,null,null,null,null,null,null,null,null,null,null,""]
[" ","",null,null,null,null,null,null,null,null,null,null,null,null,null,null,""]
[" ","",null,null,null,null,null,null,null,null,null,null,null,null,null,null,""]
[" ","",null,null,null,null,null,null,null,null,null,null,null,null,null,null,""]
[" ","",null,null,null,null,null,null,null,null,null,null,null,null,null,null,""]
[" ","",null,null,null,null,null,null,null,null,null,null,null,null,null,null,""]
[" ","",null,null,null,null,null,null,null,null,null,null,null,null,null,null,""]
[" ","",null,null,null,null,null,null,null,null,null,null,null,null,null,null,""]
[" ","",null,null,null,null,null,null,null,null,null,null,null,null,null,null,""]
[" ","",null,null,null,null,null,null,null,null,null,null,null,null,null,null,""]
[" ","",null,null,null,null,null,null,null,null,null,null,null,null,null,null,""]
[" ","",null,null,null,null,null,null,null,null,null,null,null,null,null,null,""]
[" ","",null,null,null,null,null,null,null,null,null,null,null,null,null,null,""]
[" ","",null,null,null,null,null,null,null,null,null,null,null,null,null,null,""]
[" ","",null,null,null,null,null,null,null,null,null,null,null,null,null,null,""]
[" ","",null,null,null,null,null,null,null,null,null,null,null,null,null,null,""]
[" ","",null,null,null,null,null,null,null,null,null,null,null,null,null,null,""]
[" ","",null,null,null,null,null,null,null,null,null,null,null,null,null,null,""]
[" ","",null,null,null,null,null,null,null,null,null,null,null,null,null,null,""]
[" ","",null,null,null,null,null,null,null,null,null,null,null,null,null,null,""]
[" ","",null,null,null,null,null,null,null,null,null,null,null,null,null,null,""]
[" ","",null,null,null,null,null,null,null,null,null,null,null,null,null,null,""]
[" ","",null,null,null,null,null,null,null,null,null,null,null,null,null,null,{"$f":"B337&C337&D337&E337&F337&G337&H337&I337&J337&K337&L337&N337","v":""}]
[{"$f":"IF(Q338=\"\",\" \",A337+1)","v":" "},"",null,null,null,null,null,null,null,null,null,null,null,null,null,null,""]
[" ","",null,null,null,null,null,null,null,null,null,null,null,null,null,null,""]
[" ","",null,null,null,null,null,null,null,null,null,null,null,null,null,null,""]
[" ","",null,null,null,null,null,null,null,null,null,null,null,null,null,null,""]
[" ","",null,null,null,null,null,null,null,null,null,null,null,null,null,null,""]
[" ","",null,null,null,null,null,null,null,null,null,null,null,null,null,null,""]
[" ","",null,null,null,null,null,null,null,null,null,null,null,null,null,null,""]
[" ","",null,null,null,null,null,null,null,null,null,null,null,null,null,null,""]
[" ","",null,null,null,null,null,null,null,null,null,null,null,null,null,null,""]
[" ","",null,null,null,null,null,null,null,null,null,null,null,null,null,null,""]
[" ","",null,null,null,null,null,null,null,null,null,null,null,null,null,null,""]
[" ","",null,null,null,null,null,null,null,null,null,null,null,null,null,null,""]
[" ","",null,null,null,null,null,null,null,null,null,null,null,null,null,null,""]
[" ","",null,null,null,null,null,null,null,null,null,null,null,null,null,null,""]
[" ","",null,null,null,null,null,null,null,null,null,null,null,null,null,null,""]
[" ","",null,null,null,null,null,null,null,null,null,null,null,null,null,null,""]
[" ","",null,null,null,null,null,null,null,null,null,null,null,null,null,null,""]
[" ","",null,null,null,null,null,null,null,null,null,null,null,null,null,null,""]
[" ","",null,null,null,null,null,null,null,null,null,null,null,null,null,null,""]
[" ","",null,null,null,null,null,null,null,null,null,null,null,null,null,null,""]
[" ","",null,null,null,null,null,null,null,null,null,null,null,null,null,null,""]
[" ","",null,null,null,null,null,null,null,null,null,null,null,null,null,null,""]
[" ","",null,null,null,null,null,null,null,null,null,null,null,null,null,null,""]
[" ","",null,null,null,null,null,null,null,null,null,null,null,null,null,null,""]
[" ","",null,null,null,null,null,null,null,null,null,null,null,null,null,null,""]
[" ","",null,null,null,null,null,null,null,null,null,null,null,null,null,null,""]
[" ","",null,null,null,null,null,null,null,null,null,null,null,null,null,null,""]
[" ","",null,null,null,null,null,null,null,null,null,null,null,null,null,null,""]
[" ","",null,null,null,null,null,null,null,null,null,null,null,null,null,null,""]
[" ","",null,null,null,null,null,null,null,null,null,null,null,null,null,null,""]
[" ","",null,null,null,null,null,null,null,null,null,null,null,null,null,null,""]
[" ","",null,null,null,null,null,null,null,null,null,null,null,null,null,null,""]
[" ","",null,null,null,null,null,null,null,null,null,null,null,null,null,null,""]
[" ","",null,null,null,null,null,null,null,null,null,null,null,null,null,null,""]
[" ","",null,null,null,null,null,null,null,null,null,null,null,null,null,null,""]
[" ","",null,null,null,null,null,null,null,null,null,null,null,null,null,null,""]
[" ","",null,null,null,null,null,null,null,null,null,null,null,null,null,null,""]
[" ","",null,null,null,null,null,null,null,null,null,null,null,null,null,null,""]
[" ","",null,null,null,null,null,null,null,null,null,null,null,null,null,null,""]
[" ","",null,null,null,null,null,null,null,null,null,null,null,null,null,null,""]
[" ","",null,null,null,null,null,null,null,null,null,null,null,null,null,null,""]
[" ","",null,null,null,null,null,null,null,null,null,null,null,null,null,null,""]
[" ","",null,null,null,null,null,null,null,null,null,null,null,null,null,null,""]
[" ","",null,null,null,null,null,null,null,null,null,null,null,null,null,null,""]
[" ","",null,null,null,null,null,null,null,null,null,null,null,null,null,null,""]
[" ","",null,null,null,null,null,null,null,null,null,null,null,null,null,null,""]
[" ","",null,null,null,null,null,null,null,null,null,null,null,null,null,null,""]
[" ","",null,null,null,null,null,null,null,null,null,null,null,null,null,null,""]
[" ","",null,null,null,null,null,null,null,null,null,null,null,null,null,null,""]
[" ","",null,null,null,null,null,null,null,null,null,null,null,null,null,null,""]
[" ","",null,null,null,null,null,null,null,null,null,null,null,null,null,null,""]
[" ","",null,null,null,null,null,null,null,null,null,null,null,null,null,null,""]
[" ","",null,null,null,null,null,null,null,null,null,null,null,null,null,null,""]
[" ","",null,null,null,null,null,null,null,null,null,null,null,null,null,null,""]
[" ","",null,null,null,null,null,null,null,null,null,null,null,null,null,null,""]
[" ","",null,null,null,null,null,null,null,null,null,null,null,null,null,null,""]
[" ","",null,null,null,null,null,null,null,null,null,null,null,null,null,null,""]
[" ","",null,null,null,null,null,null,null,null,null,null,null,null,null,null,""]
[" ","",null,null,null,null,null,null,null,null,null,null,null,null,null,null,""]
[" ","",null,null,null,null,null,null,null,null,null,null,null,null,null,null,""]
[" ","",null,null,null,null,null,null,null,null,null,null,null,null,null,null,""]
[" ","",null,null,null,null,null,null,null,null,null,null,null,null,null,null,""]
[" ","",null,null,null,null,null,null,null,null,null,null,null,null,null,null,""]
[" ","",null,null,null,null,null,null,null,null,null,null,null,null,null,null,{"$f":"B401&C401&D401&E401&F401&G401&H401&I401&J401&K401&L401&N401","v":""}]
[{"$f":"IF(Q402=\"\",\" \",A401+1)","v":" "},"",null,null,null,null,null,null,null,null,null,null,null,null,null,null,""]
[" ","",null,null,null,null,null,null,null,null,null,null,null,null,null,null,""]
[" ","",null,null,null,null,null,null,null,null,null,null,null,null,null,null,""]
[" ","",null,null,null,null,null,null,null,null,null,null,null,null,null,null,""]
[" ","",null,null,null,null,null,null,null,null,null,null,null,null,null,null,""]
[" ","",null,null,null,null,null,null,null,null,null,null,null,null,null,null,""]
[" ","",null,null,null,null,null,null,null,null,null,null,null,null,null,null,""]
[" ","",null,null,null,null,null,null,null,null,null,null,null,null,null,null,""]
[" ","",null,null,null,null,null,null,null,null,null,null,null,null,null,null,""]
[" ","",null,null,null,null,null,null,null,null,null,null,null,null,null,null,""]
[" ","",null,null,null,null,null,null,null,null,null,null,null,null,null,null,""]
[" ","",null,null,null,null,null,null,null,null,null,null,null,null,null,null,""]
[" ","",null,null,null,null,null,null,null,null,null,null,null,null,null,null,""]
[" ","",null,null,null,null,null,null,null,null,null,null,null,null,null,null,""]
[" ","",null,null,null,null,null,null,null,null,null,null,null,null,null,null,""]
[" ","",null,null,null,null,null,null,null,null,null,null,null,null,null,null,""]
[" ","",null,null,null,null,null,null,null,null,null,null,null,null,null,null,""]
[" ","",null,null,null,null,null,null,null,null,null,null,null,null,null,null,""]
[" ","",null,null,null,null,null,null,null,null,null,null,null,null,null,null,""]
[" ","",null,null,null,null,null,null,null,null,null,null,null,null,null,null,""]
[" ","",null,null,null,null,null,null,null,null,null,null,null,null,null,null,""]
[" ","",null,null,null,null,null,null,null,null,null,null,null,null,null,null,""]
[" ","",null,null,null,null,null,null,null,null,null,null,null,null,null,null,""]
[" ","",null,null,null,null,null,null,null,null,null,null,null,null,null,null,""]
[" ","",null,null,null,null,null,null,null,null,null,null,null,null,null,null,""]
[" ","",null,null,null,null,null,null,null,null,null,null,null,null,null,null,""]
[" ","",null,null,null,null,null,null,null,null,null,null,null,null,null,null,""]
[" ","",null,null,null,null,null,null,null,null,null,null,null,null,null,null,""]
[" ","",null,null,null,null,null,null,null,null,null,null,null,null,null,null,""]
[" ","",null,null,null,null,null,null,null,null,null,null,null,null,null,null,""]
[" ","",null,null,null,null,null,null,null,null,null,null,null,null,null,null,""]
[" ","",null,null,null,null,null,null,null,null,null,null,null,null,null,null,""]
[" ","",null,null,null,null,null,null,null,null,null,null,null,null,null,null,""]
[" ","",null,null,null,null,null,null,null,null,null,null,null,null,null,null,""]
[" ","",null,null,null,null,null,null,null,null,null,null,null,null,null,null,""]
[" ","",null,null,null,null,null,null,null,null,null,null,null,null,null,null,""]
[" ","",null,null,null,null,null,null,null,null,null,null,null,null,null,null,""]
[" ","",null,null,null,null,null,null,null,null,null,null,null,null,null,null,""]
[" ","",null,null,null,null,null,null,null,null,null,null,null,null,null,null,""]
[" ","",null,null,null,null,null,null,null,null,null,null,null,null,null,null,""]
[" ","",null,null,null,null,null,null,null,null,null,null,null,null,null,null,""]
[" ","",null,null,null,null,null,null,null,null,null,null,null,null,null,null,""]
[" ","",null,null,null,null,null,null,null,null,null,null,null,null,null,null,""]
[" ","",null,null,null,null,null,null,null,null,null,null,null,null,null,null,""]
[" ","",null,null,null,null,null,null,null,null,null,null,null,null,null,null,""]
[" ","",null,null,null,null,null,null,null,null,null,null,null,null,null,null,""]
[" ","",null,null,null,null,null,null,null,null,null,null,null,null,null,null,""]
[" ","",null,null,null,null,null,null,null,null,null,null,null,null,null,null,""]
[" ","",null,null,null,null,null,null,null,null,null,null,null,null,null,null,""]
[" ","",null,null,null,null,null,null,null,null,null,null,null,null,null,null,""]
[" ","",null,null,null,null,null,null,null,null,null,null,null,null,null,null,""]
[" ","",null,null,null,null,null,null,null,null,null,null,null,null,null,null,""]
[" ","",null,null,null,null,null,null,null,null,null,null,null,null,null,null,""]
[" ","",null,null,null,null,null,null,null,null,null,null,null,null,null,null,""]
[" ","",null,null,null,null,null,null,null,null,null,null,null,null,null,null,""]
[" ","",null,null,null,null,null,null,null,null,null,null,null,null,null,null,""]
[" ","",null,null,null,null,null,null,null,null,null,null,null,null,null,null,""]
[" ","",null,null,null,null,null,null,null,null,null,null,null,null,null,null,""]
[" ","",null,null,null,null,null,null,null,null,null,null,null,null,null,null,""]
[" ","",null,null,null,null,null,null,null,null,null,null,null,null,null,null,""]
[" ","",null,null,null,null,null,null,null,null,null,null,null,null,null,null,""]
[" ","",null,null,null,null,null,null,null,null,null,null,null,null,null,null,""]
[" ","",null,null,null,null,null,null,null,null,null,null,null,null,null,null,""]
[" ","",null,null,null,null,null,null,null,null,null,null,null,null,null,null,{"$f":"B465&C465&D465&E465&F465&G465&H465&I465&J465&K465&L465&N465","v":""}]
[{"$f":"IF(Q466=\"\",\" \",A465+1)","v":" "},"",null,null,null,null,null,null,null,null,null,null,null,null,null,null,""]
[" ","",null,null,null,null,null,null,null,null,null,null,null,null,null,null,""]
[" ","",null,null,null,null,null,null,null,null,null,null,null,null,null,null,""]
[" ","",null,null,null,null,null,null,null,null,null,null,null,null,null,null,""]
[" ","",null,null,null,null,null,null,null,null,null,null,null,null,null,null,""]
[" ","",null,null,null,null,null,null,null,null,null,null,null,null,null,null,""]
[" ","",null,null,null,null,null,null,null,null,null,null,null,null,null,null,""]
[" ","",null,null,null,null,null,null,null,null,null,null,null,null,null,null,""]
[" ","",null,null,null,null,null,null,null,null,null,null,null,null,null,null,""]
[" ","",null,null,null,null,null,null,null,null,null,null,null,null,null,null,""]
[" ","",null,null,null,null,null,null,null,null,null,null,null,null,null,null,""]
[" ","",null,null,null,null,null,null,null,null,null,null,null,null,null,null,""]
[" ","",null,null,null,null,null,null,null,null,null,null,null,null,null,null,""]
[" ","",null,null,null,null,null,null,null,null,null,null,null,null,null,null,""]
[" ","",null,null,null,null,null,null,null,null,null,null,null,null,null,null,""]
[" ","",null,null,null,null,null,null,null,null,null,null,null,null,null,null,""]
[" ","",null,null,null,null,null,null,null,null,null,null,null,null,null,null,""]
[" ","",null,null,null,null,null,null,null,null,null,null,null,null,null,null,""]
[" ","",null,null,null,null,null,null,null,null,null,null,null,null,null,null,""]
[" ","",null,null,null,null,null,null,null,null,null,null,null,null,null,null,""]
[" ","",null,null,null,null,null,null,null,null,null,null,null,null,null,null,""]
[" ","",null,null,null,null,null,null,null,null,null,null,null,null,null,null,""]
[" ","",null,null,null,null,null,null,null,null,null,null,null,null,null,null,""]
[" ","",null,null,null,null,null,null,null,null,null,null,null,null,null,null,""]
[" ","",null,null,null,null,null,null,null,null,null,null,null,null,null,null,""]
[" ","",null,null,null,null,null,null,null,null,null,null,null,null,null,null,""]
[" ","",null,null,null,null,null,null,null,null,null,null,null,null,null,null,""]
[" ","",null,null,null,null,null,null,null,null,null,null,null,null,null,null,""]
[" ","",null,null,null,null,null,null,null,null,null,null,null,null,null,null,""]
[" ","",null,null,null,null,null,null,null,null,null,null,null,null,null,null,""]
[" ","",null,null,null,null,null,null,null,null,null,null,null,null,null,null,""]
[" ","",null,null,null,null,null,null,null,null,null,null,null,null,null,null,""]
[" ","",null,null,null,null,null,null,null,null,null,null,null,null,null,null,""]
[" ","",null,null,null,null,null,null,null,null,null,null,null,null,null,null,""]
[" ","",null,null,null,null,null,null,null,null,null,null,null,null,null,null,""]
[" ","",null,null,null,null,null,null,null,null,null,null,null,null,null,null,""]
[" ","",null,null,null,null,null,null,null,null,null,null,null,null,null,null,""]
[" ","",null,null,null,null,null,null,null,null,null,null,null,null,null,null,""]
[" ","",null,null,null,null,null,null,null,null,null,null,null,null,null,null,""]
[" ","",null,null,null,null,null,null,null,null,null,null,null,null,null,null,""]
[" ","",null,null,null,null,null,null,null,null,null,null,null,null,null,null,""]
[" ","",null,null,null,null,null,null,null,null,null,null,null,null,null,null,""]
[" ","",null,null,null,null,null,null,null,null,null,null,null,null,null,null,""]
[" ","",null,null,null,null,null,null,null,null,null,null,null,null,null,null,""]
[" ","",null,null,null,null,null,null,null,null,null,null,null,null,null,null,""]
[" ","",null,null,null,null,null,null,null,null,null,null,null,null,null,null,""]
[" ","",null,null,null,null,null,null,null,null,null,null,null,null,null,null,""]
[" ","",null,null,null,null,null,null,null,null,null,null,null,null,null,null,""]
[" ","",null,null,null,null,null,null,null,null,null,null,null,null,null,null,""]
[" ","",null,null,null,null,null,null,null,null,null,null,null,null,null,null,""]
[null,"","",null,"","","","","",null,"","",null,"","",""]

{"sheet":"Instructions","index":2,"n_rows":54,"n_cols":7,"rows_kept":54,"cut":false,"hidden":false,"merged":[]}
["JOURNAL ENTRY FORM INSTRUCTIONS FOR DECENTRAL USERS"]
[]
["The Journal Entry Form is to be used to record financial information in PeopleSoft applicable to your department.  Use it for:"]
["·         Revenue/Expense Corrections/Adjustments/Accruals"]
["·         Cross Campus Transactions"]
[]
["Do not use this form to correct Accounts Payable and Payroll Expenses. "]
[]
["When completed, forward the Journal Entry via email to:",null,null,null,null,null,"UMSOJournalEntry@umassp.edu"]
[]
[]
["FORM FIELD INSTRUCTIONS"]
[]
["This form is used by Controller's Office as the means for directly uploading department prepared entries into PeopleSoft.   "]
["Certain fields are restricted for Controller's Office uses only.  Usually they are password protected to prevent department "]
["users from entering unformatted information.  Certain fields require input from department users.  They are listed per below:"]
[]
[]
["Header Description:   This 30 character field is used to identify the journal entry.  Enter a description of what the entry is for."]
[]
["Business Unit/Journal Line:  For most users this will be UMCEN.  If you need to use a business unit other than UMCEN, "]
["be aware that the speed type will not be automatically translated and therefore all the applicable chartfields need to be entered manually."]
[]
["Account:  The account is a six digit number that classifies balance sheet, revenue and expense items on financial transactions  ."]
["The account is not part of a speed type and therefore must be entered"]
[]
["Speed Chart (Speed Type):  This is a six digit alias code for a combination of ChartFields.  The form is web-linked to Chartfield Lookup.  "]
["Upon entry of a valid speed type, you will see the fields of Fund, DeptID, Program, Class and Project/Grant (if applicable) automatically"]
[" populated.  In case of invalid speed types, all those fields will be populated by question marks.  You must resolve them before submitting   "]
["the journal entry.  Using speed types is an option, however, not a requirement.  If no speed type is entered, all applicable chartfields "]
["must be completed manually."]
[]
["Fund:  The five digit fund identifies an independent fiscal and accounting entity.  It generally represents a pool of financial resources "]
["must be completed manually."]
[]
["DeptID:  This is the 10 character alphanumeric field that defines a specific department within the University.  It generally represents "]
["a permanent on-going activity."]
[]
["Program:  This is a 3 character alphanumeric field used to group related activities for financial or reporting purposes.  "]
["It is used only for expense (7xxxxx) or transfer-out (5xxxxx) transactions."]
[]
["Project/Grant:  This is a 15 character alphanumeric field used to track activity for individual projects and grants.  "]
[]
["Monetary Amount: Enter the dollar amount for the transaction line.  The amount entered will be either a positive (debit) or negative ."]
["(credit) number.  A debit will lead to deduction to fund balance whereas a credit to addition. "]
[" The totals of debits and credits of the whole journal entry must zero out"]
[]
["Line Description:  This is a maximum 30 character description field for stating the purpose of the line data entered.  "]
["For many of you the line description field is a key source of information derived from the monthly departmental  "]
["reports so clear and concise entry is critical.  For recharge entries the line description should be the same "]
["as header description."]
[]
["Line Ref:  Use this 10 character field to provide further clarification to a line of entry.  Examples of use include Journal IDs "]
["or invoice numbers."]

{"sheet":"Web Links","index":3,"n_rows":503,"n_cols":18,"rows_kept":503,"cut":false,"hidden":true,"merged":[]}
["Business Unit","Account Code","Fund","DeptID","Program","Project","Class",null,null,null,null,null,null,"Fund","Department","Program","Class","Project"]
[{"$f":"IF('GL Template'!B16<>\"\",'GL Template'!B16,0)","v":"UMLOW"},{"$f":"IF('GL Template'!D16<>\"\",'GL Template'!D16,0)","v":0},"Error",null,null,null,null,null,null,null,null,null,null,{"$f":"IF(OR(LEFT('Web Links'!$C2,2)=\"In\",$C2=\"Error\"),\"?????\",\"\"&C2)","v":"?????"},{"$f":"IF(OR(LEFT('Web Links'!$C2,2)=\"In\",$C2=\"Error\"),\"??????????\",\"\"&D2)","v":"??????????"},{"$f":"IF(OR(LEFT('Web Links'!$C2,2)=\"In\",$C2=\"Error\"),\"???\",IF(LEN(E2)=2,\"0\",IF(LEN(E2)=1,\"00\",\"\")))&'Web Links'!E2","v":"???"},{"$f":"IF(OR(LEFT('Web Links'!$C2,2)=\"In\",$C2=\"Error\"),\"?????\",IF(LEN(G2)=4,\"\",IF(LEN(G2)=3,\"\",IF(LEN(G2)=2,\"\",IF(LEN(G2)=1,\"\",\"\"))))&'Web Links'!G2)","v":"?????"},{"$f":"IF(OR(LEFT('Web Links'!$C2,2)=\"In\",$C2=\"Error\"),\"???????????????\",\"\"&F2)","v":"???????????????"}]
[{"$f":"IF('GL Template'!B17<>\"\",'GL Template'!B17,0)","v":0},{"$f":"IF('GL Template'!D17<>\"\",'GL Template'!D17,0)","v":0},"Error",null,null,null,null,null,null,null,null,null,null,{"$f":"IF(OR(LEFT('Web Links'!$C3,2)=\"In\",$C3=\"Error\"),\"?????\",\"\"&C3)","v":"?????"},{"$f":"IF(OR(LEFT('Web Links'!$C3,2)=\"In\",$C3=\"Error\"),\"??????????\",\"\"&D3)","v":"??????????"},{"$f":"IF(OR(LEFT('Web Links'!$C3,2)=\"In\",$C3=\"Error\"),\"???\",IF(LEN(E3)=2,\"0\",IF(LEN(E3)=1,\"00\",\"\")))&'Web Links'!E3","v":"???"},{"$f":"IF(OR(LEFT('Web Links'!$C3,2)=\"In\",$C3=\"Error\"),\"?????\",IF(LEN(G3)=4,\"\",IF(LEN(G3)=3,\"\",IF(LEN(G3)=2,\"\",IF(LEN(G3)=1,\"\",\"\"))))&'Web Links'!G3)","v":"?????"},{"$f":"IF(OR(LEFT('Web Links'!$C3,2)=\"In\",$C3=\"Error\"),\"???????????????\",\"\"&F3)","v":"???????????????"}]
[{"$f":"IF('GL Template'!B18<>\"\",'GL Template'!B18,0)","v":0},{"$f":"IF('GL Template'!D18<>\"\",'GL Template'!D18,0)","v":0},"Error",null,null,null,null,null,null,null,null,null,null,{"$f":"IF(OR(LEFT('Web Links'!$C4,2)=\"In\",$C4=\"Error\"),\"?????\",\"\"&C4)","v":"?????"},{"$f":"IF(OR(LEFT('Web Links'!$C4,2)=\"In\",$C4=\"Error\"),\"??????????\",\"\"&D4)","v":"??????????"},{"$f":"IF(OR(LEFT('Web Links'!$C4,2)=\"In\",$C4=\"Error\"),\"???\",IF(LEN(E4)=2,\"0\",IF(LEN(E4)=1,\"00\",\"\")))&'Web Links'!E4","v":"???"},{"$f":"IF(OR(LEFT('Web Links'!$C4,2)=\"In\",$C4=\"Error\"),\"?????\",IF(LEN(G4)=4,\"\",IF(LEN(G4)=3,\"\",IF(LEN(G4)=2,\"\",IF(LEN(G4)=1,\"\",\"\"))))&'Web Links'!G4)","v":"?????"},{"$f":"IF(OR(LEFT('Web Links'!$C4,2)=\"In\",$C4=\"Error\"),\"???????????????\",\"\"&F4)","v":"???????????????"}]
[{"$f":"IF('GL Template'!B19<>\"\",'GL Template'!B19,0)","v":0},{"$f":"IF('GL Template'!D19<>\"\",'GL Template'!D19,0)","v":0},"Error",null,null,null,null,null,null,null,null,null,null,{"$f":"IF(OR(LEFT('Web Links'!$C5,2)=\"In\",$C5=\"Error\"),\"?????\",\"\"&C5)","v":"?????"},{"$f":"IF(OR(LEFT('Web Links'!$C5,2)=\"In\",$C5=\"Error\"),\"??????????\",\"\"&D5)","v":"??????????"},{"$f":"IF(OR(LEFT('Web Links'!$C5,2)=\"In\",$C5=\"Error\"),\"???\",IF(LEN(E5)=2,\"0\",IF(LEN(E5)=1,\"00\",\"\")))&'Web Links'!E5","v":"???"},{"$f":"IF(OR(LEFT('Web Links'!$C5,2)=\"In\",$C5=\"Error\"),\"?????\",IF(LEN(G5)=4,\"\",IF(LEN(G5)=3,\"\",IF(LEN(G5)=2,\"\",IF(LEN(G5)=1,\"\",\"\"))))&'Web Links'!G5)","v":"?????"},{"$f":"IF(OR(LEFT('Web Links'!$C5,2)=\"In\",$C5=\"Error\"),\"???????????????\",\"\"&F5)","v":"???????????????"}]
[{"$f":"IF('GL Template'!B20<>\"\",'GL Template'!B20,0)","v":0},{"$f":"IF('GL Template'!D20<>\"\",'GL Template'!D20,0)","v":0},"Error",null,null,null,null,null,null,null,null,null,null,{"$f":"IF(OR(LEFT('Web Links'!$C6,2)=\"In\",$C6=\"Error\"),\"?????\",\"\"&C6)","v":"?????"},{"$f":"IF(OR(LEFT('Web Links'!$C6,2)=\"In\",$C6=\"Error\"),\"??????????\",\"\"&D6)","v":"??????????"},{"$f":"IF(OR(LEFT('Web Links'!$C6,2)=\"In\",$C6=\"Error\"),\"???\",IF(LEN(E6)=2,\"0\",IF(LEN(E6)=1,\"00\",\"\")))&'Web Links'!E6","v":"???"},{"$f":"IF(OR(LEFT('Web Links'!$C6,2)=\"In\",$C6=\"Error\"),\"?????\",IF(LEN(G6)=4,\"\",IF(LEN(G6)=3,\"\",IF(LEN(G6)=2,\"\",IF(LEN(G6)=1,\"\",\"\"))))&'Web Links'!G6)","v":"?????"},{"$f":"IF(OR(LEFT('Web Links'!$C6,2)=\"In\",$C6=\"Error\"),\"???????????????\",\"\"&F6)","v":"???????????????"}]
[{"$f":"IF('GL Template'!B21<>\"\",'GL Template'!B21,0)","v":0},{"$f":"IF('GL Template'!D21<>\"\",'GL Template'!D21,0)","v":0},"Error",null,null,null,null,null,null,null,null,null,null,{"$f":"IF(OR(LEFT('Web Links'!$C7,2)=\"In\",$C7=\"Error\"),\"?????\",\"\"&C7)","v":"?????"},{"$f":"IF(OR(LEFT('Web Links'!$C7,2)=\"In\",$C7=\"Error\"),\"??????????\",\"\"&D7)","v":"??????????"},{"$f":"IF(OR(LEFT('Web Links'!$C7,2)=\"In\",$C7=\"Error\"),\"???\",IF(LEN(E7)=2,\"0\",IF(LEN(E7)=1,\"00\",\"\")))&'Web Links'!E7","v":"???"},{"$f":"IF(OR(LEFT('Web Links'!$C7,2)=\"In\",$C7=\"Error\"),\"?????\",IF(LEN(G7)=4,\"\",IF(LEN(G7)=3,\"\",IF(LEN(G7)=2,\"\",IF(LEN(G7)=1,\"\",\"\"))))&'Web Links'!G7)","v":"?????"},{"$f":"IF(OR(LEFT('Web Links'!$C7,2)=\"In\",$C7=\"Error\"),\"???????????????\",\"\"&F7)","v":"???????????????"}]
[{"$f":"IF('GL Template'!B22<>\"\",'GL Template'!B22,0)","v":0},{"$f":"IF('GL Template'!D22<>\"\",'GL Template'!D22,0)","v":0},"Error",null,null,null,null,null,null,null,null,null,null,{"$f":"IF(OR(LEFT('Web Links'!$C8,2)=\"In\",$C8=\"Error\"),\"?????\",\"\"&C8)","v":"?????"},{"$f":"IF(OR(LEFT('Web Links'!$C8,2)=\"In\",$C8=\"Error\"),\"??????????\",\"\"&D8)","v":"??????????"},{"$f":"IF(OR(LEFT('Web Links'!$C8,2)=\"In\",$C8=\"Error\"),\"???\",IF(LEN(E8)=2,\"0\",IF(LEN(E8)=1,\"00\",\"\")))&'Web Links'!E8","v":"???"},{"$f":"IF(OR(LEFT('Web Links'!$C8,2)=\"In\",$C8=\"Error\"),\"?????\",IF(LEN(G8)=4,\"\",IF(LEN(G8)=3,\"\",IF(LEN(G8)=2,\"\",IF(LEN(G8)=1,\"\",\"\"))))&'Web Links'!G8)","v":"?????"},{"$f":"IF(OR(LEFT('Web Links'!$C8,2)=\"In\",$C8=\"Error\"),\"???????????????\",\"\"&F8)","v":"???????????????"}]
[{"$f":"IF('GL Template'!B23<>\"\",'GL Template'!B23,0)","v":0},{"$f":"IF('GL Template'!D23<>\"\",'GL Template'!D23,0)","v":0},"Error",null,null,null,null,null,null,null,null,null,null,{"$f":"IF(OR(LEFT('Web Links'!$C9,2)=\"In\",$C9=\"Error\"),\"?????\",\"\"&C9)","v":"?????"},{"$f":"IF(OR(LEFT('Web Links'!$C9,2)=\"In\",$C9=\"Error\"),\"??????????\",\"\"&D9)","v":"??????????"},{"$f":"IF(OR(LEFT('Web Links'!$C9,2)=\"In\",$C9=\"Error\"),\"???\",IF(LEN(E9)=2,\"0\",IF(LEN(E9)=1,\"00\",\"\")))&'Web Links'!E9","v":"???"},{"$f":"IF(OR(LEFT('Web Links'!$C9,2)=\"In\",$C9=\"Error\"),\"?????\",IF(LEN(G9)=4,\"\",IF(LEN(G9)=3,\"\",IF(LEN(G9)=2,\"\",IF(LEN(G9)=1,\"\",\"\"))))&'Web Links'!G9)","v":"?????"},{"$f":"IF(OR(LEFT('Web Links'!$C9,2)=\"In\",$C9=\"Error\"),\"???????????????\",\"\"&F9)","v":"???????????????"}]
[{"$f":"IF('GL Template'!B24<>\"\",'GL Template'!B24,0)","v":0},{"$f":"IF('GL Template'!D24<>\"\",'GL Template'!D24,0)","v":0},"Error",null,null,null,null,null,null,null,null,null,null,{"$f":"IF(OR(LEFT('Web Links'!$C10,2)=\"In\",$C10=\"Error\"),\"?????\",\"\"&C10)","v":"?????"},{"$f":"IF(OR(LEFT('Web Links'!$C10,2)=\"In\",$C10=\"Error\"),\"??????????\",\"\"&D10)","v":"??????????"},{"$f":"IF(OR(LEFT('Web Links'!$C10,2)=\"In\",$C10=\"Error\"),\"???\",IF(LEN(E10)=2,\"0\",IF(LEN(E10)=1,\"00\",\"\")))&'Web Links'!E10","v":"???"},{"$f":"IF(OR(LEFT('Web Links'!$C10,2)=\"In\",$C10=\"Error\"),\"?????\",IF(LEN(G10)=4,\"\",IF(LEN(G10)=3,\"\",IF(LEN(G10)=2,\"\",IF(LEN(G10)=1,\"\",\"\"))))&'Web Links'!G10)","v":"?????"},{"$f":"IF(OR(LEFT('Web Links'!$C10,2)=\"In\",$C10=\"Error\"),\"???????????????\",\"\"&F10)","v":"???????????????"}]
[{"$f":"IF('GL Template'!B25<>\"\",'GL Template'!B25,0)","v":0},{"$f":"IF('GL Template'!D25<>\"\",'GL Template'!D25,0)","v":0},"Error",null,null,null,null,null,null,null,null,null,null,{"$f":"IF(OR(LEFT('Web Links'!$C11,2)=\"In\",$C11=\"Error\"),\"?????\",\"\"&C11)","v":"?????"},{"$f":"IF(OR(LEFT('Web Links'!$C11,2)=\"In\",$C11=\"Error\"),\"??????????\",\"\"&D11)","v":"??????????"},{"$f":"IF(OR(LEFT('Web Links'!$C11,2)=\"In\",$C11=\"Error\"),\"???\",IF(LEN(E11)=2,\"0\",IF(LEN(E11)=1,\"00\",\"\")))&'Web Links'!E11","v":"???"},{"$f":"IF(OR(LEFT('Web Links'!$C11,2)=\"In\",$C11=\"Error\"),\"?????\",IF(LEN(G11)=4,\"\",IF(LEN(G11)=3,\"\",IF(LEN(G11)=2,\"\",IF(LEN(G11)=1,\"\",\"\"))))&'Web Links'!G11)","v":"?????"},{"$f":"IF(OR(LEFT('Web Links'!$C11,2)=\"In\",$C11=\"Error\"),\"???????????????\",\"\"&F11)","v":"???????????????"}]
[{"$f":"IF('GL Template'!B26<>\"\",'GL Template'!B26,0)","v":0},{"$f":"IF('GL Template'!D26<>\"\",'GL Template'!D26,0)","v":0},"Error",null,null,null,null,null,null,null,null,null,null,{"$f":"IF(OR(LEFT('Web Links'!$C12,2)=\"In\",$C12=\"Error\"),\"?????\",\"\"&C12)","v":"?????"},{"$f":"IF(OR(LEFT('Web Links'!$C12,2)=\"In\",$C12=\"Error\"),\"??????????\",\"\"&D12)","v":"??????????"},{"$f":"IF(OR(LEFT('Web Links'!$C12,2)=\"In\",$C12=\"Error\"),\"???\",IF(LEN(E12)=2,\"0\",IF(LEN(E12)=1,\"00\",\"\")))&'Web Links'!E12","v":"???"},{"$f":"IF(OR(LEFT('Web Links'!$C12,2)=\"In\",$C12=\"Error\"),\"?????\",IF(LEN(G12)=4,\"\",IF(LEN(G12)=3,\"\",IF(LEN(G12)=2,\"\",IF(LEN(G12)=1,\"\",\"\"))))&'Web Links'!G12)","v":"?????"},{"$f":"IF(OR(LEFT('Web Links'!$C12,2)=\"In\",$C12=\"Error\"),\"???????????????\",\"\"&F12)","v":"???????????????"}]
[{"$f":"IF('GL Template'!B27<>\"\",'GL Template'!B27,0)","v":0},{"$f":"IF('GL Template'!D27<>\"\",'GL Template'!D27,0)","v":0},"Error",null,null,null,null,null,null,null,null,null,null,{"$f":"IF(OR(LEFT('Web Links'!$C13,2)=\"In\",$C13=\"Error\"),\"?????\",\"\"&C13)","v":"?????"},{"$f":"IF(OR(LEFT('Web Links'!$C13,2)=\"In\",$C13=\"Error\"),\"??????????\",\"\"&D13)","v":"??????????"},{"$f":"IF(OR(LEFT('Web Links'!$C13,2)=\"In\",$C13=\"Error\"),\"???\",IF(LEN(E13)=2,\"0\",IF(LEN(E13)=1,\"00\",\"\")))&'Web Links'!E13","v":"???"},{"$f":"IF(OR(LEFT('Web Links'!$C13,2)=\"In\",$C13=\"Error\"),\"?????\",IF(LEN(G13)=4,\"\",IF(LEN(G13)=3,\"\",IF(LEN(G13)=2,\"\",IF(LEN(G13)=1,\"\",\"\"))))&'Web Links'!G13)","v":"?????"},{"$f":"IF(OR(LEFT('Web Links'!$C13,2)=\"In\",$C13=\"Error\"),\"???????????????\",\"\"&F13)","v":"???????????????"}]
[{"$f":"IF('GL Template'!B28<>\"\",'GL Template'!B28,0)","v":0},{"$f":"IF('GL Template'!D28<>\"\",'GL Template'!D28,0)","v":0},"Error",null,null,null,null,null,null,null,null,null,null,{"$f":"IF(OR(LEFT('Web Links'!$C14,2)=\"In\",$C14=\"Error\"),\"?????\",\"\"&C14)","v":"?????"},{"$f":"IF(OR(LEFT('Web Links'!$C14,2)=\"In\",$C14=\"Error\"),\"??????????\",\"\"&D14)","v":"??????????"},{"$f":"IF(OR(LEFT('Web Links'!$C14,2)=\"In\",$C14=\"Error\"),\"???\",IF(LEN(E14)=2,\"0\",IF(LEN(E14)=1,\"00\",\"\")))&'Web Links'!E14","v":"???"},{"$f":"IF(OR(LEFT('Web Links'!$C14,2)=\"In\",$C14=\"Error\"),\"?????\",IF(LEN(G14)=4,\"\",IF(LEN(G14)=3,\"\",IF(LEN(G14)=2,\"\",IF(LEN(G14)=1,\"\",\"\"))))&'Web Links'!G14)","v":"?????"},{"$f":"IF(OR(LEFT('Web Links'!$C14,2)=\"In\",$C14=\"Error\"),\"???????????????\",\"\"&F14)","v":"???????????????"}]
[{"$f":"IF('GL Template'!B29<>\"\",'GL Template'!B29,0)","v":0},{"$f":"IF('GL Template'!D29<>\"\",'GL Template'!D29,0)","v":0},"Error",null,null,null,null,null,null,null,null,null,null,{"$f":"IF(OR(LEFT('Web Links'!$C15,2)=\"In\",$C15=\"Error\"),\"?????\",\"\"&C15)","v":"?????"},{"$f":"IF(OR(LEFT('Web Links'!$C15,2)=\"In\",$C15=\"Error\"),\"??????????\",\"\"&D15)","v":"??????????"},{"$f":"IF(OR(LEFT('Web Links'!$C15,2)=\"In\",$C15=\"Error\"),\"???\",IF(LEN(E15)=2,\"0\",IF(LEN(E15)=1,\"00\",\"\")))&'Web Links'!E15","v":"???"},{"$f":"IF(OR(LEFT('Web Links'!$C15,2)=\"In\",$C15=\"Error\"),\"?????\",IF(LEN(G15)=4,\"\",IF(LEN(G15)=3,\"\",IF(LEN(G15)=2,\"\",IF(LEN(G15)=1,\"\",\"\"))))&'Web Links'!G15)","v":"?????"},{"$f":"IF(OR(LEFT('Web Links'!$C15,2)=\"In\",$C15=\"Error\"),\"???????????????\",\"\"&F15)","v":"???????????????"}]
[{"$f":"IF('GL Template'!B30<>\"\",'GL Template'!B30,0)","v":0},{"$f":"IF('GL Template'!D30<>\"\",'GL Template'!D30,0)","v":0},"Error",null,null,null,null,null,null,null,null,null,null,{"$f":"IF(OR(LEFT('Web Links'!$C16,2)=\"In\",$C16=\"Error\"),\"?????\",\"\"&C16)","v":"?????"},{"$f":"IF(OR(LEFT('Web Links'!$C16,2)=\"In\",$C16=\"Error\"),\"??????????\",\"\"&D16)","v":"??????????"},{"$f":"IF(OR(LEFT('Web Links'!$C16,2)=\"In\",$C16=\"Error\"),\"???\",IF(LEN(E16)=2,\"0\",IF(LEN(E16)=1,\"00\",\"\")))&'Web Links'!E16","v":"???"},{"$f":"IF(OR(LEFT('Web Links'!$C16,2)=\"In\",$C16=\"Error\"),\"?????\",IF(LEN(G16)=4,\"\",IF(LEN(G16)=3,\"\",IF(LEN(G16)=2,\"\",IF(LEN(G16)=1,\"\",\"\"))))&'Web Links'!G16)","v":"?????"},{"$f":"IF(OR(LEFT('Web Links'!$C16,2)=\"In\",$C16=\"Error\"),\"???????????????\",\"\"&F16)","v":"???????????????"}]
[{"$f":"IF('GL Template'!B31<>\"\",'GL Template'!B31,0)","v":0},{"$f":"IF('GL Template'!D31<>\"\",'GL Template'!D31,0)","v":0},"Error",null,null,null,null,null,null,null,null,null,null,{"$f":"IF(OR(LEFT('Web Links'!$C17,2)=\"In\",$C17=\"Error\"),\"?????\",\"\"&C17)","v":"?????"},{"$f":"IF(OR(LEFT('Web Links'!$C17,2)=\"In\",$C17=\"Error\"),\"??????????\",\"\"&D17)","v":"??????????"},{"$f":"IF(OR(LEFT('Web Links'!$C17,2)=\"In\",$C17=\"Error\"),\"???\",IF(LEN(E17)=2,\"0\",IF(LEN(E17)=1,\"00\",\"\")))&'Web Links'!E17","v":"???"},{"$f":"IF(OR(LEFT('Web Links'!$C17,2)=\"In\",$C17=\"Error\"),\"?????\",IF(LEN(G17)=4,\"\",IF(LEN(G17)=3,\"\",IF(LEN(G17)=2,\"\",IF(LEN(G17)=1,\"\",\"\"))))&'Web Links'!G17)","v":"?????"},{"$f":"IF(OR(LEFT('Web Links'!$C17,2)=\"In\",$C17=\"Error\"),\"???????????????\",\"\"&F17)","v":"???????????????"}]
[{"$f":"IF('GL Template'!B32<>\"\",'GL Template'!B32,0)","v":0},{"$f":"IF('GL Template'!D32<>\"\",'GL Template'!D32,0)","v":0},"Error",null,null,null,null,null,null,null,null,null,null,{"$f":"IF(OR(LEFT('Web Links'!$C18,2)=\"In\",$C18=\"Error\"),\"?????\",\"\"&C18)","v":"?????"},{"$f":"IF(OR(LEFT('Web Links'!$C18,2)=\"In\",$C18=\"Error\"),\"??????????\",\"\"&D18)","v":"??????????"},{"$f":"IF(OR(LEFT('Web Links'!$C18,2)=\"In\",$C18=\"Error\"),\"???\",IF(LEN(E18)=2,\"0\",IF(LEN(E18)=1,\"00\",\"\")))&'Web Links'!E18","v":"???"},{"$f":"IF(OR(LEFT('Web Links'!$C18,2)=\"In\",$C18=\"Error\"),\"?????\",IF(LEN(G18)=4,\"\",IF(LEN(G18)=3,\"\",IF(LEN(G18)=2,\"\",IF(LEN(G18)=1,\"\",\"\"))))&'Web Links'!G18)","v":"?????"},{"$f":"IF(OR(LEFT('Web Links'!$C18,2)=\"In\",$C18=\"Error\"),\"???????????????\",\"\"&F18)","v":"???????????????"}]
[{"$f":"IF('GL Template'!B33<>\"\",'GL Template'!B33,0)","v":0},{"$f":"IF('GL Template'!D33<>\"\",'GL Template'!D33,0)","v":0},"Error",null,null,null,null,null,null,null,null,null,null,{"$f":"IF(OR(LEFT('Web Links'!$C19,2)=\"In\",$C19=\"Error\"),\"?????\",\"\"&C19)","v":"?????"},{"$f":"IF(OR(LEFT('Web Links'!$C19,2)=\"In\",$C19=\"Error\"),\"??????????\",\"\"&D19)","v":"??????????"},{"$f":"IF(OR(LEFT('Web Links'!$C19,2)=\"In\",$C19=\"Error\"),\"???\",IF(LEN(E19)=2,\"0\",IF(LEN(E19)=1,\"00\",\"\")))&'Web Links'!E19","v":"???"},{"$f":"IF(OR(LEFT('Web Links'!$C19,2)=\"In\",$C19=\"Error\"),\"?????\",IF(LEN(G19)=4,\"\",IF(LEN(G19)=3,\"\",IF(LEN(G19)=2,\"\",IF(LEN(G19)=1,\"\",\"\"))))&'Web Links'!G19)","v":"?????"},{"$f":"IF(OR(LEFT('Web Links'!$C19,2)=\"In\",$C19=\"Error\"),\"???????????????\",\"\"&F19)","v":"???????????????"}]
[{"$f":"IF('GL Template'!B34<>\"\",'GL Template'!B34,0)","v":0},{"$f":"IF('GL Template'!D34<>\"\",'GL Template'!D34,0)","v":0},"Error",null,null,null,null,null,null,null,null,null,null,{"$f":"IF(OR(LEFT('Web Links'!$C20,2)=\"In\",$C20=\"Error\"),\"?????\",\"\"&C20)","v":"?????"},{"$f":"IF(OR(LEFT('Web Links'!$C20,2)=\"In\",$C20=\"Error\"),\"??????????\",\"\"&D20)","v":"??????????"},{"$f":"IF(OR(LEFT('Web Links'!$C20,2)=\"In\",$C20=\"Error\"),\"???\",IF(LEN(E20)=2,\"0\",IF(LEN(E20)=1,\"00\",\"\")))&'Web Links'!E20","v":"???"},{"$f":"IF(OR(LEFT('Web Links'!$C20,2)=\"In\",$C20=\"Error\"),\"?????\",IF(LEN(G20)=4,\"\",IF(LEN(G20)=3,\"\",IF(LEN(G20)=2,\"\",IF(LEN(G20)=1,\"\",\"\"))))&'Web Links'!G20)","v":"?????"},{"$f":"IF(OR(LEFT('Web Links'!$C20,2)=\"In\",$C20=\"Error\"),\"???????????????\",\"\"&F20)","v":"???????????????"}]
[{"$f":"IF('GL Template'!B35<>\"\",'GL Template'!B35,0)","v":0},{"$f":"IF('GL Template'!D35<>\"\",'GL Template'!D35,0)","v":0},"Error",null,null,null,null,null,null,null,null,null,null,{"$f":"IF(OR(LEFT('Web Links'!$C21,2)=\"In\",$C21=\"Error\"),\"?????\",\"\"&C21)","v":"?????"},{"$f":"IF(OR(LEFT('Web Links'!$C21,2)=\"In\",$C21=\"Error\"),\"??????????\",\"\"&D21)","v":"??????????"},{"$f":"IF(OR(LEFT('Web Links'!$C21,2)=\"In\",$C21=\"Error\"),\"???\",IF(LEN(E21)=2,\"0\",IF(LEN(E21)=1,\"00\",\"\")))&'Web Links'!E21","v":"???"},{"$f":"IF(OR(LEFT('Web Links'!$C21,2)=\"In\",$C21=\"Error\"),\"?????\",IF(LEN(G21)=4,\"\",IF(LEN(G21)=3,\"\",IF(LEN(G21)=2,\"\",IF(LEN(G21)=1,\"\",\"\"))))&'Web Links'!G21)","v":"?????"},{"$f":"IF(OR(LEFT('Web Links'!$C21,2)=\"In\",$C21=\"Error\"),\"???????????????\",\"\"&F21)","v":"???????????????"}]
[{"$f":"IF('GL Template'!B36<>\"\",'GL Template'!B36,0)","v":0},{"$f":"IF('GL Template'!D36<>\"\",'GL Template'!D36,0)","v":0},"Error",null,null,null,null,null,null,null,null,null,null,{"$f":"IF(OR(LEFT('Web Links'!$C22,2)=\"In\",$C22=\"Error\"),\"?????\",\"\"&C22)","v":"?????"},{"$f":"IF(OR(LEFT('Web Links'!$C22,2)=\"In\",$C22=\"Error\"),\"??????????\",\"\"&D22)","v":"??????????"},{"$f":"IF(OR(LEFT('Web Links'!$C22,2)=\"In\",$C22=\"Error\"),\"???\",IF(LEN(E22)=2,\"0\",IF(LEN(E22)=1,\"00\",\"\")))&'Web Links'!E22","v":"???"},{"$f":"IF(OR(LEFT('Web Links'!$C22,2)=\"In\",$C22=\"Error\"),\"?????\",IF(LEN(G22)=4,\"\",IF(LEN(G22)=3,\"\",IF(LEN(G22)=2,\"\",IF(LEN(G22)=1,\"\",\"\"))))&'Web Links'!G22)","v":"?????"},{"$f":"IF(OR(LEFT('Web Links'!$C22,2)=\"In\",$C22=\"Error\"),\"???????????????\",\"\"&F22)","v":"???????????????"}]
[{"$f":"IF('GL Template'!B37<>\"\",'GL Template'!B37,0)","v":0},{"$f":"IF('GL Template'!D37<>\"\",'GL Template'!D37,0)","v":0},"Error",null,null,null,null,null,null,null,null,null,null,{"$f":"IF(OR(LEFT('Web Links'!$C23,2)=\"In\",$C23=\"Error\"),\"?????\",\"\"&C23)","v":"?????"},{"$f":"IF(OR(LEFT('Web Links'!$C23,2)=\"In\",$C23=\"Error\"),\"??????????\",\"\"&D23)","v":"??????????"},{"$f":"IF(OR(LEFT('Web Links'!$C23,2)=\"In\",$C23=\"Error\"),\"???\",IF(LEN(E23)=2,\"0\",IF(LEN(E23)=1,\"00\",\"\")))&'Web Links'!E23","v":"???"},{"$f":"IF(OR(LEFT('Web Links'!$C23,2)=\"In\",$C23=\"Error\"),\"?????\",IF(LEN(G23)=4,\"\",IF(LEN(G23)=3,\"\",IF(LEN(G23)=2,\"\",IF(LEN(G23)=1,\"\",\"\"))))&'Web Links'!G23)","v":"?????"},{"$f":"IF(OR(LEFT('Web Links'!$C23,2)=\"In\",$C23=\"Error\"),\"???????????????\",\"\"&F23)","v":"???????????????"}]
[{"$f":"IF('GL Template'!B38<>\"\",'GL Template'!B38,0)","v":0},{"$f":"IF('GL Template'!D38<>\"\",'GL Template'!D38,0)","v":0},"Error",null,null,null,null,null,null,null,null,null,null,{"$f":"IF(OR(LEFT('Web Links'!$C24,2)=\"In\",$C24=\"Error\"),\"?????\",\"\"&C24)","v":"?????"},{"$f":"IF(OR(LEFT('Web Links'!$C24,2)=\"In\",$C24=\"Error\"),\"??????????\",\"\"&D24)","v":"??????????"},{"$f":"IF(OR(LEFT('Web Links'!$C24,2)=\"In\",$C24=\"Error\"),\"???\",IF(LEN(E24)=2,\"0\",IF(LEN(E24)=1,\"00\",\"\")))&'Web Links'!E24","v":"???"},{"$f":"IF(OR(LEFT('Web Links'!$C24,2)=\"In\",$C24=\"Error\"),\"?????\",IF(LEN(G24)=4,\"\",IF(LEN(G24)=3,\"\",IF(LEN(G24)=2,\"\",IF(LEN(G24)=1,\"\",\"\"))))&'Web Links'!G24)","v":"?????"},{"$f":"IF(OR(LEFT('Web Links'!$C24,2)=\"In\",$C24=\"Error\"),\"???????????????\",\"\"&F24)","v":"???????????????"}]
[{"$f":"IF('GL Template'!B39<>\"\",'GL Template'!B39,0)","v":0},{"$f":"IF('GL Template'!D39<>\"\",'GL Template'!D39,0)","v":0},"Error",null,null,null,null,null,null,null,null,null,null,{"$f":"IF(OR(LEFT('Web Links'!$C25,2)=\"In\",$C25=\"Error\"),\"?????\",\"\"&C25)","v":"?????"},{"$f":"IF(OR(LEFT('Web Links'!$C25,2)=\"In\",$C25=\"Error\"),\"??????????\",\"\"&D25)","v":"??????????"},{"$f":"IF(OR(LEFT('Web Links'!$C25,2)=\"In\",$C25=\"Error\"),\"???\",IF(LEN(E25)=2,\"0\",IF(LEN(E25)=1,\"00\",\"\")))&'Web Links'!E25","v":"???"},{"$f":"IF(OR(LEFT('Web Links'!$C25,2)=\"In\",$C25=\"Error\"),\"?????\",IF(LEN(G25)=4,\"\",IF(LEN(G25)=3,\"\",IF(LEN(G25)=2,\"\",IF(LEN(G25)=1,\"\",\"\"))))&'Web Links'!G25)","v":"?????"},{"$f":"IF(OR(LEFT('Web Links'!$C25,2)=\"In\",$C25=\"Error\"),\"???????????????\",\"\"&F25)","v":"???????????????"}]
[{"$f":"IF('GL Template'!B40<>\"\",'GL Template'!B40,0)","v":0},{"$f":"IF('GL Template'!D40<>\"\",'GL Template'!D40,0)","v":0},"Error",null,null,null,null,null,null,null,null,null,null,{"$f":"IF(OR(LEFT('Web Links'!$C26,2)=\"In\",$C26=\"Error\"),\"?????\",\"\"&C26)","v":"?????"},{"$f":"IF(OR(LEFT('Web Links'!$C26,2)=\"In\",$C26=\"Error\"),\"??????????\",\"\"&D26)","v":"??????????"},{"$f":"IF(OR(LEFT('Web Links'!$C26,2)=\"In\",$C26=\"Error\"),\"???\",IF(LEN(E26)=2,\"0\",IF(LEN(E26)=1,\"00\",\"\")))&'Web Links'!E26","v":"???"},{"$f":"IF(OR(LEFT('Web Links'!$C26,2)=\"In\",$C26=\"Error\"),\"?????\",IF(LEN(G26)=4,\"\",IF(LEN(G26)=3,\"\",IF(LEN(G26)=2,\"\",IF(LEN(G26)=1,\"\",\"\"))))&'Web Links'!G26)","v":"?????"},{"$f":"IF(OR(LEFT('Web Links'!$C26,2)=\"In\",$C26=\"Error\"),\"???????????????\",\"\"&F26)","v":"???????????????"}]
[{"$f":"IF('GL Template'!B41<>\"\",'GL Template'!B41,0)","v":0},{"$f":"IF('GL Template'!D41<>\"\",'GL Template'!D41,0)","v":0},"Error",null,null,null,null,null,null,null,null,null,null,{"$f":"IF(OR(LEFT('Web Links'!$C27,2)=\"In\",$C27=\"Error\"),\"?????\",\"\"&C27)","v":"?????"},{"$f":"IF(OR(LEFT('Web Links'!$C27,2)=\"In\",$C27=\"Error\"),\"??????????\",\"\"&D27)","v":"??????????"},{"$f":"IF(OR(LEFT('Web Links'!$C27,2)=\"In\",$C27=\"Error\"),\"???\",IF(LEN(E27)=2,\"0\",IF(LEN(E27)=1,\"00\",\"\")))&'Web Links'!E27","v":"???"},{"$f":"IF(OR(LEFT('Web Links'!$C27,2)=\"In\",$C27=\"Error\"),\"?????\",IF(LEN(G27)=4,\"\",IF(LEN(G27)=3,\"\",IF(LEN(G27)=2,\"\",IF(LEN(G27)=1,\"\",\"\"))))&'Web Links'!G27)","v":"?????"},{"$f":"IF(OR(LEFT('Web Links'!$C27,2)=\"In\",$C27=\"Error\"),\"???????????????\",\"\"&F27)","v":"???????????????"}]
[{"$f":"IF('GL Template'!B42<>\"\",'GL Template'!B42,0)","v":0},{"$f":"IF('GL Template'!D42<>\"\",'GL Template'!D42,0)","v":0},"Error",null,null,null,null,null,null,null,null,null,null,{"$f":"IF(OR(LEFT('Web Links'!$C28,2)=\"In\",$C28=\"Error\"),\"?????\",\"\"&C28)","v":"?????"},{"$f":"IF(OR(LEFT('Web Links'!$C28,2)=\"In\",$C28=\"Error\"),\"??????????\",\"\"&D28)","v":"??????????"},{"$f":"IF(OR(LEFT('Web Links'!$C28,2)=\"In\",$C28=\"Error\"),\"???\",IF(LEN(E28)=2,\"0\",IF(LEN(E28)=1,\"00\",\"\")))&'Web Links'!E28","v":"???"},{"$f":"IF(OR(LEFT('Web Links'!$C28,2)=\"In\",$C28=\"Error\"),\"?????\",IF(LEN(G28)=4,\"\",IF(LEN(G28)=3,\"\",IF(LEN(G28)=2,\"\",IF(LEN(G28)=1,\"\",\"\"))))&'Web Links'!G28)","v":"?????"},{"$f":"IF(OR(LEFT('Web Links'!$C28,2)=\"In\",$C28=\"Error\"),\"???????????????\",\"\"&F28)","v":"???????????????"}]
[{"$f":"IF('GL Template'!B43<>\"\",'GL Template'!B43,0)","v":0},{"$f":"IF('GL Template'!D43<>\"\",'GL Template'!D43,0)","v":0},"Error",null,null,null,null,null,null,null,null,null,null,{"$f":"IF(OR(LEFT('Web Links'!$C29,2)=\"In\",$C29=\"Error\"),\"?????\",\"\"&C29)","v":"?????"},{"$f":"IF(OR(LEFT('Web Links'!$C29,2)=\"In\",$C29=\"Error\"),\"??????????\",\"\"&D29)","v":"??????????"},{"$f":"IF(OR(LEFT('Web Links'!$C29,2)=\"In\",$C29=\"Error\"),\"???\",IF(LEN(E29)=2,\"0\",IF(LEN(E29)=1,\"00\",\"\")))&'Web Links'!E29","v":"???"},{"$f":"IF(OR(LEFT('Web Links'!$C29,2)=\"In\",$C29=\"Error\"),\"?????\",IF(LEN(G29)=4,\"\",IF(LEN(G29)=3,\"\",IF(LEN(G29)=2,\"\",IF(LEN(G29)=1,\"\",\"\"))))&'Web Links'!G29)","v":"?????"},{"$f":"IF(OR(LEFT('Web Links'!$C29,2)=\"In\",$C29=\"Error\"),\"???????????????\",\"\"&F29)","v":"???????????????"}]
[{"$f":"IF('GL Template'!B44<>\"\",'GL Template'!B44,0)","v":0},{"$f":"IF('GL Template'!D44<>\"\",'GL Template'!D44,0)","v":0},"Error",null,null,null,null,null,null,null,null,null,null,{"$f":"IF(OR(LEFT('Web Links'!$C30,2)=\"In\",$C30=\"Error\"),\"?????\",\"\"&C30)","v":"?????"},{"$f":"IF(OR(LEFT('Web Links'!$C30,2)=\"In\",$C30=\"Error\"),\"??????????\",\"\"&D30)","v":"??????????"},{"$f":"IF(OR(LEFT('Web Links'!$C30,2)=\"In\",$C30=\"Error\"),\"???\",IF(LEN(E30)=2,\"0\",IF(LEN(E30)=1,\"00\",\"\")))&'Web Links'!E30","v":"???"},{"$f":"IF(OR(LEFT('Web Links'!$C30,2)=\"In\",$C30=\"Error\"),\"?????\",IF(LEN(G30)=4,\"\",IF(LEN(G30)=3,\"\",IF(LEN(G30)=2,\"\",IF(LEN(G30)=1,\"\",\"\"))))&'Web Links'!G30)","v":"?????"},{"$f":"IF(OR(LEFT('Web Links'!$C30,2)=\"In\",$C30=\"Error\"),\"???????????????\",\"\"&F30)","v":"???????????????"}]
[{"$f":"IF('GL Template'!B45<>\"\",'GL Template'!B45,0)","v":0},{"$f":"IF('GL Template'!D45<>\"\",'GL Template'!D45,0)","v":0},"Error",null,null,null,null,null,null,null,null,null,null,{"$f":"IF(OR(LEFT('Web Links'!$C31,2)=\"In\",$C31=\"Error\"),\"?????\",\"\"&C31)","v":"?????"},{"$f":"IF(OR(LEFT('Web Links'!$C31,2)=\"In\",$C31=\"Error\"),\"??????????\",\"\"&D31)","v":"??????????"},{"$f":"IF(OR(LEFT('Web Links'!$C31,2)=\"In\",$C31=\"Error\"),\"???\",IF(LEN(E31)=2,\"0\",IF(LEN(E31)=1,\"00\",\"\")))&'Web Links'!E31","v":"???"},{"$f":"IF(OR(LEFT('Web Links'!$C31,2)=\"In\",$C31=\"Error\"),\"?????\",IF(LEN(G31)=4,\"\",IF(LEN(G31)=3,\"\",IF(LEN(G31)=2,\"\",IF(LEN(G31)=1,\"\",\"\"))))&'Web Links'!G31)","v":"?????"},{"$f":"IF(OR(LEFT('Web Links'!$C31,2)=\"In\",$C31=\"Error\"),\"???????????????\",\"\"&F31)","v":"???????????????"}]
[{"$f":"IF('GL Template'!B46<>\"\",'GL Template'!B46,0)","v":0},{"$f":"IF('GL Template'!D46<>\"\",'GL Template'!D46,0)","v":0},"Error",null,null,null,null,null,null,null,null,null,null,{"$f":"IF(OR(LEFT('Web Links'!$C32,2)=\"In\",$C32=\"Error\"),\"?????\",\"\"&C32)","v":"?????"},{"$f":"IF(OR(LEFT('Web Links'!$C32,2)=\"In\",$C32=\"Error\"),\"??????????\",\"\"&D32)","v":"??????????"},{"$f":"IF(OR(LEFT('Web Links'!$C32,2)=\"In\",$C32=\"Error\"),\"???\",IF(LEN(E32)=2,\"0\",IF(LEN(E32)=1,\"00\",\"\")))&'Web Links'!E32","v":"???"},{"$f":"IF(OR(LEFT('Web Links'!$C32,2)=\"In\",$C32=\"Error\"),\"?????\",IF(LEN(G32)=4,\"\",IF(LEN(G32)=3,\"\",IF(LEN(G32)=2,\"\",IF(LEN(G32)=1,\"\",\"\"))))&'Web Links'!G32)","v":"?????"},{"$f":"IF(OR(LEFT('Web Links'!$C32,2)=\"In\",$C32=\"Error\"),\"???????????????\",\"\"&F32)","v":"???????????????"}]
[{"$f":"IF('GL Template'!B47<>\"\",'GL Template'!B47,0)","v":0},{"$f":"IF('GL Template'!D47<>\"\",'GL Template'!D47,0)","v":0},"Error",null,null,null,null,null,null,null,null,null,null,{"$f":"IF(OR(LEFT('Web Links'!$C33,2)=\"In\",$C33=\"Error\"),\"?????\",\"\"&C33)","v":"?????"},{"$f":"IF(OR(LEFT('Web Links'!$C33,2)=\"In\",$C33=\"Error\"),\"??????????\",\"\"&D33)","v":"??????????"},{"$f":"IF(OR(LEFT('Web Links'!$C33,2)=\"In\",$C33=\"Error\"),\"???\",IF(LEN(E33)=2,\"0\",IF(LEN(E33)=1,\"00\",\"\")))&'Web Links'!E33","v":"???"},{"$f":"IF(OR(LEFT('Web Links'!$C33,2)=\"In\",$C33=\"Error\"),\"?????\",IF(LEN(G33)=4,\"\",IF(LEN(G33)=3,\"\",IF(LEN(G33)=2,\"\",IF(LEN(G33)=1,\"\",\"\"))))&'Web Links'!G33)","v":"?????"},{"$f":"IF(OR(LEFT('Web Links'!$C33,2)=\"In\",$C33=\"Error\"),\"???????????????\",\"\"&F33)","v":"???????????????"}]
[{"$f":"IF('GL Template'!B48<>\"\",'GL Template'!B48,0)","v":0},{"$f":"IF('GL Template'!D48<>\"\",'GL Template'!D48,0)","v":0},"Error",null,null,null,null,null,null,null,null,null,null,{"$f":"IF(OR(LEFT('Web Links'!$C34,2)=\"In\",$C34=\"Error\"),\"?????\",\"\"&C34)","v":"?????"},{"$f":"IF(OR(LEFT('Web Links'!$C34,2)=\"In\",$C34=\"Error\"),\"??????????\",\"\"&D34)","v":"??????????"},{"$f":"IF(OR(LEFT('Web Links'!$C34,2)=\"In\",$C34=\"Error\"),\"???\",IF(LEN(E34)=2,\"0\",IF(LEN(E34)=1,\"00\",\"\")))&'Web Links'!E34","v":"???"},{"$f":"IF(OR(LEFT('Web Links'!$C34,2)=\"In\",$C34=\"Error\"),\"?????\",IF(LEN(G34)=4,\"\",IF(LEN(G34)=3,\"\",IF(LEN(G34)=2,\"\",IF(LEN(G34)=1,\"\",\"\"))))&'Web Links'!G34)","v":"?????"},{"$f":"IF(OR(LEFT('Web Links'!$C34,2)=\"In\",$C34=\"Error\"),\"???????????????\",\"\"&F34)","v":"???????????????"}]
[{"$f":"IF('GL Template'!B49<>\"\",'GL Template'!B49,0)","v":0},{"$f":"IF('GL Template'!D49<>\"\",'GL Template'!D49,0)","v":0},"Error",null,null,null,null,null,null,null,null,null,null,{"$f":"IF(OR(LEFT('Web Links'!$C35,2)=\"In\",$C35=\"Error\"),\"?????\",\"\"&C35)","v":"?????"},{"$f":"IF(OR(LEFT('Web Links'!$C35,2)=\"In\",$C35=\"Error\"),\"??????????\",\"\"&D35)","v":"??????????"},{"$f":"IF(OR(LEFT('Web Links'!$C35,2)=\"In\",$C35=\"Error\"),\"???\",IF(LEN(E35)=2,\"0\",IF(LEN(E35)=1,\"00\",\"\")))&'Web Links'!E35","v":"???"},{"$f":"IF(OR(LEFT('Web Links'!$C35,2)=\"In\",$C35=\"Error\"),\"?????\",IF(LEN(G35)=4,\"\",IF(LEN(G35)=3,\"\",IF(LEN(G35)=2,\"\",IF(LEN(G35)=1,\"\",\"\"))))&'Web Links'!G35)","v":"?????"},{"$f":"IF(OR(LEFT('Web Links'!$C35,2)=\"In\",$C35=\"Error\"),\"???????????????\",\"\"&F35)","v":"???????????????"}]
[{"$f":"IF('GL Template'!B50<>\"\",'GL Template'!B50,0)","v":0},{"$f":"IF('GL Template'!D50<>\"\",'GL Template'!D50,0)","v":0},"Error",null,null,null,null,null,null,null,null,null,null,{"$f":"IF(OR(LEFT('Web Links'!$C36,2)=\"In\",$C36=\"Error\"),\"?????\",\"\"&C36)","v":"?????"},{"$f":"IF(OR(LEFT('Web Links'!$C36,2)=\"In\",$C36=\"Error\"),\"??????????\",\"\"&D36)","v":"??????????"},{"$f":"IF(OR(LEFT('Web Links'!$C36,2)=\"In\",$C36=\"Error\"),\"???\",IF(LEN(E36)=2,\"0\",IF(LEN(E36)=1,\"00\",\"\")))&'Web Links'!E36","v":"???"},{"$f":"IF(OR(LEFT('Web Links'!$C36,2)=\"In\",$C36=\"Error\"),\"?????\",IF(LEN(G36)=4,\"\",IF(LEN(G36)=3,\"\",IF(LEN(G36)=2,\"\",IF(LEN(G36)=1,\"\",\"\"))))&'Web Links'!G36)","v":"?????"},{"$f":"IF(OR(LEFT('Web Links'!$C36,2)=\"In\",$C36=\"Error\"),\"???????????????\",\"\"&F36)","v":"???????????????"}]
[{"$f":"IF('GL Template'!B51<>\"\",'GL Template'!B51,0)","v":0},{"$f":"IF('GL Template'!D51<>\"\",'GL Template'!D51,0)","v":0},"Error",null,null,null,null,null,null,null,null,null,null,{"$f":"IF(OR(LEFT('Web Links'!$C37,2)=\"In\",$C37=\"Error\"),\"?????\",\"\"&C37)","v":"?????"},{"$f":"IF(OR(LEFT('Web Links'!$C37,2)=\"In\",$C37=\"Error\"),\"??????????\",\"\"&D37)","v":"??????????"},{"$f":"IF(OR(LEFT('Web Links'!$C37,2)=\"In\",$C37=\"Error\"),\"???\",IF(LEN(E37)=2,\"0\",IF(LEN(E37)=1,\"00\",\"\")))&'Web Links'!E37","v":"???"},{"$f":"IF(OR(LEFT('Web Links'!$C37,2)=\"In\",$C37=\"Error\"),\"?????\",IF(LEN(G37)=4,\"\",IF(LEN(G37)=3,\"\",IF(LEN(G37)=2,\"\",IF(LEN(G37)=1,\"\",\"\"))))&'Web Links'!G37)","v":"?????"},{"$f":"IF(OR(LEFT('Web Links'!$C37,2)=\"In\",$C37=\"Error\"),\"???????????????\",\"\"&F37)","v":"???????????????"}]
[{"$f":"IF('GL Template'!B52<>\"\",'GL Template'!B52,0)","v":0},{"$f":"IF('GL Template'!D52<>\"\",'GL Template'!D52,0)","v":0},"Error",null,null,null,null,null,null,null,null,null,null,{"$f":"IF(OR(LEFT('Web Links'!$C38,2)=\"In\",$C38=\"Error\"),\"?????\",\"\"&C38)","v":"?????"},{"$f":"IF(OR(LEFT('Web Links'!$C38,2)=\"In\",$C38=\"Error\"),\"??????????\",\"\"&D38)","v":"??????????"},{"$f":"IF(OR(LEFT('Web Links'!$C38,2)=\"In\",$C38=\"Error\"),\"???\",IF(LEN(E38)=2,\"0\",IF(LEN(E38)=1,\"00\",\"\")))&'Web Links'!E38","v":"???"},{"$f":"IF(OR(LEFT('Web Links'!$C38,2)=\"In\",$C38=\"Error\"),\"?????\",IF(LEN(G38)=4,\"\",IF(LEN(G38)=3,\"\",IF(LEN(G38)=2,\"\",IF(LEN(G38)=1,\"\",\"\"))))&'Web Links'!G38)","v":"?????"},{"$f":"IF(OR(LEFT('Web Links'!$C38,2)=\"In\",$C38=\"Error\"),\"???????????????\",\"\"&F38)","v":"???????????????"}]
[{"$f":"IF('GL Template'!B53<>\"\",'GL Template'!B53,0)","v":0},{"$f":"IF('GL Template'!D53<>\"\",'GL Template'!D53,0)","v":0},"Error",null,null,null,null,null,null,null,null,null,null,{"$f":"IF(OR(LEFT('Web Links'!$C39,2)=\"In\",$C39=\"Error\"),\"?????\",\"\"&C39)","v":"?????"},{"$f":"IF(OR(LEFT('Web Links'!$C39,2)=\"In\",$C39=\"Error\"),\"??????????\",\"\"&D39)","v":"??????????"},{"$f":"IF(OR(LEFT('Web Links'!$C39,2)=\"In\",$C39=\"Error\"),\"???\",IF(LEN(E39)=2,\"0\",IF(LEN(E39)=1,\"00\",\"\")))&'Web Links'!E39","v":"???"},{"$f":"IF(OR(LEFT('Web Links'!$C39,2)=\"In\",$C39=\"Error\"),\"?????\",IF(LEN(G39)=4,\"\",IF(LEN(G39)=3,\"\",IF(LEN(G39)=2,\"\",IF(LEN(G39)=1,\"\",\"\"))))&'Web Links'!G39)","v":"?????"},{"$f":"IF(OR(LEFT('Web Links'!$C39,2)=\"In\",$C39=\"Error\"),\"???????????????\",\"\"&F39)","v":"???????????????"}]
[{"$f":"IF('GL Template'!B54<>\"\",'GL Template'!B54,0)","v":0},{"$f":"IF('GL Template'!D54<>\"\",'GL Template'!D54,0)","v":0},"Error",null,null,null,null,null,null,null,null,null,null,{"$f":"IF(OR(LEFT('Web Links'!$C40,2)=\"In\",$C40=\"Error\"),\"?????\",\"\"&C40)","v":"?????"},{"$f":"IF(OR(LEFT('Web Links'!$C40,2)=\"In\",$C40=\"Error\"),\"??????????\",\"\"&D40)","v":"??????????"},{"$f":"IF(OR(LEFT('Web Links'!$C40,2)=\"In\",$C40=\"Error\"),\"???\",IF(LEN(E40)=2,\"0\",IF(LEN(E40)=1,\"00\",\"\")))&'Web Links'!E40","v":"???"},{"$f":"IF(OR(LEFT('Web Links'!$C40,2)=\"In\",$C40=\"Error\"),\"?????\",IF(LEN(G40)=4,\"\",IF(LEN(G40)=3,\"\",IF(LEN(G40)=2,\"\",IF(LEN(G40)=1,\"\",\"\"))))&'Web Links'!G40)","v":"?????"},{"$f":"IF(OR(LEFT('Web Links'!$C40,2)=\"In\",$C40=\"Error\"),\"???????????????\",\"\"&F40)","v":"???????????????"}]
[{"$f":"IF('GL Template'!B55<>\"\",'GL Template'!B55,0)","v":0},{"$f":"IF('GL Template'!D55<>\"\",'GL Template'!D55,0)","v":0},"Error",null,null,null,null,null,null,null,null,null,null,{"$f":"IF(OR(LEFT('Web Links'!$C41,2)=\"In\",$C41=\"Error\"),\"?????\",\"\"&C41)","v":"?????"},{"$f":"IF(OR(LEFT('Web Links'!$C41,2)=\"In\",$C41=\"Error\"),\"??????????\",\"\"&D41)","v":"??????????"},{"$f":"IF(OR(LEFT('Web Links'!$C41,2)=\"In\",$C41=\"Error\"),\"???\",IF(LEN(E41)=2,\"0\",IF(LEN(E41)=1,\"00\",\"\")))&'Web Links'!E41","v":"???"},{"$f":"IF(OR(LEFT('Web Links'!$C41,2)=\"In\",$C41=\"Error\"),\"?????\",IF(LEN(G41)=4,\"\",IF(LEN(G41)=3,\"\",IF(LEN(G41)=2,\"\",IF(LEN(G41)=1,\"\",\"\"))))&'Web Links'!G41)","v":"?????"},{"$f":"IF(OR(LEFT('Web Links'!$C41,2)=\"In\",$C41=\"Error\"),\"???????????????\",\"\"&F41)","v":"???????????????"}]
[{"$f":"IF('GL Template'!B56<>\"\",'GL Template'!B56,0)","v":0},{"$f":"IF('GL Template'!D56<>\"\",'GL Template'!D56,0)","v":0},"Error",null,null,null,null,null,null,null,null,null,null,{"$f":"IF(OR(LEFT('Web Links'!$C42,2)=\"In\",$C42=\"Error\"),\"?????\",\"\"&C42)","v":"?????"},{"$f":"IF(OR(LEFT('Web Links'!$C42,2)=\"In\",$C42=\"Error\"),\"??????????\",\"\"&D42)","v":"??????????"},{"$f":"IF(OR(LEFT('Web Links'!$C42,2)=\"In\",$C42=\"Error\"),\"???\",IF(LEN(E42)=2,\"0\",IF(LEN(E42)=1,\"00\",\"\")))&'Web Links'!E42","v":"???"},{"$f":"IF(OR(LEFT('Web Links'!$C42,2)=\"In\",$C42=\"Error\"),\"?????\",IF(LEN(G42)=4,\"\",IF(LEN(G42)=3,\"\",IF(LEN(G42)=2,\"\",IF(LEN(G42)=1,\"\",\"\"))))&'Web Links'!G42)","v":"?????"},{"$f":"IF(OR(LEFT('Web Links'!$C42,2)=\"In\",$C42=\"Error\"),\"???????????????\",\"\"&F42)","v":"???????????????"}]
[{"$f":"IF('GL Template'!B57<>\"\",'GL Template'!B57,0)","v":0},{"$f":"IF('GL Template'!D57<>\"\",'GL Template'!D57,0)","v":0},"Error",null,null,null,null,null,null,null,null,null,null,{"$f":"IF(OR(LEFT('Web Links'!$C43,2)=\"In\",$C43=\"Error\"),\"?????\",\"\"&C43)","v":"?????"},{"$f":"IF(OR(LEFT('Web Links'!$C43,2)=\"In\",$C43=\"Error\"),\"??????????\",\"\"&D43)","v":"??????????"},{"$f":"IF(OR(LEFT('Web Links'!$C43,2)=\"In\",$C43=\"Error\"),\"???\",IF(LEN(E43)=2,\"0\",IF(LEN(E43)=1,\"00\",\"\")))&'Web Links'!E43","v":"???"},{"$f":"IF(OR(LEFT('Web Links'!$C43,2)=\"In\",$C43=\"Error\"),\"?????\",IF(LEN(G43)=4,\"\",IF(LEN(G43)=3,\"\",IF(LEN(G43)=2,\"\",IF(LEN(G43)=1,\"\",\"\"))))&'Web Links'!G43)","v":"?????"},{"$f":"IF(OR(LEFT('Web Links'!$C43,2)=\"In\",$C43=\"Error\"),\"???????????????\",\"\"&F43)","v":"???????????????"}]
[{"$f":"IF('GL Template'!B58<>\"\",'GL Template'!B58,0)","v":0},{"$f":"IF('GL Template'!D58<>\"\",'GL Template'!D58,0)","v":0},"Error",null,null,null,null,null,null,null,null,null,null,{"$f":"IF(OR(LEFT('Web Links'!$C44,2)=\"In\",$C44=\"Error\"),\"?????\",\"\"&C44)","v":"?????"},{"$f":"IF(OR(LEFT('Web Links'!$C44,2)=\"In\",$C44=\"Error\"),\"??????????\",\"\"&D44)","v":"??????????"},{"$f":"IF(OR(LEFT('Web Links'!$C44,2)=\"In\",$C44=\"Error\"),\"???\",IF(LEN(E44)=2,\"0\",IF(LEN(E44)=1,\"00\",\"\")))&'Web Links'!E44","v":"???"},{"$f":"IF(OR(LEFT('Web Links'!$C44,2)=\"In\",$C44=\"Error\"),\"?????\",IF(LEN(G44)=4,\"\",IF(LEN(G44)=3,\"\",IF(LEN(G44)=2,\"\",IF(LEN(G44)=1,\"\",\"\"))))&'Web Links'!G44)","v":"?????"},{"$f":"IF(OR(LEFT('Web Links'!$C44,2)=\"In\",$C44=\"Error\"),\"???????????????\",\"\"&F44)","v":"???????????????"}]
[{"$f":"IF('GL Template'!B59<>\"\",'GL Template'!B59,0)","v":0},{"$f":"IF('GL Template'!D59<>\"\",'GL Template'!D59,0)","v":0},"Error",null,null,null,null,null,null,null,null,null,null,{"$f":"IF(OR(LEFT('Web Links'!$C45,2)=\"In\",$C45=\"Error\"),\"?????\",\"\"&C45)","v":"?????"},{"$f":"IF(OR(LEFT('Web Links'!$C45,2)=\"In\",$C45=\"Error\"),\"??????????\",\"\"&D45)","v":"??????????"},{"$f":"IF(OR(LEFT('Web Links'!$C45,2)=\"In\",$C45=\"Error\"),\"???\",IF(LEN(E45)=2,\"0\",IF(LEN(E45)=1,\"00\",\"\")))&'Web Links'!E45","v":"???"},{"$f":"IF(OR(LEFT('Web Links'!$C45,2)=\"In\",$C45=\"Error\"),\"?????\",IF(LEN(G45)=4,\"\",IF(LEN(G45)=3,\"\",IF(LEN(G45)=2,\"\",IF(LEN(G45)=1,\"\",\"\"))))&'Web Links'!G45)","v":"?????"},{"$f":"IF(OR(LEFT('Web Links'!$C45,2)=\"In\",$C45=\"Error\"),\"???????????????\",\"\"&F45)","v":"???????????????"}]
[{"$f":"IF('GL Template'!B60<>\"\",'GL Template'!B60,0)","v":0},{"$f":"IF('GL Template'!D60<>\"\",'GL Template'!D60,0)","v":0},"Error",null,null,null,null,null,null,null,null,null,null,{"$f":"IF(OR(LEFT('Web Links'!$C46,2)=\"In\",$C46=\"Error\"),\"?????\",\"\"&C46)","v":"?????"},{"$f":"IF(OR(LEFT('Web Links'!$C46,2)=\"In\",$C46=\"Error\"),\"??????????\",\"\"&D46)","v":"??????????"},{"$f":"IF(OR(LEFT('Web Links'!$C46,2)=\"In\",$C46=\"Error\"),\"???\",IF(LEN(E46)=2,\"0\",IF(LEN(E46)=1,\"00\",\"\")))&'Web Links'!E46","v":"???"},{"$f":"IF(OR(LEFT('Web Links'!$C46,2)=\"In\",$C46=\"Error\"),\"?????\",IF(LEN(G46)=4,\"\",IF(LEN(G46)=3,\"\",IF(LEN(G46)=2,\"\",IF(LEN(G46)=1,\"\",\"\"))))&'Web Links'!G46)","v":"?????"},{"$f":"IF(OR(LEFT('Web Links'!$C46,2)=\"In\",$C46=\"Error\"),\"???????????????\",\"\"&F46)","v":"???????????????"}]
[{"$f":"IF('GL Template'!B61<>\"\",'GL Template'!B61,0)","v":0},{"$f":"IF('GL Template'!D61<>\"\",'GL Template'!D61,0)","v":0},"Error",null,null,null,null,null,null,null,null,null,null,{"$f":"IF(OR(LEFT('Web Links'!$C47,2)=\"In\",$C47=\"Error\"),\"?????\",\"\"&C47)","v":"?????"},{"$f":"IF(OR(LEFT('Web Links'!$C47,2)=\"In\",$C47=\"Error\"),\"??????????\",\"\"&D47)","v":"??????????"},{"$f":"IF(OR(LEFT('Web Links'!$C47,2)=\"In\",$C47=\"Error\"),\"???\",IF(LEN(E47)=2,\"0\",IF(LEN(E47)=1,\"00\",\"\")))&'Web Links'!E47","v":"???"},{"$f":"IF(OR(LEFT('Web Links'!$C47,2)=\"In\",$C47=\"Error\"),\"?????\",IF(LEN(G47)=4,\"\",IF(LEN(G47)=3,\"\",IF(LEN(G47)=2,\"\",IF(LEN(G47)=1,\"\",\"\"))))&'Web Links'!G47)","v":"?????"},{"$f":"IF(OR(LEFT('Web Links'!$C47,2)=\"In\",$C47=\"Error\"),\"???????????????\",\"\"&F47)","v":"???????????????"}]
[{"$f":"IF('GL Template'!B62<>\"\",'GL Template'!B62,0)","v":0},{"$f":"IF('GL Template'!D62<>\"\",'GL Template'!D62,0)","v":0},"Error",null,null,null,null,null,null,null,null,null,null,{"$f":"IF(OR(LEFT('Web Links'!$C48,2)=\"In\",$C48=\"Error\"),\"?????\",\"\"&C48)","v":"?????"},{"$f":"IF(OR(LEFT('Web Links'!$C48,2)=\"In\",$C48=\"Error\"),\"??????????\",\"\"&D48)","v":"??????????"},{"$f":"IF(OR(LEFT('Web Links'!$C48,2)=\"In\",$C48=\"Error\"),\"???\",IF(LEN(E48)=2,\"0\",IF(LEN(E48)=1,\"00\",\"\")))&'Web Links'!E48","v":"???"},{"$f":"IF(OR(LEFT('Web Links'!$C48,2)=\"In\",$C48=\"Error\"),\"?????\",IF(LEN(G48)=4,\"\",IF(LEN(G48)=3,\"\",IF(LEN(G48)=2,\"\",IF(LEN(G48)=1,\"\",\"\"))))&'Web Links'!G48)","v":"?????"},{"$f":"IF(OR(LEFT('Web Links'!$C48,2)=\"In\",$C48=\"Error\"),\"???????????????\",\"\"&F48)","v":"???????????????"}]
[{"$f":"IF('GL Template'!B63<>\"\",'GL Template'!B63,0)","v":0},{"$f":"IF('GL Template'!D63<>\"\",'GL Template'!D63,0)","v":0},"Error",null,null,null,null,null,null,null,null,null,null,{"$f":"IF(OR(LEFT('Web Links'!$C49,2)=\"In\",$C49=\"Error\"),\"?????\",\"\"&C49)","v":"?????"},{"$f":"IF(OR(LEFT('Web Links'!$C49,2)=\"In\",$C49=\"Error\"),\"??????????\",\"\"&D49)","v":"??????????"},{"$f":"IF(OR(LEFT('Web Links'!$C49,2)=\"In\",$C49=\"Error\"),\"???\",IF(LEN(E49)=2,\"0\",IF(LEN(E49)=1,\"00\",\"\")))&'Web Links'!E49","v":"???"},{"$f":"IF(OR(LEFT('Web Links'!$C49,2)=\"In\",$C49=\"Error\"),\"?????\",IF(LEN(G49)=4,\"\",IF(LEN(G49)=3,\"\",IF(LEN(G49)=2,\"\",IF(LEN(G49)=1,\"\",\"\"))))&'Web Links'!G49)","v":"?????"},{"$f":"IF(OR(LEFT('Web Links'!$C49,2)=\"In\",$C49=\"Error\"),\"???????????????\",\"\"&F49)","v":"???????????????"}]
[{"$f":"IF('GL Template'!B64<>\"\",'GL Template'!B64,0)","v":0},{"$f":"IF('GL Template'!D64<>\"\",'GL Template'!D64,0)","v":0},"Error",null,null,null,null,null,null,null,null,null,null,{"$f":"IF(OR(LEFT('Web Links'!$C50,2)=\"In\",$C50=\"Error\"),\"?????\",\"\"&C50)","v":"?????"},{"$f":"IF(OR(LEFT('Web Links'!$C50,2)=\"In\",$C50=\"Error\"),\"??????????\",\"\"&D50)","v":"??????????"},{"$f":"IF(OR(LEFT('Web Links'!$C50,2)=\"In\",$C50=\"Error\"),\"???\",IF(LEN(E50)=2,\"0\",IF(LEN(E50)=1,\"00\",\"\")))&'Web Links'!E50","v":"???"},{"$f":"IF(OR(LEFT('Web Links'!$C50,2)=\"In\",$C50=\"Error\"),\"?????\",IF(LEN(G50)=4,\"\",IF(LEN(G50)=3,\"\",IF(LEN(G50)=2,\"\",IF(LEN(G50)=1,\"\",\"\"))))&'Web Links'!G50)","v":"?????"},{"$f":"IF(OR(LEFT('Web Links'!$C50,2)=\"In\",$C50=\"Error\"),\"???????????????\",\"\"&F50)","v":"???????????????"}]
[{"$f":"IF('GL Template'!B65<>\"\",'GL Template'!B65,0)","v":0},{"$f":"IF('GL Template'!D65<>\"\",'GL Template'!D65,0)","v":0},"Error",null,null,null,null,null,null,null,null,null,null,{"$f":"IF(OR(LEFT('Web Links'!$C51,2)=\"In\",$C51=\"Error\"),\"?????\",\"\"&C51)","v":"?????"},{"$f":"IF(OR(LEFT('Web Links'!$C51,2)=\"In\",$C51=\"Error\"),\"??????????\",\"\"&D51)","v":"??????????"},{"$f":"IF(OR(LEFT('Web Links'!$C51,2)=\"In\",$C51=\"Error\"),\"???\",IF(LEN(E51)=2,\"0\",IF(LEN(E51)=1,\"00\",\"\")))&'Web Links'!E51","v":"???"},{"$f":"IF(OR(LEFT('Web Links'!$C51,2)=\"In\",$C51=\"Error\"),\"?????\",IF(LEN(G51)=4,\"\",IF(LEN(G51)=3,\"\",IF(LEN(G51)=2,\"\",IF(LEN(G51)=1,\"\",\"\"))))&'Web Links'!G51)","v":"?????"},{"$f":"IF(OR(LEFT('Web Links'!$C51,2)=\"In\",$C51=\"Error\"),\"???????????????\",\"\"&F51)","v":"???????????????"}]
[{"$f":"IF('GL Template'!B66<>\"\",'GL Template'!B66,0)","v":0},{"$f":"IF('GL Template'!D66<>\"\",'GL Template'!D66,0)","v":0},"Error",null,null,null,null,null,null,null,null,null,null,{"$f":"IF(OR(LEFT('Web Links'!$C52,2)=\"In\",$C52=\"Error\"),\"?????\",\"\"&C52)","v":"?????"},{"$f":"IF(OR(LEFT('Web Links'!$C52,2)=\"In\",$C52=\"Error\"),\"??????????\",\"\"&D52)","v":"??????????"},{"$f":"IF(OR(LEFT('Web Links'!$C52,2)=\"In\",$C52=\"Error\"),\"???\",IF(LEN(E52)=2,\"0\",IF(LEN(E52)=1,\"00\",\"\")))&'Web Links'!E52","v":"???"},{"$f":"IF(OR(LEFT('Web Links'!$C52,2)=\"In\",$C52=\"Error\"),\"?????\",IF(LEN(G52)=4,\"\",IF(LEN(G52)=3,\"\",IF(LEN(G52)=2,\"\",IF(LEN(G52)=1,\"\",\"\"))))&'Web Links'!G52)","v":"?????"},{"$f":"IF(OR(LEFT('Web Links'!$C52,2)=\"In\",$C52=\"Error\"),\"???????????????\",\"\"&F52)","v":"???????????????"}]
[{"$f":"IF('GL Template'!B67<>\"\",'GL Template'!B67,0)","v":0},{"$f":"IF('GL Template'!D67<>\"\",'GL Template'!D67,0)","v":0},"Error",null,null,null,null,null,null,null,null,null,null,{"$f":"IF(OR(LEFT('Web Links'!$C53,2)=\"In\",$C53=\"Error\"),\"?????\",\"\"&C53)","v":"?????"},{"$f":"IF(OR(LEFT('Web Links'!$C53,2)=\"In\",$C53=\"Error\"),\"??????????\",\"\"&D53)","v":"??????????"},{"$f":"IF(OR(LEFT('Web Links'!$C53,2)=\"In\",$C53=\"Error\"),\"???\",IF(LEN(E53)=2,\"0\",IF(LEN(E53)=1,\"00\",\"\")))&'Web Links'!E53","v":"???"},{"$f":"IF(OR(LEFT('Web Links'!$C53,2)=\"In\",$C53=\"Error\"),\"?????\",IF(LEN(G53)=4,\"\",IF(LEN(G53)=3,\"\",IF(LEN(G53)=2,\"\",IF(LEN(G53)=1,\"\",\"\"))))&'Web Links'!G53)","v":"?????"},{"$f":"IF(OR(LEFT('Web Links'!$C53,2)=\"In\",$C53=\"Error\"),\"???????????????\",\"\"&F53)","v":"???????????????"}]
[{"$f":"IF('GL Template'!B68<>\"\",'GL Template'!B68,0)","v":0},{"$f":"IF('GL Template'!D68<>\"\",'GL Template'!D68,0)","v":0},"Error",null,null,null,null,null,null,null,null,null,null,{"$f":"IF(OR(LEFT('Web Links'!$C54,2)=\"In\",$C54=\"Error\"),\"?????\",\"\"&C54)","v":"?????"},{"$f":"IF(OR(LEFT('Web Links'!$C54,2)=\"In\",$C54=\"Error\"),\"??????????\",\"\"&D54)","v":"??????????"},{"$f":"IF(OR(LEFT('Web Links'!$C54,2)=\"In\",$C54=\"Error\"),\"???\",IF(LEN(E54)=2,\"0\",IF(LEN(E54)=1,\"00\",\"\")))&'Web Links'!E54","v":"???"},{"$f":"IF(OR(LEFT('Web Links'!$C54,2)=\"In\",$C54=\"Error\"),\"?????\",IF(LEN(G54)=4,\"\",IF(LEN(G54)=3,\"\",IF(LEN(G54)=2,\"\",IF(LEN(G54)=1,\"\",\"\"))))&'Web Links'!G54)","v":"?????"},{"$f":"IF(OR(LEFT('Web Links'!$C54,2)=\"In\",$C54=\"Error\"),\"???????????????\",\"\"&F54)","v":"???????????????"}]
[{"$f":"IF('GL Template'!B69<>\"\",'GL Template'!B69,0)","v":0},{"$f":"IF('GL Template'!D69<>\"\",'GL Template'!D69,0)","v":0},"Error",null,null,null,null,null,null,null,null,null,null,{"$f":"IF(OR(LEFT('Web Links'!$C55,2)=\"In\",$C55=\"Error\"),\"?????\",\"\"&C55)","v":"?????"},{"$f":"IF(OR(LEFT('Web Links'!$C55,2)=\"In\",$C55=\"Error\"),\"??????????\",\"\"&D55)","v":"??????????"},{"$f":"IF(OR(LEFT('Web Links'!$C55,2)=\"In\",$C55=\"Error\"),\"???\",IF(LEN(E55)=2,\"0\",IF(LEN(E55)=1,\"00\",\"\")))&'Web Links'!E55","v":"???"},{"$f":"IF(OR(LEFT('Web Links'!$C55,2)=\"In\",$C55=\"Error\"),\"?????\",IF(LEN(G55)=4,\"\",IF(LEN(G55)=3,\"\",IF(LEN(G55)=2,\"\",IF(LEN(G55)=1,\"\",\"\"))))&'Web Links'!G55)","v":"?????"},{"$f":"IF(OR(LEFT('Web Links'!$C55,2)=\"In\",$C55=\"Error\"),\"???????????????\",\"\"&F55)","v":"???????????????"}]
[{"$f":"IF('GL Template'!B70<>\"\",'GL Template'!B70,0)","v":0},{"$f":"IF('GL Template'!D70<>\"\",'GL Template'!D70,0)","v":0},"Error",null,null,null,null,null,null,null,null,null,null,{"$f":"IF(OR(LEFT('Web Links'!$C56,2)=\"In\",$C56=\"Error\"),\"?????\",\"\"&C56)","v":"?????"},{"$f":"IF(OR(LEFT('Web Links'!$C56,2)=\"In\",$C56=\"Error\"),\"??????????\",\"\"&D56)","v":"??????????"},{"$f":"IF(OR(LEFT('Web Links'!$C56,2)=\"In\",$C56=\"Error\"),\"???\",IF(LEN(E56)=2,\"0\",IF(LEN(E56)=1,\"00\",\"\")))&'Web Links'!E56","v":"???"},{"$f":"IF(OR(LEFT('Web Links'!$C56,2)=\"In\",$C56=\"Error\"),\"?????\",IF(LEN(G56)=4,\"\",IF(LEN(G56)=3,\"\",IF(LEN(G56)=2,\"\",IF(LEN(G56)=1,\"\",\"\"))))&'Web Links'!G56)","v":"?????"},{"$f":"IF(OR(LEFT('Web Links'!$C56,2)=\"In\",$C56=\"Error\"),\"???????????????\",\"\"&F56)","v":"???????????????"}]
[{"$f":"IF('GL Template'!B71<>\"\",'GL Template'!B71,0)","v":0},{"$f":"IF('GL Template'!D71<>\"\",'GL Template'!D71,0)","v":0},"Error",null,null,null,null,null,null,null,null,null,null,{"$f":"IF(OR(LEFT('Web Links'!$C57,2)=\"In\",$C57=\"Error\"),\"?????\",\"\"&C57)","v":"?????"},{"$f":"IF(OR(LEFT('Web Links'!$C57,2)=\"In\",$C57=\"Error\"),\"??????????\",\"\"&D57)","v":"??????????"},{"$f":"IF(OR(LEFT('Web Links'!$C57,2)=\"In\",$C57=\"Error\"),\"???\",IF(LEN(E57)=2,\"0\",IF(LEN(E57)=1,\"00\",\"\")))&'Web Links'!E57","v":"???"},{"$f":"IF(OR(LEFT('Web Links'!$C57,2)=\"In\",$C57=\"Error\"),\"?????\",IF(LEN(G57)=4,\"\",IF(LEN(G57)=3,\"\",IF(LEN(G57)=2,\"\",IF(LEN(G57)=1,\"\",\"\"))))&'Web Links'!G57)","v":"?????"},{"$f":"IF(OR(LEFT('Web Links'!$C57,2)=\"In\",$C57=\"Error\"),\"???????????????\",\"\"&F57)","v":"???????????????"}]
[{"$f":"IF('GL Template'!B72<>\"\",'GL Template'!B72,0)","v":0},{"$f":"IF('GL Template'!D72<>\"\",'GL Template'!D72,0)","v":0},"Error",null,null,null,null,null,null,null,null,null,null,{"$f":"IF(OR(LEFT('Web Links'!$C58,2)=\"In\",$C58=\"Error\"),\"?????\",\"\"&C58)","v":"?????"},{"$f":"IF(OR(LEFT('Web Links'!$C58,2)=\"In\",$C58=\"Error\"),\"??????????\",\"\"&D58)","v":"??????????"},{"$f":"IF(OR(LEFT('Web Links'!$C58,2)=\"In\",$C58=\"Error\"),\"???\",IF(LEN(E58)=2,\"0\",IF(LEN(E58)=1,\"00\",\"\")))&'Web Links'!E58","v":"???"},{"$f":"IF(OR(LEFT('Web Links'!$C58,2)=\"In\",$C58=\"Error\"),\"?????\",IF(LEN(G58)=4,\"\",IF(LEN(G58)=3,\"\",IF(LEN(G58)=2,\"\",IF(LEN(G58)=1,\"\",\"\"))))&'Web Links'!G58)","v":"?????"},{"$f":"IF(OR(LEFT('Web Links'!$C58,2)=\"In\",$C58=\"Error\"),\"???????????????\",\"\"&F58)","v":"???????????????"}]
[{"$f":"IF('GL Template'!B73<>\"\",'GL Template'!B73,0)","v":0},{"$f":"IF('GL Template'!D73<>\"\",'GL Template'!D73,0)","v":0},"Error",null,null,null,null,null,null,null,null,null,null,{"$f":"IF(OR(LEFT('Web Links'!$C59,2)=\"In\",$C59=\"Error\"),\"?????\",\"\"&C59)","v":"?????"},{"$f":"IF(OR(LEFT('Web Links'!$C59,2)=\"In\",$C59=\"Error\"),\"??????????\",\"\"&D59)","v":"??????????"},{"$f":"IF(OR(LEFT('Web Links'!$C59,2)=\"In\",$C59=\"Error\"),\"???\",IF(LEN(E59)=2,\"0\",IF(LEN(E59)=1,\"00\",\"\")))&'Web Links'!E59","v":"???"},{"$f":"IF(OR(LEFT('Web Links'!$C59,2)=\"In\",$C59=\"Error\"),\"?????\",IF(LEN(G59)=4,\"\",IF(LEN(G59)=3,\"\",IF(LEN(G59)=2,\"\",IF(LEN(G59)=1,\"\",\"\"))))&'Web Links'!G59)","v":"?????"},{"$f":"IF(OR(LEFT('Web Links'!$C59,2)=\"In\",$C59=\"Error\"),\"???????????????\",\"\"&F59)","v":"???????????????"}]
[{"$f":"IF('GL Template'!B74<>\"\",'GL Template'!B74,0)","v":0},{"$f":"IF('GL Template'!D74<>\"\",'GL Template'!D74,0)","v":0},"Error",null,null,null,null,null,null,null,null,null,null,{"$f":"IF(OR(LEFT('Web Links'!$C60,2)=\"In\",$C60=\"Error\"),\"?????\",\"\"&C60)","v":"?????"},{"$f":"IF(OR(LEFT('Web Links'!$C60,2)=\"In\",$C60=\"Error\"),\"??????????\",\"\"&D60)","v":"??????????"},{"$f":"IF(OR(LEFT('Web Links'!$C60,2)=\"In\",$C60=\"Error\"),\"???\",IF(LEN(E60)=2,\"0\",IF(LEN(E60)=1,\"00\",\"\")))&'Web Links'!E60","v":"???"},{"$f":"IF(OR(LEFT('Web Links'!$C60,2)=\"In\",$C60=\"Error\"),\"?????\",IF(LEN(G60)=4,\"\",IF(LEN(G60)=3,\"\",IF(LEN(G60)=2,\"\",IF(LEN(G60)=1,\"\",\"\"))))&'Web Links'!G60)","v":"?????"},{"$f":"IF(OR(LEFT('Web Links'!$C60,2)=\"In\",$C60=\"Error\"),\"???????????????\",\"\"&F60)","v":"???????????????"}]
[{"$f":"IF('GL Template'!B75<>\"\",'GL Template'!B75,0)","v":0},{"$f":"IF('GL Template'!D75<>\"\",'GL Template'!D75,0)","v":0},"Error",null,null,null,null,null,null,null,null,null,null,{"$f":"IF(OR(LEFT('Web Links'!$C61,2)=\"In\",$C61=\"Error\"),\"?????\",\"\"&C61)","v":"?????"},{"$f":"IF(OR(LEFT('Web Links'!$C61,2)=\"In\",$C61=\"Error\"),\"??????????\",\"\"&D61)","v":"??????????"},{"$f":"IF(OR(LEFT('Web Links'!$C61,2)=\"In\",$C61=\"Error\"),\"???\",IF(LEN(E61)=2,\"0\",IF(LEN(E61)=1,\"00\",\"\")))&'Web Links'!E61","v":"???"},{"$f":"IF(OR(LEFT('Web Links'!$C61,2)=\"In\",$C61=\"Error\"),\"?????\",IF(LEN(G61)=4,\"\",IF(LEN(G61)=3,\"\",IF(LEN(G61)=2,\"\",IF(LEN(G61)=1,\"\",\"\"))))&'Web Links'!G61)","v":"?????"},{"$f":"IF(OR(LEFT('Web Links'!$C61,2)=\"In\",$C61=\"Error\"),\"???????????????\",\"\"&F61)","v":"???????????????"}]
[{"$f":"IF('GL Template'!B76<>\"\",'GL Template'!B76,0)","v":0},{"$f":"IF('GL Template'!D76<>\"\",'GL Template'!D76,0)","v":0},"Error",null,null,null,null,null,null,null,null,null,null,{"$f":"IF(OR(LEFT('Web Links'!$C62,2)=\"In\",$C62=\"Error\"),\"?????\",\"\"&C62)","v":"?????"},{"$f":"IF(OR(LEFT('Web Links'!$C62,2)=\"In\",$C62=\"Error\"),\"??????????\",\"\"&D62)","v":"??????????"},{"$f":"IF(OR(LEFT('Web Links'!$C62,2)=\"In\",$C62=\"Error\"),\"???\",IF(LEN(E62)=2,\"0\",IF(LEN(E62)=1,\"00\",\"\")))&'Web Links'!E62","v":"???"},{"$f":"IF(OR(LEFT('Web Links'!$C62,2)=\"In\",$C62=\"Error\"),\"?????\",IF(LEN(G62)=4,\"\",IF(LEN(G62)=3,\"\",IF(LEN(G62)=2,\"\",IF(LEN(G62)=1,\"\",\"\"))))&'Web Links'!G62)","v":"?????"},{"$f":"IF(OR(LEFT('Web Links'!$C62,2)=\"In\",$C62=\"Error\"),\"???????????????\",\"\"&F62)","v":"???????????????"}]
[{"$f":"IF('GL Template'!B77<>\"\",'GL Template'!B77,0)","v":0},{"$f":"IF('GL Template'!D77<>\"\",'GL Template'!D77,0)","v":0},"Error",null,null,null,null,null,null,null,null,null,null,{"$f":"IF(OR(LEFT('Web Links'!$C63,2)=\"In\",$C63=\"Error\"),\"?????\",\"\"&C63)","v":"?????"},{"$f":"IF(OR(LEFT('Web Links'!$C63,2)=\"In\",$C63=\"Error\"),\"??????????\",\"\"&D63)","v":"??????????"},{"$f":"IF(OR(LEFT('Web Links'!$C63,2)=\"In\",$C63=\"Error\"),\"???\",IF(LEN(E63)=2,\"0\",IF(LEN(E63)=1,\"00\",\"\")))&'Web Links'!E63","v":"???"},{"$f":"IF(OR(LEFT('Web Links'!$C63,2)=\"In\",$C63=\"Error\"),\"?????\",IF(LEN(G63)=4,\"\",IF(LEN(G63)=3,\"\",IF(LEN(G63)=2,\"\",IF(LEN(G63)=1,\"\",\"\"))))&'Web Links'!G63)","v":"?????"},{"$f":"IF(OR(LEFT('Web Links'!$C63,2)=\"In\",$C63=\"Error\"),\"???????????????\",\"\"&F63)","v":"???????????????"}]
[{"$f":"IF('GL Template'!B78<>\"\",'GL Template'!B78,0)","v":0},{"$f":"IF('GL Template'!D78<>\"\",'GL Template'!D78,0)","v":0},"Error",null,null,null,null,null,null,null,null,null,null,{"$f":"IF(OR(LEFT('Web Links'!$C64,2)=\"In\",$C64=\"Error\"),\"?????\",\"\"&C64)","v":"?????"},{"$f":"IF(OR(LEFT('Web Links'!$C64,2)=\"In\",$C64=\"Error\"),\"??????????\",\"\"&D64)","v":"??????????"},{"$f":"IF(OR(LEFT('Web Links'!$C64,2)=\"In\",$C64=\"Error\"),\"???\",IF(LEN(E64)=2,\"0\",IF(LEN(E64)=1,\"00\",\"\")))&'Web Links'!E64","v":"???"},{"$f":"IF(OR(LEFT('Web Links'!$C64,2)=\"In\",$C64=\"Error\"),\"?????\",IF(LEN(G64)=4,\"\",IF(LEN(G64)=3,\"\",IF(LEN(G64)=2,\"\",IF(LEN(G64)=1,\"\",\"\"))))&'Web Links'!G64)","v":"?????"},{"$f":"IF(OR(LEFT('Web Links'!$C64,2)=\"In\",$C64=\"Error\"),\"???????????????\",\"\"&F64)","v":"???????????????"}]
[{"$f":"IF('GL Template'!B79<>\"\",'GL Template'!B79,0)","v":0},{"$f":"IF('GL Template'!D79<>\"\",'GL Template'!D79,0)","v":0},"Error",null,null,null,null,null,null,null,null,null,null,{"$f":"IF(OR(LEFT('Web Links'!$C65,2)=\"In\",$C65=\"Error\"),\"?????\",\"\"&C65)","v":"?????"},{"$f":"IF(OR(LEFT('Web Links'!$C65,2)=\"In\",$C65=\"Error\"),\"??????????\",\"\"&D65)","v":"??????????"},{"$f":"IF(OR(LEFT('Web Links'!$C65,2)=\"In\",$C65=\"Error\"),\"???\",IF(LEN(E65)=2,\"0\",IF(LEN(E65)=1,\"00\",\"\")))&'Web Links'!E65","v":"???"},{"$f":"IF(OR(LEFT('Web Links'!$C65,2)=\"In\",$C65=\"Error\"),\"?????\",IF(LEN(G65)=4,\"\",IF(LEN(G65)=3,\"\",IF(LEN(G65)=2,\"\",IF(LEN(G65)=1,\"\",\"\"))))&'Web Links'!G65)","v":"?????"},{"$f":"IF(OR(LEFT('Web Links'!$C65,2)=\"In\",$C65=\"Error\"),\"???????????????\",\"\"&F65)","v":"???????????????"}]
[{"$f":"IF('GL Template'!B80<>\"\",'GL Template'!B80,0)","v":0},{"$f":"IF('GL Template'!D80<>\"\",'GL Template'!D80,0)","v":0},"Error",null,null,null,null,null,null,null,null,null,null,{"$f":"IF(OR(LEFT('Web Links'!$C66,2)=\"In\",$C66=\"Error\"),\"?????\",\"\"&C66)","v":"?????"},{"$f":"IF(OR(LEFT('Web Links'!$C66,2)=\"In\",$C66=\"Error\"),\"??????????\",\"\"&D66)","v":"??????????"},{"$f":"IF(OR(LEFT('Web Links'!$C66,2)=\"In\",$C66=\"Error\"),\"???\",IF(LEN(E66)=2,\"0\",IF(LEN(E66)=1,\"00\",\"\")))&'Web Links'!E66","v":"???"},{"$f":"IF(OR(LEFT('Web Links'!$C66,2)=\"In\",$C66=\"Error\"),\"?????\",IF(LEN(G66)=4,\"\",IF(LEN(G66)=3,\"\",IF(LEN(G66)=2,\"\",IF(LEN(G66)=1,\"\",\"\"))))&'Web Links'!G66)","v":"?????"},{"$f":"IF(OR(LEFT('Web Links'!$C66,2)=\"In\",$C66=\"Error\"),\"???????????????\",\"\"&F66)","v":"???????????????"}]
[{"$f":"IF('GL Template'!B81<>\"\",'GL Template'!B81,0)","v":0},{"$f":"IF('GL Template'!D81<>\"\",'GL Template'!D81,0)","v":0},"Error",null,null,null,null,null,null,null,null,null,null,{"$f":"IF(OR(LEFT('Web Links'!$C67,2)=\"In\",$C67=\"Error\"),\"?????\",\"\"&C67)","v":"?????"},{"$f":"IF(OR(LEFT('Web Links'!$C67,2)=\"In\",$C67=\"Error\"),\"??????????\",\"\"&D67)","v":"??????????"},{"$f":"IF(OR(LEFT('Web Links'!$C67,2)=\"In\",$C67=\"Error\"),\"???\",IF(LEN(E67)=2,\"0\",IF(LEN(E67)=1,\"00\",\"\")))&'Web Links'!E67","v":"???"},{"$f":"IF(OR(LEFT('Web Links'!$C67,2)=\"In\",$C67=\"Error\"),\"?????\",IF(LEN(G67)=4,\"\",IF(LEN(G67)=3,\"\",IF(LEN(G67)=2,\"\",IF(LEN(G67)=1,\"\",\"\"))))&'Web Links'!G67)","v":"?????"},{"$f":"IF(OR(LEFT('Web Links'!$C67,2)=\"In\",$C67=\"Error\"),\"???????????????\",\"\"&F67)","v":"???????????????"}]
[{"$f":"IF('GL Template'!B82<>\"\",'GL Template'!B82,0)","v":0},{"$f":"IF('GL Template'!D82<>\"\",'GL Template'!D82,0)","v":0},"Error",null,null,null,null,null,null,null,null,null,null,{"$f":"IF(OR(LEFT('Web Links'!$C68,2)=\"In\",$C68=\"Error\"),\"?????\",\"\"&C68)","v":"?????"},{"$f":"IF(OR(LEFT('Web Links'!$C68,2)=\"In\",$C68=\"Error\"),\"??????????\",\"\"&D68)","v":"??????????"},{"$f":"IF(OR(LEFT('Web Links'!$C68,2)=\"In\",$C68=\"Error\"),\"???\",IF(LEN(E68)=2,\"0\",IF(LEN(E68)=1,\"00\",\"\")))&'Web Links'!E68","v":"???"},{"$f":"IF(OR(LEFT('Web Links'!$C68,2)=\"In\",$C68=\"Error\"),\"?????\",IF(LEN(G68)=4,\"\",IF(LEN(G68)=3,\"\",IF(LEN(G68)=2,\"\",IF(LEN(G68)=1,\"\",\"\"))))&'Web Links'!G68)","v":"?????"},{"$f":"IF(OR(LEFT('Web Links'!$C68,2)=\"In\",$C68=\"Error\"),\"???????????????\",\"\"&F68)","v":"???????????????"}]
[{"$f":"IF('GL Template'!B83<>\"\",'GL Template'!B83,0)","v":0},{"$f":"IF('GL Template'!D83<>\"\",'GL Template'!D83,0)","v":0},"Error",null,null,null,null,null,null,null,null,null,null,{"$f":"IF(OR(LEFT('Web Links'!$C69,2)=\"In\",$C69=\"Error\"),\"?????\",\"\"&C69)","v":"?????"},{"$f":"IF(OR(LEFT('Web Links'!$C69,2)=\"In\",$C69=\"Error\"),\"??????????\",\"\"&D69)","v":"??????????"},{"$f":"IF(OR(LEFT('Web Links'!$C69,2)=\"In\",$C69=\"Error\"),\"???\",IF(LEN(E69)=2,\"0\",IF(LEN(E69)=1,\"00\",\"\")))&'Web Links'!E69","v":"???"},{"$f":"IF(OR(LEFT('Web Links'!$C69,2)=\"In\",$C69=\"Error\"),\"?????\",IF(LEN(G69)=4,\"\",IF(LEN(G69)=3,\"\",IF(LEN(G69)=2,\"\",IF(LEN(G69)=1,\"\",\"\"))))&'Web Links'!G69)","v":"?????"},{"$f":"IF(OR(LEFT('Web Links'!$C69,2)=\"In\",$C69=\"Error\"),\"???????????????\",\"\"&F69)","v":"???????????????"}]
[{"$f":"IF('GL Template'!B84<>\"\",'GL Template'!B84,0)","v":0},{"$f":"IF('GL Template'!D84<>\"\",'GL Template'!D84,0)","v":0},"Error",null,null,null,null,null,null,null,null,null,null,{"$f":"IF(OR(LEFT('Web Links'!$C70,2)=\"In\",$C70=\"Error\"),\"?????\",\"\"&C70)","v":"?????"},{"$f":"IF(OR(LEFT('Web Links'!$C70,2)=\"In\",$C70=\"Error\"),\"??????????\",\"\"&D70)","v":"??????????"},{"$f":"IF(OR(LEFT('Web Links'!$C70,2)=\"In\",$C70=\"Error\"),\"???\",IF(LEN(E70)=2,\"0\",IF(LEN(E70)=1,\"00\",\"\")))&'Web Links'!E70","v":"???"},{"$f":"IF(OR(LEFT('Web Links'!$C70,2)=\"In\",$C70=\"Error\"),\"?????\",IF(LEN(G70)=4,\"\",IF(LEN(G70)=3,\"\",IF(LEN(G70)=2,\"\",IF(LEN(G70)=1,\"\",\"\"))))&'Web Links'!G70)","v":"?????"},{"$f":"IF(OR(LEFT('Web Links'!$C70,2)=\"In\",$C70=\"Error\"),\"???????????????\",\"\"&F70)","v":"???????????????"}]
[{"$f":"IF('GL Template'!B85<>\"\",'GL Template'!B85,0)","v":0},{"$f":"IF('GL Template'!D85<>\"\",'GL Template'!D85,0)","v":0},"Error",null,null,null,null,null,null,null,null,null,null,{"$f":"IF(OR(LEFT('Web Links'!$C71,2)=\"In\",$C71=\"Error\"),\"?????\",\"\"&C71)","v":"?????"},{"$f":"IF(OR(LEFT('Web Links'!$C71,2)=\"In\",$C71=\"Error\"),\"??????????\",\"\"&D71)","v":"??????????"},{"$f":"IF(OR(LEFT('Web Links'!$C71,2)=\"In\",$C71=\"Error\"),\"???\",IF(LEN(E71)=2,\"0\",IF(LEN(E71)=1,\"00\",\"\")))&'Web Links'!E71","v":"???"},{"$f":"IF(OR(LEFT('Web Links'!$C71,2)=\"In\",$C71=\"Error\"),\"?????\",IF(LEN(G71)=4,\"\",IF(LEN(G71)=3,\"\",IF(LEN(G71)=2,\"\",IF(LEN(G71)=1,\"\",\"\"))))&'Web Links'!G71)","v":"?????"},{"$f":"IF(OR(LEFT('Web Links'!$C71,2)=\"In\",$C71=\"Error\"),\"???????????????\",\"\"&F71)","v":"???????????????"}]
[{"$f":"IF('GL Template'!B86<>\"\",'GL Template'!B86,0)","v":0},{"$f":"IF('GL Template'!D86<>\"\",'GL Template'!D86,0)","v":0},"Error",null,null,null,null,null,null,null,null,null,null,{"$f":"IF(OR(LEFT('Web Links'!$C72,2)=\"In\",$C72=\"Error\"),\"?????\",\"\"&C72)","v":"?????"},{"$f":"IF(OR(LEFT('Web Links'!$C72,2)=\"In\",$C72=\"Error\"),\"??????????\",\"\"&D72)","v":"??????????"},{"$f":"IF(OR(LEFT('Web Links'!$C72,2)=\"In\",$C72=\"Error\"),\"???\",IF(LEN(E72)=2,\"0\",IF(LEN(E72)=1,\"00\",\"\")))&'Web Links'!E72","v":"???"},{"$f":"IF(OR(LEFT('Web Links'!$C72,2)=\"In\",$C72=\"Error\"),\"?????\",IF(LEN(G72)=4,\"\",IF(LEN(G72)=3,\"\",IF(LEN(G72)=2,\"\",IF(LEN(G72)=1,\"\",\"\"))))&'Web Links'!G72)","v":"?????"},{"$f":"IF(OR(LEFT('Web Links'!$C72,2)=\"In\",$C72=\"Error\"),\"???????????????\",\"\"&F72)","v":"???????????????"}]
[{"$f":"IF('GL Template'!B87<>\"\",'GL Template'!B87,0)","v":0},{"$f":"IF('GL Template'!D87<>\"\",'GL Template'!D87,0)","v":0},"Error",null,null,null,null,null,null,null,null,null,null,{"$f":"IF(OR(LEFT('Web Links'!$C73,2)=\"In\",$C73=\"Error\"),\"?????\",\"\"&C73)","v":"?????"},{"$f":"IF(OR(LEFT('Web Links'!$C73,2)=\"In\",$C73=\"Error\"),\"??????????\",\"\"&D73)","v":"??????????"},{"$f":"IF(OR(LEFT('Web Links'!$C73,2)=\"In\",$C73=\"Error\"),\"???\",IF(LEN(E73)=2,\"0\",IF(LEN(E73)=1,\"00\",\"\")))&'Web Links'!E73","v":"???"},{"$f":"IF(OR(LEFT('Web Links'!$C73,2)=\"In\",$C73=\"Error\"),\"?????\",IF(LEN(G73)=4,\"\",IF(LEN(G73)=3,\"\",IF(LEN(G73)=2,\"\",IF(LEN(G73)=1,\"\",\"\"))))&'Web Links'!G73)","v":"?????"},{"$f":"IF(OR(LEFT('Web Links'!$C73,2)=\"In\",$C73=\"Error\"),\"???????????????\",\"\"&F73)","v":"???????????????"}]
[{"$f":"IF('GL Template'!B88<>\"\",'GL Template'!B88,0)","v":0},{"$f":"IF('GL Template'!D88<>\"\",'GL Template'!D88,0)","v":0},"Error",null,null,null,null,null,null,null,null,null,null,{"$f":"IF(OR(LEFT('Web Links'!$C74,2)=\"In\",$C74=\"Error\"),\"?????\",\"\"&C74)","v":"?????"},{"$f":"IF(OR(LEFT('Web Links'!$C74,2)=\"In\",$C74=\"Error\"),\"??????????\",\"\"&D74)","v":"??????????"},{"$f":"IF(OR(LEFT('Web Links'!$C74,2)=\"In\",$C74=\"Error\"),\"???\",IF(LEN(E74)=2,\"0\",IF(LEN(E74)=1,\"00\",\"\")))&'Web Links'!E74","v":"???"},{"$f":"IF(OR(LEFT('Web Links'!$C74,2)=\"In\",$C74=\"Error\"),\"?????\",IF(LEN(G74)=4,\"\",IF(LEN(G74)=3,\"\",IF(LEN(G74)=2,\"\",IF(LEN(G74)=1,\"\",\"\"))))&'Web Links'!G74)","v":"?????"},{"$f":"IF(OR(LEFT('Web Links'!$C74,2)=\"In\",$C74=\"Error\"),\"???????????????\",\"\"&F74)","v":"???????????????"}]
[{"$f":"IF('GL Template'!B89<>\"\",'GL Template'!B89,0)","v":0},{"$f":"IF('GL Template'!D89<>\"\",'GL Template'!D89,0)","v":0},"Error",null,null,null,null,null,null,null,null,null,null,{"$f":"IF(OR(LEFT('Web Links'!$C75,2)=\"In\",$C75=\"Error\"),\"?????\",\"\"&C75)","v":"?????"},{"$f":"IF(OR(LEFT('Web Links'!$C75,2)=\"In\",$C75=\"Error\"),\"??????????\",\"\"&D75)","v":"??????????"},{"$f":"IF(OR(LEFT('Web Links'!$C75,2)=\"In\",$C75=\"Error\"),\"???\",IF(LEN(E75)=2,\"0\",IF(LEN(E75)=1,\"00\",\"\")))&'Web Links'!E75","v":"???"},{"$f":"IF(OR(LEFT('Web Links'!$C75,2)=\"In\",$C75=\"Error\"),\"?????\",IF(LEN(G75)=4,\"\",IF(LEN(G75)=3,\"\",IF(LEN(G75)=2,\"\",IF(LEN(G75)=1,\"\",\"\"))))&'Web Links'!G75)","v":"?????"},{"$f":"IF(OR(LEFT('Web Links'!$C75,2)=\"In\",$C75=\"Error\"),\"???????????????\",\"\"&F75)","v":"???????????????"}]
[{"$f":"IF('GL Template'!B90<>\"\",'GL Template'!B90,0)","v":0},{"$f":"IF('GL Template'!D90<>\"\",'GL Template'!D90,0)","v":0},"Error",null,null,null,null,null,null,null,null,null,null,{"$f":"IF(OR(LEFT('Web Links'!$C76,2)=\"In\",$C76=\"Error\"),\"?????\",\"\"&C76)","v":"?????"},{"$f":"IF(OR(LEFT('Web Links'!$C76,2)=\"In\",$C76=\"Error\"),\"??????????\",\"\"&D76)","v":"??????????"},{"$f":"IF(OR(LEFT('Web Links'!$C76,2)=\"In\",$C76=\"Error\"),\"???\",IF(LEN(E76)=2,\"0\",IF(LEN(E76)=1,\"00\",\"\")))&'Web Links'!E76","v":"???"},{"$f":"IF(OR(LEFT('Web Links'!$C76,2)=\"In\",$C76=\"Error\"),\"?????\",IF(LEN(G76)=4,\"\",IF(LEN(G76)=3,\"\",IF(LEN(G76)=2,\"\",IF(LEN(G76)=1,\"\",\"\"))))&'Web Links'!G76)","v":"?????"},{"$f":"IF(OR(LEFT('Web Links'!$C76,2)=\"In\",$C76=\"Error\"),\"???????????????\",\"\"&F76)","v":"???????????????"}]
[{"$f":"IF('GL Template'!B91<>\"\",'GL Template'!B91,0)","v":0},{"$f":"IF('GL Template'!D91<>\"\",'GL Template'!D91,0)","v":0},"Error",null,null,null,null,null,null,null,null,null,null,{"$f":"IF(OR(LEFT('Web Links'!$C77,2)=\"In\",$C77=\"Error\"),\"?????\",\"\"&C77)","v":"?????"},{"$f":"IF(OR(LEFT('Web Links'!$C77,2)=\"In\",$C77=\"Error\"),\"??????????\",\"\"&D77)","v":"??????????"},{"$f":"IF(OR(LEFT('Web Links'!$C77,2)=\"In\",$C77=\"Error\"),\"???\",IF(LEN(E77)=2,\"0\",IF(LEN(E77)=1,\"00\",\"\")))&'Web Links'!E77","v":"???"},{"$f":"IF(OR(LEFT('Web Links'!$C77,2)=\"In\",$C77=\"Error\"),\"?????\",IF(LEN(G77)=4,\"\",IF(LEN(G77)=3,\"\",IF(LEN(G77)=2,\"\",IF(LEN(G77)=1,\"\",\"\"))))&'Web Links'!G77)","v":"?????"},{"$f":"IF(OR(LEFT('Web Links'!$C77,2)=\"In\",$C77=\"Error\"),\"???????????????\",\"\"&F77)","v":"???????????????"}]
[{"$f":"IF('GL Template'!B92<>\"\",'GL Template'!B92,0)","v":0},{"$f":"IF('GL Template'!D92<>\"\",'GL Template'!D92,0)","v":0},"Error",null,null,null,null,null,null,null,null,null,null,{"$f":"IF(OR(LEFT('Web Links'!$C78,2)=\"In\",$C78=\"Error\"),\"?????\",\"\"&C78)","v":"?????"},{"$f":"IF(OR(LEFT('Web Links'!$C78,2)=\"In\",$C78=\"Error\"),\"??????????\",\"\"&D78)","v":"??????????"},{"$f":"IF(OR(LEFT('Web Links'!$C78,2)=\"In\",$C78=\"Error\"),\"???\",IF(LEN(E78)=2,\"0\",IF(LEN(E78)=1,\"00\",\"\")))&'Web Links'!E78","v":"???"},{"$f":"IF(OR(LEFT('Web Links'!$C78,2)=\"In\",$C78=\"Error\"),\"?????\",IF(LEN(G78)=4,\"\",IF(LEN(G78)=3,\"\",IF(LEN(G78)=2,\"\",IF(LEN(G78)=1,\"\",\"\"))))&'Web Links'!G78)","v":"?????"},{"$f":"IF(OR(LEFT('Web Links'!$C78,2)=\"In\",$C78=\"Error\"),\"???????????????\",\"\"&F78)","v":"???????????????"}]
[{"$f":"IF('GL Template'!B93<>\"\",'GL Template'!B93,0)","v":0},{"$f":"IF('GL Template'!D93<>\"\",'GL Template'!D93,0)","v":0},"Error",null,null,null,null,null,null,null,null,null,null,{"$f":"IF(OR(LEFT('Web Links'!$C79,2)=\"In\",$C79=\"Error\"),\"?????\",\"\"&C79)","v":"?????"},{"$f":"IF(OR(LEFT('Web Links'!$C79,2)=\"In\",$C79=\"Error\"),\"??????????\",\"\"&D79)","v":"??????????"},{"$f":"IF(OR(LEFT('Web Links'!$C79,2)=\"In\",$C79=\"Error\"),\"???\",IF(LEN(E79)=2,\"0\",IF(LEN(E79)=1,\"00\",\"\")))&'Web Links'!E79","v":"???"},{"$f":"IF(OR(LEFT('Web Links'!$C79,2)=\"In\",$C79=\"Error\"),\"?????\",IF(LEN(G79)=4,\"\",IF(LEN(G79)=3,\"\",IF(LEN(G79)=2,\"\",IF(LEN(G79)=1,\"\",\"\"))))&'Web Links'!G79)","v":"?????"},{"$f":"IF(OR(LEFT('Web Links'!$C79,2)=\"In\",$C79=\"Error\"),\"???????????????\",\"\"&F79)","v":"???????????????"}]
[{"$f":"IF('GL Template'!B94<>\"\",'GL Template'!B94,0)","v":0},{"$f":"IF('GL Template'!D94<>\"\",'GL Template'!D94,0)","v":0},"Error",null,null,null,null,null,null,null,null,null,null,{"$f":"IF(OR(LEFT('Web Links'!$C80,2)=\"In\",$C80=\"Error\"),\"?????\",\"\"&C80)","v":"?????"},{"$f":"IF(OR(LEFT('Web Links'!$C80,2)=\"In\",$C80=\"Error\"),\"??????????\",\"\"&D80)","v":"??????????"},{"$f":"IF(OR(LEFT('Web Links'!$C80,2)=\"In\",$C80=\"Error\"),\"???\",IF(LEN(E80)=2,\"0\",IF(LEN(E80)=1,\"00\",\"\")))&'Web Links'!E80","v":"???"},{"$f":"IF(OR(LEFT('Web Links'!$C80,2)=\"In\",$C80=\"Error\"),\"?????\",IF(LEN(G80)=4,\"\",IF(LEN(G80)=3,\"\",IF(LEN(G80)=2,\"\",IF(LEN(G80)=1,\"\",\"\"))))&'Web Links'!G80)","v":"?????"},{"$f":"IF(OR(LEFT('Web Links'!$C80,2)=\"In\",$C80=\"Error\"),\"???????????????\",\"\"&F80)","v":"???????????????"}]
[{"$f":"IF('GL Template'!B95<>\"\",'GL Template'!B95,0)","v":0},{"$f":"IF('GL Template'!D95<>\"\",'GL Template'!D95,0)","v":0},"Error",null,null,null,null,null,null,null,null,null,null,{"$f":"IF(OR(LEFT('Web Links'!$C81,2)=\"In\",$C81=\"Error\"),\"?????\",\"\"&C81)","v":"?????"},{"$f":"IF(OR(LEFT('Web Links'!$C81,2)=\"In\",$C81=\"Error\"),\"??????????\",\"\"&D81)","v":"??????????"},{"$f":"IF(OR(LEFT('Web Links'!$C81,2)=\"In\",$C81=\"Error\"),\"???\",IF(LEN(E81)=2,\"0\",IF(LEN(E81)=1,\"00\",\"\")))&'Web Links'!E81","v":"???"},{"$f":"IF(OR(LEFT('Web Links'!$C81,2)=\"In\",$C81=\"Error\"),\"?????\",IF(LEN(G81)=4,\"\",IF(LEN(G81)=3,\"\",IF(LEN(G81)=2,\"\",IF(LEN(G81)=1,\"\",\"\"))))&'Web Links'!G81)","v":"?????"},{"$f":"IF(OR(LEFT('Web Links'!$C81,2)=\"In\",$C81=\"Error\"),\"???????????????\",\"\"&F81)","v":"???????????????"}]
[{"$f":"IF('GL Template'!B96<>\"\",'GL Template'!B96,0)","v":0},{"$f":"IF('GL Template'!D96<>\"\",'GL Template'!D96,0)","v":0},"Error",null,null,null,null,null,null,null,null,null,null,{"$f":"IF(OR(LEFT('Web Links'!$C82,2)=\"In\",$C82=\"Error\"),\"?????\",\"\"&C82)","v":"?????"},{"$f":"IF(OR(LEFT('Web Links'!$C82,2)=\"In\",$C82=\"Error\"),\"??????????\",\"\"&D82)","v":"??????????"},{"$f":"IF(OR(LEFT('Web Links'!$C82,2)=\"In\",$C82=\"Error\"),\"???\",IF(LEN(E82)=2,\"0\",IF(LEN(E82)=1,\"00\",\"\")))&'Web Links'!E82","v":"???"},{"$f":"IF(OR(LEFT('Web Links'!$C82,2)=\"In\",$C82=\"Error\"),\"?????\",IF(LEN(G82)=4,\"\",IF(LEN(G82)=3,\"\",IF(LEN(G82)=2,\"\",IF(LEN(G82)=1,\"\",\"\"))))&'Web Links'!G82)","v":"?????"},{"$f":"IF(OR(LEFT('Web Links'!$C82,2)=\"In\",$C82=\"Error\"),\"???????????????\",\"\"&F82)","v":"???????????????"}]
[{"$f":"IF('GL Template'!B97<>\"\",'GL Template'!B97,0)","v":0},{"$f":"IF('GL Template'!D97<>\"\",'GL Template'!D97,0)","v":0},"Error",null,null,null,null,null,null,null,null,null,null,{"$f":"IF(OR(LEFT('Web Links'!$C83,2)=\"In\",$C83=\"Error\"),\"?????\",\"\"&C83)","v":"?????"},{"$f":"IF(OR(LEFT('Web Links'!$C83,2)=\"In\",$C83=\"Error\"),\"??????????\",\"\"&D83)","v":"??????????"},{"$f":"IF(OR(LEFT('Web Links'!$C83,2)=\"In\",$C83=\"Error\"),\"???\",IF(LEN(E83)=2,\"0\",IF(LEN(E83)=1,\"00\",\"\")))&'Web Links'!E83","v":"???"},{"$f":"IF(OR(LEFT('Web Links'!$C83,2)=\"In\",$C83=\"Error\"),\"?????\",IF(LEN(G83)=4,\"\",IF(LEN(G83)=3,\"\",IF(LEN(G83)=2,\"\",IF(LEN(G83)=1,\"\",\"\"))))&'Web Links'!G83)","v":"?????"},{"$f":"IF(OR(LEFT('Web Links'!$C83,2)=\"In\",$C83=\"Error\"),\"???????????????\",\"\"&F83)","v":"???????????????"}]
[{"$f":"IF('GL Template'!B98<>\"\",'GL Template'!B98,0)","v":0},{"$f":"IF('GL Template'!D98<>\"\",'GL Template'!D98,0)","v":0},"Error",null,null,null,null,null,null,null,null,null,null,{"$f":"IF(OR(LEFT('Web Links'!$C84,2)=\"In\",$C84=\"Error\"),\"?????\",\"\"&C84)","v":"?????"},{"$f":"IF(OR(LEFT('Web Links'!$C84,2)=\"In\",$C84=\"Error\"),\"??????????\",\"\"&D84)","v":"??????????"},{"$f":"IF(OR(LEFT('Web Links'!$C84,2)=\"In\",$C84=\"Error\"),\"???\",IF(LEN(E84)=2,\"0\",IF(LEN(E84)=1,\"00\",\"\")))&'Web Links'!E84","v":"???"},{"$f":"IF(OR(LEFT('Web Links'!$C84,2)=\"In\",$C84=\"Error\"),\"?????\",IF(LEN(G84)=4,\"\",IF(LEN(G84)=3,\"\",IF(LEN(G84)=2,\"\",IF(LEN(G84)=1,\"\",\"\"))))&'Web Links'!G84)","v":"?????"},{"$f":"IF(OR(LEFT('Web Links'!$C84,2)=\"In\",$C84=\"Error\"),\"???????????????\",\"\"&F84)","v":"???????????????"}]
[{"$f":"IF('GL Template'!B99<>\"\",'GL Template'!B99,0)","v":0},{"$f":"IF('GL Template'!D99<>\"\",'GL Template'!D99,0)","v":0},"Error",null,null,null,null,null,null,null,null,null,null,{"$f":"IF(OR(LEFT('Web Links'!$C85,2)=\"In\",$C85=\"Error\"),\"?????\",\"\"&C85)","v":"?????"},{"$f":"IF(OR(LEFT('Web Links'!$C85,2)=\"In\",$C85=\"Error\"),\"??????????\",\"\"&D85)","v":"??????????"},{"$f":"IF(OR(LEFT('Web Links'!$C85,2)=\"In\",$C85=\"Error\"),\"???\",IF(LEN(E85)=2,\"0\",IF(LEN(E85)=1,\"00\",\"\")))&'Web Links'!E85","v":"???"},{"$f":"IF(OR(LEFT('Web Links'!$C85,2)=\"In\",$C85=\"Error\"),\"?????\",IF(LEN(G85)=4,\"\",IF(LEN(G85)=3,\"\",IF(LEN(G85)=2,\"\",IF(LEN(G85)=1,\"\",\"\"))))&'Web Links'!G85)","v":"?????"},{"$f":"IF(OR(LEFT('Web Links'!$C85,2)=\"In\",$C85=\"Error\"),\"???????????????\",\"\"&F85)","v":"???????????????"}]
[{"$f":"IF('GL Template'!B100<>\"\",'GL Template'!B100,0)","v":0},{"$f":"IF('GL Template'!D100<>\"\",'GL Template'!D100,0)","v":0},"Error",null,null,null,null,null,null,null,null,null,null,{"$f":"IF(OR(LEFT('Web Links'!$C86,2)=\"In\",$C86=\"Error\"),\"?????\",\"\"&C86)","v":"?????"},{"$f":"IF(OR(LEFT('Web Links'!$C86,2)=\"In\",$C86=\"Error\"),\"??????????\",\"\"&D86)","v":"??????????"},{"$f":"IF(OR(LEFT('Web Links'!$C86,2)=\"In\",$C86=\"Error\"),\"???\",IF(LEN(E86)=2,\"0\",IF(LEN(E86)=1,\"00\",\"\")))&'Web Links'!E86","v":"???"},{"$f":"IF(OR(LEFT('Web Links'!$C86,2)=\"In\",$C86=\"Error\"),\"?????\",IF(LEN(G86)=4,\"\",IF(LEN(G86)=3,\"\",IF(LEN(G86)=2,\"\",IF(LEN(G86)=1,\"\",\"\"))))&'Web Links'!G86)","v":"?????"},{"$f":"IF(OR(LEFT('Web Links'!$C86,2)=\"In\",$C86=\"Error\"),\"???????????????\",\"\"&F86)","v":"???????????????"}]
[{"$f":"IF('GL Template'!B101<>\"\",'GL Template'!B101,0)","v":0},{"$f":"IF('GL Template'!D101<>\"\",'GL Template'!D101,0)","v":0},"Error",null,null,null,null,null,null,null,null,null,null,{"$f":"IF(OR(LEFT('Web Links'!$C87,2)=\"In\",$C87=\"Error\"),\"?????\",\"\"&C87)","v":"?????"},{"$f":"IF(OR(LEFT('Web Links'!$C87,2)=\"In\",$C87=\"Error\"),\"??????????\",\"\"&D87)","v":"??????????"},{"$f":"IF(OR(LEFT('Web Links'!$C87,2)=\"In\",$C87=\"Error\"),\"???\",IF(LEN(E87)=2,\"0\",IF(LEN(E87)=1,\"00\",\"\")))&'Web Links'!E87","v":"???"},{"$f":"IF(OR(LEFT('Web Links'!$C87,2)=\"In\",$C87=\"Error\"),\"?????\",IF(LEN(G87)=4,\"\",IF(LEN(G87)=3,\"\",IF(LEN(G87)=2,\"\",IF(LEN(G87)=1,\"\",\"\"))))&'Web Links'!G87)","v":"?????"},{"$f":"IF(OR(LEFT('Web Links'!$C87,2)=\"In\",$C87=\"Error\"),\"???????????????\",\"\"&F87)","v":"???????????????"}]
[{"$f":"IF('GL Template'!B102<>\"\",'GL Template'!B102,0)","v":0},{"$f":"IF('GL Template'!D102<>\"\",'GL Template'!D102,0)","v":0},"Error",null,null,null,null,null,null,null,null,null,null,{"$f":"IF(OR(LEFT('Web Links'!$C88,2)=\"In\",$C88=\"Error\"),\"?????\",\"\"&C88)","v":"?????"},{"$f":"IF(OR(LEFT('Web Links'!$C88,2)=\"In\",$C88=\"Error\"),\"??????????\",\"\"&D88)","v":"??????????"},{"$f":"IF(OR(LEFT('Web Links'!$C88,2)=\"In\",$C88=\"Error\"),\"???\",IF(LEN(E88)=2,\"0\",IF(LEN(E88)=1,\"00\",\"\")))&'Web Links'!E88","v":"???"},{"$f":"IF(OR(LEFT('Web Links'!$C88,2)=\"In\",$C88=\"Error\"),\"?????\",IF(LEN(G88)=4,\"\",IF(LEN(G88)=3,\"\",IF(LEN(G88)=2,\"\",IF(LEN(G88)=1,\"\",\"\"))))&'Web Links'!G88)","v":"?????"},{"$f":"IF(OR(LEFT('Web Links'!$C88,2)=\"In\",$C88=\"Error\"),\"???????????????\",\"\"&F88)","v":"???????????????"}]
[{"$f":"IF('GL Template'!B103<>\"\",'GL Template'!B103,0)","v":0},{"$f":"IF('GL Template'!D103<>\"\",'GL Template'!D103,0)","v":0},"Error",null,null,null,null,null,null,null,null,null,null,{"$f":"IF(OR(LEFT('Web Links'!$C89,2)=\"In\",$C89=\"Error\"),\"?????\",\"\"&C89)","v":"?????"},{"$f":"IF(OR(LEFT('Web Links'!$C89,2)=\"In\",$C89=\"Error\"),\"??????????\",\"\"&D89)","v":"??????????"},{"$f":"IF(OR(LEFT('Web Links'!$C89,2)=\"In\",$C89=\"Error\"),\"???\",IF(LEN(E89)=2,\"0\",IF(LEN(E89)=1,\"00\",\"\")))&'Web Links'!E89","v":"???"},{"$f":"IF(OR(LEFT('Web Links'!$C89,2)=\"In\",$C89=\"Error\"),\"?????\",IF(LEN(G89)=4,\"\",IF(LEN(G89)=3,\"\",IF(LEN(G89)=2,\"\",IF(LEN(G89)=1,\"\",\"\"))))&'Web Links'!G89)","v":"?????"},{"$f":"IF(OR(LEFT('Web Links'!$C89,2)=\"In\",$C89=\"Error\"),\"???????????????\",\"\"&F89)","v":"???????????????"}]
[{"$f":"IF('GL Template'!B104<>\"\",'GL Template'!B104,0)","v":0},{"$f":"IF('GL Template'!D104<>\"\",'GL Template'!D104,0)","v":0},"Error",null,null,null,null,null,null,null,null,null,null,{"$f":"IF(OR(LEFT('Web Links'!$C90,2)=\"In\",$C90=\"Error\"),\"?????\",\"\"&C90)","v":"?????"},{"$f":"IF(OR(LEFT('Web Links'!$C90,2)=\"In\",$C90=\"Error\"),\"??????????\",\"\"&D90)","v":"??????????"},{"$f":"IF(OR(LEFT('Web Links'!$C90,2)=\"In\",$C90=\"Error\"),\"???\",IF(LEN(E90)=2,\"0\",IF(LEN(E90)=1,\"00\",\"\")))&'Web Links'!E90","v":"???"},{"$f":"IF(OR(LEFT('Web Links'!$C90,2)=\"In\",$C90=\"Error\"),\"?????\",IF(LEN(G90)=4,\"\",IF(LEN(G90)=3,\"\",IF(LEN(G90)=2,\"\",IF(LEN(G90)=1,\"\",\"\"))))&'Web Links'!G90)","v":"?????"},{"$f":"IF(OR(LEFT('Web Links'!$C90,2)=\"In\",$C90=\"Error\"),\"???????????????\",\"\"&F90)","v":"???????????????"}]
[{"$f":"IF('GL Template'!B105<>\"\",'GL Template'!B105,0)","v":0},{"$f":"IF('GL Template'!D105<>\"\",'GL Template'!D105,0)","v":0},"Error",null,null,null,null,null,null,null,null,null,null,{"$f":"IF(OR(LEFT('Web Links'!$C91,2)=\"In\",$C91=\"Error\"),\"?????\",\"\"&C91)","v":"?????"},{"$f":"IF(OR(LEFT('Web Links'!$C91,2)=\"In\",$C91=\"Error\"),\"??????????\",\"\"&D91)","v":"??????????"},{"$f":"IF(OR(LEFT('Web Links'!$C91,2)=\"In\",$C91=\"Error\"),\"???\",IF(LEN(E91)=2,\"0\",IF(LEN(E91)=1,\"00\",\"\")))&'Web Links'!E91","v":"???"},{"$f":"IF(OR(LEFT('Web Links'!$C91,2)=\"In\",$C91=\"Error\"),\"?????\",IF(LEN(G91)=4,\"\",IF(LEN(G91)=3,\"\",IF(LEN(G91)=2,\"\",IF(LEN(G91)=1,\"\",\"\"))))&'Web Links'!G91)","v":"?????"},{"$f":"IF(OR(LEFT('Web Links'!$C91,2)=\"In\",$C91=\"Error\"),\"???????????????\",\"\"&F91)","v":"???????????????"}]
[{"$f":"IF('GL Template'!B106<>\"\",'GL Template'!B106,0)","v":0},{"$f":"IF('GL Template'!D106<>\"\",'GL Template'!D106,0)","v":0},"Error",null,null,null,null,null,null,null,null,null,null,{"$f":"IF(OR(LEFT('Web Links'!$C92,2)=\"In\",$C92=\"Error\"),\"?????\",\"\"&C92)","v":"?????"},{"$f":"IF(OR(LEFT('Web Links'!$C92,2)=\"In\",$C92=\"Error\"),\"??????????\",\"\"&D92)","v":"??????????"},{"$f":"IF(OR(LEFT('Web Links'!$C92,2)=\"In\",$C92=\"Error\"),\"???\",IF(LEN(E92)=2,\"0\",IF(LEN(E92)=1,\"00\",\"\")))&'Web Links'!E92","v":"???"},{"$f":"IF(OR(LEFT('Web Links'!$C92,2)=\"In\",$C92=\"Error\"),\"?????\",IF(LEN(G92)=4,\"\",IF(LEN(G92)=3,\"\",IF(LEN(G92)=2,\"\",IF(LEN(G92)=1,\"\",\"\"))))&'Web Links'!G92)","v":"?????"},{"$f":"IF(OR(LEFT('Web Links'!$C92,2)=\"In\",$C92=\"Error\"),\"???????????????\",\"\"&F92)","v":"???????????????"}]
[{"$f":"IF('GL Template'!B107<>\"\",'GL Template'!B107,0)","v":0},{"$f":"IF('GL Template'!D107<>\"\",'GL Template'!D107,0)","v":0},"Error",null,null,null,null,null,null,null,null,null,null,{"$f":"IF(OR(LEFT('Web Links'!$C93,2)=\"In\",$C93=\"Error\"),\"?????\",\"\"&C93)","v":"?????"},{"$f":"IF(OR(LEFT('Web Links'!$C93,2)=\"In\",$C93=\"Error\"),\"??????????\",\"\"&D93)","v":"??????????"},{"$f":"IF(OR(LEFT('Web Links'!$C93,2)=\"In\",$C93=\"Error\"),\"???\",IF(LEN(E93)=2,\"0\",IF(LEN(E93)=1,\"00\",\"\")))&'Web Links'!E93","v":"???"},{"$f":"IF(OR(LEFT('Web Links'!$C93,2)=\"In\",$C93=\"Error\"),\"?????\",IF(LEN(G93)=4,\"\",IF(LEN(G93)=3,\"\",IF(LEN(G93)=2,\"\",IF(LEN(G93)=1,\"\",\"\"))))&'Web Links'!G93)","v":"?????"},{"$f":"IF(OR(LEFT('Web Links'!$C93,2)=\"In\",$C93=\"Error\"),\"???????????????\",\"\"&F93)","v":"???????????????"}]
[{"$f":"IF('GL Template'!B108<>\"\",'GL Template'!B108,0)","v":0},{"$f":"IF('GL Template'!D108<>\"\",'GL Template'!D108,0)","v":0},"Error",null,null,null,null,null,null,null,null,null,null,{"$f":"IF(OR(LEFT('Web Links'!$C94,2)=\"In\",$C94=\"Error\"),\"?????\",\"\"&C94)","v":"?????"},{"$f":"IF(OR(LEFT('Web Links'!$C94,2)=\"In\",$C94=\"Error\"),\"??????????\",\"\"&D94)","v":"??????????"},{"$f":"IF(OR(LEFT('Web Links'!$C94,2)=\"In\",$C94=\"Error\"),\"???\",IF(LEN(E94)=2,\"0\",IF(LEN(E94)=1,\"00\",\"\")))&'Web Links'!E94","v":"???"},{"$f":"IF(OR(LEFT('Web Links'!$C94,2)=\"In\",$C94=\"Error\"),\"?????\",IF(LEN(G94)=4,\"\",IF(LEN(G94)=3,\"\",IF(LEN(G94)=2,\"\",IF(LEN(G94)=1,\"\",\"\"))))&'Web Links'!G94)","v":"?????"},{"$f":"IF(OR(LEFT('Web Links'!$C94,2)=\"In\",$C94=\"Error\"),\"???????????????\",\"\"&F94)","v":"???????????????"}]
[{"$f":"IF('GL Template'!B109<>\"\",'GL Template'!B109,0)","v":0},{"$f":"IF('GL Template'!D109<>\"\",'GL Template'!D109,0)","v":0},"Error",null,null,null,null,null,null,null,null,null,null,{"$f":"IF(OR(LEFT('Web Links'!$C95,2)=\"In\",$C95=\"Error\"),\"?????\",\"\"&C95)","v":"?????"},{"$f":"IF(OR(LEFT('Web Links'!$C95,2)=\"In\",$C95=\"Error\"),\"??????????\",\"\"&D95)","v":"??????????"},{"$f":"IF(OR(LEFT('Web Links'!$C95,2)=\"In\",$C95=\"Error\"),\"???\",IF(LEN(E95)=2,\"0\",IF(LEN(E95)=1,\"00\",\"\")))&'Web Links'!E95","v":"???"},{"$f":"IF(OR(LEFT('Web Links'!$C95,2)=\"In\",$C95=\"Error\"),\"?????\",IF(LEN(G95)=4,\"\",IF(LEN(G95)=3,\"\",IF(LEN(G95)=2,\"\",IF(LEN(G95)=1,\"\",\"\"))))&'Web Links'!G95)","v":"?????"},{"$f":"IF(OR(LEFT('Web Links'!$C95,2)=\"In\",$C95=\"Error\"),\"???????????????\",\"\"&F95)","v":"???????????????"}]
[{"$f":"IF('GL Template'!B110<>\"\",'GL Template'!B110,0)","v":0},{"$f":"IF('GL Template'!D110<>\"\",'GL Template'!D110,0)","v":0},"Error",null,null,null,null,null,null,null,null,null,null,{"$f":"IF(OR(LEFT('Web Links'!$C96,2)=\"In\",$C96=\"Error\"),\"?????\",\"\"&C96)","v":"?????"},{"$f":"IF(OR(LEFT('Web Links'!$C96,2)=\"In\",$C96=\"Error\"),\"??????????\",\"\"&D96)","v":"??????????"},{"$f":"IF(OR(LEFT('Web Links'!$C96,2)=\"In\",$C96=\"Error\"),\"???\",IF(LEN(E96)=2,\"0\",IF(LEN(E96)=1,\"00\",\"\")))&'Web Links'!E96","v":"???"},{"$f":"IF(OR(LEFT('Web Links'!$C96,2)=\"In\",$C96=\"Error\"),\"?????\",IF(LEN(G96)=4,\"\",IF(LEN(G96)=3,\"\",IF(LEN(G96)=2,\"\",IF(LEN(G96)=1,\"\",\"\"))))&'Web Links'!G96)","v":"?????"},{"$f":"IF(OR(LEFT('Web Links'!$C96,2)=\"In\",$C96=\"Error\"),\"???????????????\",\"\"&F96)","v":"???????????????"}]
[{"$f":"IF('GL Template'!B111<>\"\",'GL Template'!B111,0)","v":0},{"$f":"IF('GL Template'!D111<>\"\",'GL Template'!D111,0)","v":0},"Error",null,null,null,null,null,null,null,null,null,null,{"$f":"IF(OR(LEFT('Web Links'!$C97,2)=\"In\",$C97=\"Error\"),\"?????\",\"\"&C97)","v":"?????"},{"$f":"IF(OR(LEFT('Web Links'!$C97,2)=\"In\",$C97=\"Error\"),\"??????????\",\"\"&D97)","v":"??????????"},{"$f":"IF(OR(LEFT('Web Links'!$C97,2)=\"In\",$C97=\"Error\"),\"???\",IF(LEN(E97)=2,\"0\",IF(LEN(E97)=1,\"00\",\"\")))&'Web Links'!E97","v":"???"},{"$f":"IF(OR(LEFT('Web Links'!$C97,2)=\"In\",$C97=\"Error\"),\"?????\",IF(LEN(G97)=4,\"\",IF(LEN(G97)=3,\"\",IF(LEN(G97)=2,\"\",IF(LEN(G97)=1,\"\",\"\"))))&'Web Links'!G97)","v":"?????"},{"$f":"IF(OR(LEFT('Web Links'!$C97,2)=\"In\",$C97=\"Error\"),\"???????????????\",\"\"&F97)","v":"???????????????"}]
[{"$f":"IF('GL Template'!B112<>\"\",'GL Template'!B112,0)","v":0},{"$f":"IF('GL Template'!D112<>\"\",'GL Template'!D112,0)","v":0},"Error",null,null,null,null,null,null,null,null,null,null,{"$f":"IF(OR(LEFT('Web Links'!$C98,2)=\"In\",$C98=\"Error\"),\"?????\",\"\"&C98)","v":"?????"},{"$f":"IF(OR(LEFT('Web Links'!$C98,2)=\"In\",$C98=\"Error\"),\"??????????\",\"\"&D98)","v":"??????????"},{"$f":"IF(OR(LEFT('Web Links'!$C98,2)=\"In\",$C98=\"Error\"),\"???\",IF(LEN(E98)=2,\"0\",IF(LEN(E98)=1,\"00\",\"\")))&'Web Links'!E98","v":"???"},{"$f":"IF(OR(LEFT('Web Links'!$C98,2)=\"In\",$C98=\"Error\"),\"?????\",IF(LEN(G98)=4,\"\",IF(LEN(G98)=3,\"\",IF(LEN(G98)=2,\"\",IF(LEN(G98)=1,\"\",\"\"))))&'Web Links'!G98)","v":"?????"},{"$f":"IF(OR(LEFT('Web Links'!$C98,2)=\"In\",$C98=\"Error\"),\"???????????????\",\"\"&F98)","v":"???????????????"}]
[{"$f":"IF('GL Template'!B113<>\"\",'GL Template'!B113,0)","v":0},{"$f":"IF('GL Template'!D113<>\"\",'GL Template'!D113,0)","v":0},"Error",null,null,null,null,null,null,null,null,null,null,{"$f":"IF(OR(LEFT('Web Links'!$C99,2)=\"In\",$C99=\"Error\"),\"?????\",\"\"&C99)","v":"?????"},{"$f":"IF(OR(LEFT('Web Links'!$C99,2)=\"In\",$C99=\"Error\"),\"??????????\",\"\"&D99)","v":"??????????"},{"$f":"IF(OR(LEFT('Web Links'!$C99,2)=\"In\",$C99=\"Error\"),\"???\",IF(LEN(E99)=2,\"0\",IF(LEN(E99)=1,\"00\",\"\")))&'Web Links'!E99","v":"???"},{"$f":"IF(OR(LEFT('Web Links'!$C99,2)=\"In\",$C99=\"Error\"),\"?????\",IF(LEN(G99)=4,\"\",IF(LEN(G99)=3,\"\",IF(LEN(G99)=2,\"\",IF(LEN(G99)=1,\"\",\"\"))))&'Web Links'!G99)","v":"?????"},{"$f":"IF(OR(LEFT('Web Links'!$C99,2)=\"In\",$C99=\"Error\"),\"???????????????\",\"\"&F99)","v":"???????????????"}]
[{"$f":"IF('GL Template'!B114<>\"\",'GL Template'!B114,0)","v":0},{"$f":"IF('GL Template'!D114<>\"\",'GL Template'!D114,0)","v":0},"Error",null,null,null,null,null,null,null,null,null,null,{"$f":"IF(OR(LEFT('Web Links'!$C100,2)=\"In\",$C100=\"Error\"),\"?????\",\"\"&C100)","v":"?????"},{"$f":"IF(OR(LEFT('Web Links'!$C100,2)=\"In\",$C100=\"Error\"),\"??????????\",\"\"&D100)","v":"??????????"},{"$f":"IF(OR(LEFT('Web Links'!$C100,2)=\"In\",$C100=\"Error\"),\"???\",IF(LEN(E100)=2,\"0\",IF(LEN(E100)=1,\"00\",\"\")))&'Web Links'!E100","v":"???"},{"$f":"IF(OR(LEFT('Web Links'!$C100,2)=\"In\",$C100=\"Error\"),\"?????\",IF(LEN(G100)=4,\"\",IF(LEN(G100)=3,\"\",IF(LEN(G100)=2,\"\",IF(LEN(G100)=1,\"\",\"\"))))&'Web Links'!G100)","v":"?????"},{"$f":"IF(OR(LEFT('Web Links'!$C100,2)=\"In\",$C100=\"Error\"),\"???????????????\",\"\"&F100)","v":"???????????????"}]
[{"$f":"IF('GL Template'!B115<>\"\",'GL Template'!B115,0)","v":0},{"$f":"IF('GL Template'!D115<>\"\",'GL Template'!D115,0)","v":0},"Error",null,null,null,null,null,null,null,null,null,null,{"$f":"IF(OR(LEFT('Web Links'!$C101,2)=\"In\",$C101=\"Error\"),\"?????\",\"\"&C101)","v":"?????"},{"$f":"IF(OR(LEFT('Web Links'!$C101,2)=\"In\",$C101=\"Error\"),\"??????????\",\"\"&D101)","v":"??????????"},{"$f":"IF(OR(LEFT('Web Links'!$C101,2)=\"In\",$C101=\"Error\"),\"???\",IF(LEN(E101)=2,\"0\",IF(LEN(E101)=1,\"00\",\"\")))&'Web Links'!E101","v":"???"},{"$f":"IF(OR(LEFT('Web Links'!$C101,2)=\"In\",$C101=\"Error\"),\"?????\",IF(LEN(G101)=4,\"\",IF(LEN(G101)=3,\"\",IF(LEN(G101)=2,\"\",IF(LEN(G101)=1,\"\",\"\"))))&'Web Links'!G101)","v":"?????"},{"$f":"IF(OR(LEFT('Web Links'!$C101,2)=\"In\",$C101=\"Error\"),\"???????????????\",\"\"&F101)","v":"???????????????"}]
[{"$f":"IF('GL Template'!B116<>\"\",'GL Template'!B116,0)","v":0},{"$f":"IF('GL Template'!D116<>\"\",'GL Template'!D116,0)","v":0},"Error",null,null,null,null,null,null,null,null,null,null,{"$f":"IF(OR(LEFT('Web Links'!$C102,2)=\"In\",$C102=\"Error\"),\"?????\",\"\"&C102)","v":"?????"},{"$f":"IF(OR(LEFT('Web Links'!$C102,2)=\"In\",$C102=\"Error\"),\"??????????\",\"\"&D102)","v":"??????????"},{"$f":"IF(OR(LEFT('Web Links'!$C102,2)=\"In\",$C102=\"Error\"),\"???\",IF(LEN(E102)=2,\"0\",IF(LEN(E102)=1,\"00\",\"\")))&'Web Links'!E102","v":"???"},{"$f":"IF(OR(LEFT('Web Links'!$C102,2)=\"In\",$C102=\"Error\"),\"?????\",IF(LEN(G102)=4,\"\",IF(LEN(G102)=3,\"\",IF(LEN(G102)=2,\"\",IF(LEN(G102)=1,\"\",\"\"))))&'Web Links'!G102)","v":"?????"},{"$f":"IF(OR(LEFT('Web Links'!$C102,2)=\"In\",$C102=\"Error\"),\"???????????????\",\"\"&F102)","v":"???????????????"}]
[{"$f":"IF('GL Template'!B117<>\"\",'GL Template'!B117,0)","v":0},{"$f":"IF('GL Template'!D117<>\"\",'GL Template'!D117,0)","v":0},"Error",null,null,null,null,null,null,null,null,null,null,{"$f":"IF(OR(LEFT('Web Links'!$C103,2)=\"In\",$C103=\"Error\"),\"?????\",\"\"&C103)","v":"?????"},{"$f":"IF(OR(LEFT('Web Links'!$C103,2)=\"In\",$C103=\"Error\"),\"??????????\",\"\"&D103)","v":"??????????"},{"$f":"IF(OR(LEFT('Web Links'!$C103,2)=\"In\",$C103=\"Error\"),\"???\",IF(LEN(E103)=2,\"0\",IF(LEN(E103)=1,\"00\",\"\")))&'Web Links'!E103","v":"???"},{"$f":"IF(OR(LEFT('Web Links'!$C103,2)=\"In\",$C103=\"Error\"),\"?????\",IF(LEN(G103)=4,\"\",IF(LEN(G103)=3,\"\",IF(LEN(G103)=2,\"\",IF(LEN(G103)=1,\"\",\"\"))))&'Web Links'!G103)","v":"?????"},{"$f":"IF(OR(LEFT('Web Links'!$C103,2)=\"In\",$C103=\"Error\"),\"???????????????\",\"\"&F103)","v":"???????????????"}]
[{"$f":"IF('GL Template'!B118<>\"\",'GL Template'!B118,0)","v":0},{"$f":"IF('GL Template'!D118<>\"\",'GL Template'!D118,0)","v":0},"Error",null,null,null,null,null,null,null,null,null,null,{"$f":"IF(OR(LEFT('Web Links'!$C104,2)=\"In\",$C104=\"Error\"),\"?????\",\"\"&C104)","v":"?????"},{"$f":"IF(OR(LEFT('Web Links'!$C104,2)=\"In\",$C104=\"Error\"),\"??????????\",\"\"&D104)","v":"??????????"},{"$f":"IF(OR(LEFT('Web Links'!$C104,2)=\"In\",$C104=\"Error\"),\"???\",IF(LEN(E104)=2,\"0\",IF(LEN(E104)=1,\"00\",\"\")))&'Web Links'!E104","v":"???"},{"$f":"IF(OR(LEFT('Web Links'!$C104,2)=\"In\",$C104=\"Error\"),\"?????\",IF(LEN(G104)=4,\"\",IF(LEN(G104)=3,\"\",IF(LEN(G104)=2,\"\",IF(LEN(G104)=1,\"\",\"\"))))&'Web Links'!G104)","v":"?????"},{"$f":"IF(OR(LEFT('Web Links'!$C104,2)=\"In\",$C104=\"Error\"),\"???????????????\",\"\"&F104)","v":"???????????????"}]
[{"$f":"IF('GL Template'!B119<>\"\",'GL Template'!B119,0)","v":0},{"$f":"IF('GL Template'!D119<>\"\",'GL Template'!D119,0)","v":0},"Error",null,null,null,null,null,null,null,null,null,null,{"$f":"IF(OR(LEFT('Web Links'!$C105,2)=\"In\",$C105=\"Error\"),\"?????\",\"\"&C105)","v":"?????"},{"$f":"IF(OR(LEFT('Web Links'!$C105,2)=\"In\",$C105=\"Error\"),\"??????????\",\"\"&D105)","v":"??????????"},{"$f":"IF(OR(LEFT('Web Links'!$C105,2)=\"In\",$C105=\"Error\"),\"???\",IF(LEN(E105)=2,\"0\",IF(LEN(E105)=1,\"00\",\"\")))&'Web Links'!E105","v":"???"},{"$f":"IF(OR(LEFT('Web Links'!$C105,2)=\"In\",$C105=\"Error\"),\"?????\",IF(LEN(G105)=4,\"\",IF(LEN(G105)=3,\"\",IF(LEN(G105)=2,\"\",IF(LEN(G105)=1,\"\",\"\"))))&'Web Links'!G105)","v":"?????"},{"$f":"IF(OR(LEFT('Web Links'!$C105,2)=\"In\",$C105=\"Error\"),\"???????????????\",\"\"&F105)","v":"???????????????"}]
[{"$f":"IF('GL Template'!B120<>\"\",'GL Template'!B120,0)","v":0},{"$f":"IF('GL Template'!D120<>\"\",'GL Template'!D120,0)","v":0},"Error",null,null,null,null,null,null,null,null,null,null,{"$f":"IF(OR(LEFT('Web Links'!$C106,2)=\"In\",$C106=\"Error\"),\"?????\",\"\"&C106)","v":"?????"},{"$f":"IF(OR(LEFT('Web Links'!$C106,2)=\"In\",$C106=\"Error\"),\"??????????\",\"\"&D106)","v":"??????????"},{"$f":"IF(OR(LEFT('Web Links'!$C106,2)=\"In\",$C106=\"Error\"),\"???\",IF(LEN(E106)=2,\"0\",IF(LEN(E106)=1,\"00\",\"\")))&'Web Links'!E106","v":"???"},{"$f":"IF(OR(LEFT('Web Links'!$C106,2)=\"In\",$C106=\"Error\"),\"?????\",IF(LEN(G106)=4,\"\",IF(LEN(G106)=3,\"\",IF(LEN(G106)=2,\"\",IF(LEN(G106)=1,\"\",\"\"))))&'Web Links'!G106)","v":"?????"},{"$f":"IF(OR(LEFT('Web Links'!$C106,2)=\"In\",$C106=\"Error\"),\"???????????????\",\"\"&F106)","v":"???????????????"}]
[{"$f":"IF('GL Template'!B121<>\"\",'GL Template'!B121,0)","v":0},{"$f":"IF('GL Template'!D121<>\"\",'GL Template'!D121,0)","v":0},"Error",null,null,null,null,null,null,null,null,null,null,{"$f":"IF(OR(LEFT('Web Links'!$C107,2)=\"In\",$C107=\"Error\"),\"?????\",\"\"&C107)","v":"?????"},{"$f":"IF(OR(LEFT('Web Links'!$C107,2)=\"In\",$C107=\"Error\"),\"??????????\",\"\"&D107)","v":"??????????"},{"$f":"IF(OR(LEFT('Web Links'!$C107,2)=\"In\",$C107=\"Error\"),\"???\",IF(LEN(E107)=2,\"0\",IF(LEN(E107)=1,\"00\",\"\")))&'Web Links'!E107","v":"???"},{"$f":"IF(OR(LEFT('Web Links'!$C107,2)=\"In\",$C107=\"Error\"),\"?????\",IF(LEN(G107)=4,\"\",IF(LEN(G107)=3,\"\",IF(LEN(G107)=2,\"\",IF(LEN(G107)=1,\"\",\"\"))))&'Web Links'!G107)","v":"?????"},{"$f":"IF(OR(LEFT('Web Links'!$C107,2)=\"In\",$C107=\"Error\"),\"???????????????\",\"\"&F107)","v":"???????????????"}]
[{"$f":"IF('GL Template'!B122<>\"\",'GL Template'!B122,0)","v":0},{"$f":"IF('GL Template'!D122<>\"\",'GL Template'!D122,0)","v":0},"Error",null,null,null,null,null,null,null,null,null,null,{"$f":"IF(OR(LEFT('Web Links'!$C108,2)=\"In\",$C108=\"Error\"),\"?????\",\"\"&C108)","v":"?????"},{"$f":"IF(OR(LEFT('Web Links'!$C108,2)=\"In\",$C108=\"Error\"),\"??????????\",\"\"&D108)","v":"??????????"},{"$f":"IF(OR(LEFT('Web Links'!$C108,2)=\"In\",$C108=\"Error\"),\"???\",IF(LEN(E108)=2,\"0\",IF(LEN(E108)=1,\"00\",\"\")))&'Web Links'!E108","v":"???"},{"$f":"IF(OR(LEFT('Web Links'!$C108,2)=\"In\",$C108=\"Error\"),\"?????\",IF(LEN(G108)=4,\"\",IF(LEN(G108)=3,\"\",IF(LEN(G108)=2,\"\",IF(LEN(G108)=1,\"\",\"\"))))&'Web Links'!G108)","v":"?????"},{"$f":"IF(OR(LEFT('Web Links'!$C108,2)=\"In\",$C108=\"Error\"),\"???????????????\",\"\"&F108)","v":"???????????????"}]
[{"$f":"IF('GL Template'!B123<>\"\",'GL Template'!B123,0)","v":0},{"$f":"IF('GL Template'!D123<>\"\",'GL Template'!D123,0)","v":0},"Error",null,null,null,null,null,null,null,null,null,null,{"$f":"IF(OR(LEFT('Web Links'!$C109,2)=\"In\",$C109=\"Error\"),\"?????\",\"\"&C109)","v":"?????"},{"$f":"IF(OR(LEFT('Web Links'!$C109,2)=\"In\",$C109=\"Error\"),\"??????????\",\"\"&D109)","v":"??????????"},{"$f":"IF(OR(LEFT('Web Links'!$C109,2)=\"In\",$C109=\"Error\"),\"???\",IF(LEN(E109)=2,\"0\",IF(LEN(E109)=1,\"00\",\"\")))&'Web Links'!E109","v":"???"},{"$f":"IF(OR(LEFT('Web Links'!$C109,2)=\"In\",$C109=\"Error\"),\"?????\",IF(LEN(G109)=4,\"\",IF(LEN(G109)=3,\"\",IF(LEN(G109)=2,\"\",IF(LEN(G109)=1,\"\",\"\"))))&'Web Links'!G109)","v":"?????"},{"$f":"IF(OR(LEFT('Web Links'!$C109,2)=\"In\",$C109=\"Error\"),\"???????????????\",\"\"&F109)","v":"???????????????"}]
[{"$f":"IF('GL Template'!B124<>\"\",'GL Template'!B124,0)","v":0},{"$f":"IF('GL Template'!D124<>\"\",'GL Template'!D124,0)","v":0},"Error",null,null,null,null,null,null,null,null,null,null,{"$f":"IF(OR(LEFT('Web Links'!$C110,2)=\"In\",$C110=\"Error\"),\"?????\",\"\"&C110)","v":"?????"},{"$f":"IF(OR(LEFT('Web Links'!$C110,2)=\"In\",$C110=\"Error\"),\"??????????\",\"\"&D110)","v":"??????????"},{"$f":"IF(OR(LEFT('Web Links'!$C110,2)=\"In\",$C110=\"Error\"),\"???\",IF(LEN(E110)=2,\"0\",IF(LEN(E110)=1,\"00\",\"\")))&'Web Links'!E110","v":"???"},{"$f":"IF(OR(LEFT('Web Links'!$C110,2)=\"In\",$C110=\"Error\"),\"?????\",IF(LEN(G110)=4,\"\",IF(LEN(G110)=3,\"\",IF(LEN(G110)=2,\"\",IF(LEN(G110)=1,\"\",\"\"))))&'Web Links'!G110)","v":"?????"},{"$f":"IF(OR(LEFT('Web Links'!$C110,2)=\"In\",$C110=\"Error\"),\"???????????????\",\"\"&F110)","v":"???????????????"}]
[{"$f":"IF('GL Template'!B125<>\"\",'GL Template'!B125,0)","v":0},{"$f":"IF('GL Template'!D125<>\"\",'GL Template'!D125,0)","v":0},"Error",null,null,null,null,null,null,null,null,null,null,{"$f":"IF(OR(LEFT('Web Links'!$C111,2)=\"In\",$C111=\"Error\"),\"?????\",\"\"&C111)","v":"?????"},{"$f":"IF(OR(LEFT('Web Links'!$C111,2)=\"In\",$C111=\"Error\"),\"??????????\",\"\"&D111)","v":"??????????"},{"$f":"IF(OR(LEFT('Web Links'!$C111,2)=\"In\",$C111=\"Error\"),\"???\",IF(LEN(E111)=2,\"0\",IF(LEN(E111)=1,\"00\",\"\")))&'Web Links'!E111","v":"???"},{"$f":"IF(OR(LEFT('Web Links'!$C111,2)=\"In\",$C111=\"Error\"),\"?????\",IF(LEN(G111)=4,\"\",IF(LEN(G111)=3,\"\",IF(LEN(G111)=2,\"\",IF(LEN(G111)=1,\"\",\"\"))))&'Web Links'!G111)","v":"?????"},{"$f":"IF(OR(LEFT('Web Links'!$C111,2)=\"In\",$C111=\"Error\"),\"???????????????\",\"\"&F111)","v":"???????????????"}]
[{"$f":"IF('GL Template'!B126<>\"\",'GL Template'!B126,0)","v":0},{"$f":"IF('GL Template'!D126<>\"\",'GL Template'!D126,0)","v":0},"Error",null,null,null,null,null,null,null,null,null,null,{"$f":"IF(OR(LEFT('Web Links'!$C112,2)=\"In\",$C112=\"Error\"),\"?????\",\"\"&C112)","v":"?????"},{"$f":"IF(OR(LEFT('Web Links'!$C112,2)=\"In\",$C112=\"Error\"),\"??????????\",\"\"&D112)","v":"??????????"},{"$f":"IF(OR(LEFT('Web Links'!$C112,2)=\"In\",$C112=\"Error\"),\"???\",IF(LEN(E112)=2,\"0\",IF(LEN(E112)=1,\"00\",\"\")))&'Web Links'!E112","v":"???"},{"$f":"IF(OR(LEFT('Web Links'!$C112,2)=\"In\",$C112=\"Error\"),\"?????\",IF(LEN(G112)=4,\"\",IF(LEN(G112)=3,\"\",IF(LEN(G112)=2,\"\",IF(LEN(G112)=1,\"\",\"\"))))&'Web Links'!G112)","v":"?????"},{"$f":"IF(OR(LEFT('Web Links'!$C112,2)=\"In\",$C112=\"Error\"),\"???????????????\",\"\"&F112)","v":"???????????????"}]
[{"$f":"IF('GL Template'!B127<>\"\",'GL Template'!B127,0)","v":0},{"$f":"IF('GL Template'!D127<>\"\",'GL Template'!D127,0)","v":0},"Error",null,null,null,null,null,null,null,null,null,null,{"$f":"IF(OR(LEFT('Web Links'!$C113,2)=\"In\",$C113=\"Error\"),\"?????\",\"\"&C113)","v":"?????"},{"$f":"IF(OR(LEFT('Web Links'!$C113,2)=\"In\",$C113=\"Error\"),\"??????????\",\"\"&D113)","v":"??????????"},{"$f":"IF(OR(LEFT('Web Links'!$C113,2)=\"In\",$C113=\"Error\"),\"???\",IF(LEN(E113)=2,\"0\",IF(LEN(E113)=1,\"00\",\"\")))&'Web Links'!E113","v":"???"},{"$f":"IF(OR(LEFT('Web Links'!$C113,2)=\"In\",$C113=\"Error\"),\"?????\",IF(LEN(G113)=4,\"\",IF(LEN(G113)=3,\"\",IF(LEN(G113)=2,\"\",IF(LEN(G113)=1,\"\",\"\"))))&'Web Links'!G113)","v":"?????"},{"$f":"IF(OR(LEFT('Web Links'!$C113,2)=\"In\",$C113=\"Error\"),\"???????????????\",\"\"&F113)","v":"???????????????"}]
[{"$f":"IF('GL Template'!B128<>\"\",'GL Template'!B128,0)","v":0},{"$f":"IF('GL Template'!D128<>\"\",'GL Template'!D128,0)","v":0},"Error",null,null,null,null,null,null,null,null,null,null,{"$f":"IF(OR(LEFT('Web Links'!$C114,2)=\"In\",$C114=\"Error\"),\"?????\",\"\"&C114)","v":"?????"},{"$f":"IF(OR(LEFT('Web Links'!$C114,2)=\"In\",$C114=\"Error\"),\"??????????\",\"\"&D114)","v":"??????????"},{"$f":"IF(OR(LEFT('Web Links'!$C114,2)=\"In\",$C114=\"Error\"),\"???\",IF(LEN(E114)=2,\"0\",IF(LEN(E114)=1,\"00\",\"\")))&'Web Links'!E114","v":"???"},{"$f":"IF(OR(LEFT('Web Links'!$C114,2)=\"In\",$C114=\"Error\"),\"?????\",IF(LEN(G114)=4,\"\",IF(LEN(G114)=3,\"\",IF(LEN(G114)=2,\"\",IF(LEN(G114)=1,\"\",\"\"))))&'Web Links'!G114)","v":"?????"},{"$f":"IF(OR(LEFT('Web Links'!$C114,2)=\"In\",$C114=\"Error\"),\"???????????????\",\"\"&F114)","v":"???????????????"}]
[{"$f":"IF('GL Template'!B129<>\"\",'GL Template'!B129,0)","v":0},{"$f":"IF('GL Template'!D129<>\"\",'GL Template'!D129,0)","v":0},"Error",null,null,null,null,null,null,null,null,null,null,{"$f":"IF(OR(LEFT('Web Links'!$C115,2)=\"In\",$C115=\"Error\"),\"?????\",\"\"&C115)","v":"?????"},{"$f":"IF(OR(LEFT('Web Links'!$C115,2)=\"In\",$C115=\"Error\"),\"??????????\",\"\"&D115)","v":"??????????"},{"$f":"IF(OR(LEFT('Web Links'!$C115,2)=\"In\",$C115=\"Error\"),\"???\",IF(LEN(E115)=2,\"0\",IF(LEN(E115)=1,\"00\",\"\")))&'Web Links'!E115","v":"???"},{"$f":"IF(OR(LEFT('Web Links'!$C115,2)=\"In\",$C115=\"Error\"),\"?????\",IF(LEN(G115)=4,\"\",IF(LEN(G115)=3,\"\",IF(LEN(G115)=2,\"\",IF(LEN(G115)=1,\"\",\"\"))))&'Web Links'!G115)","v":"?????"},{"$f":"IF(OR(LEFT('Web Links'!$C115,2)=\"In\",$C115=\"Error\"),\"???????????????\",\"\"&F115)","v":"???????????????"}]
[{"$f":"IF('GL Template'!B130<>\"\",'GL Template'!B130,0)","v":0},{"$f":"IF('GL Template'!D130<>\"\",'GL Template'!D130,0)","v":0},"Error",null,null,null,null,null,null,null,null,null,null,{"$f":"IF(OR(LEFT('Web Links'!$C116,2)=\"In\",$C116=\"Error\"),\"?????\",\"\"&C116)","v":"?????"},{"$f":"IF(OR(LEFT('Web Links'!$C116,2)=\"In\",$C116=\"Error\"),\"??????????\",\"\"&D116)","v":"??????????"},{"$f":"IF(OR(LEFT('Web Links'!$C116,2)=\"In\",$C116=\"Error\"),\"???\",IF(LEN(E116)=2,\"0\",IF(LEN(E116)=1,\"00\",\"\")))&'Web Links'!E116","v":"???"},{"$f":"IF(OR(LEFT('Web Links'!$C116,2)=\"In\",$C116=\"Error\"),\"?????\",IF(LEN(G116)=4,\"\",IF(LEN(G116)=3,\"\",IF(LEN(G116)=2,\"\",IF(LEN(G116)=1,\"\",\"\"))))&'Web Links'!G116)","v":"?????"},{"$f":"IF(OR(LEFT('Web Links'!$C116,2)=\"In\",$C116=\"Error\"),\"???????????????\",\"\"&F116)","v":"???????????????"}]
[{"$f":"IF('GL Template'!B131<>\"\",'GL Template'!B131,0)","v":0},{"$f":"IF('GL Template'!D131<>\"\",'GL Template'!D131,0)","v":0},"Error",null,null,null,null,null,null,null,null,null,null,{"$f":"IF(OR(LEFT('Web Links'!$C117,2)=\"In\",$C117=\"Error\"),\"?????\",\"\"&C117)","v":"?????"},{"$f":"IF(OR(LEFT('Web Links'!$C117,2)=\"In\",$C117=\"Error\"),\"??????????\",\"\"&D117)","v":"??????????"},{"$f":"IF(OR(LEFT('Web Links'!$C117,2)=\"In\",$C117=\"Error\"),\"???\",IF(LEN(E117)=2,\"0\",IF(LEN(E117)=1,\"00\",\"\")))&'Web Links'!E117","v":"???"},{"$f":"IF(OR(LEFT('Web Links'!$C117,2)=\"In\",$C117=\"Error\"),\"?????\",IF(LEN(G117)=4,\"\",IF(LEN(G117)=3,\"\",IF(LEN(G117)=2,\"\",IF(LEN(G117)=1,\"\",\"\"))))&'Web Links'!G117)","v":"?????"},{"$f":"IF(OR(LEFT('Web Links'!$C117,2)=\"In\",$C117=\"Error\"),\"???????????????\",\"\"&F117)","v":"???????????????"}]
[{"$f":"IF('GL Template'!B132<>\"\",'GL Template'!B132,0)","v":0},{"$f":"IF('GL Template'!D132<>\"\",'GL Template'!D132,0)","v":0},"Error",null,null,null,null,null,null,null,null,null,null,{"$f":"IF(OR(LEFT('Web Links'!$C118,2)=\"In\",$C118=\"Error\"),\"?????\",\"\"&C118)","v":"?????"},{"$f":"IF(OR(LEFT('Web Links'!$C118,2)=\"In\",$C118=\"Error\"),\"??????????\",\"\"&D118)","v":"??????????"},{"$f":"IF(OR(LEFT('Web Links'!$C118,2)=\"In\",$C118=\"Error\"),\"???\",IF(LEN(E118)=2,\"0\",IF(LEN(E118)=1,\"00\",\"\")))&'Web Links'!E118","v":"???"},{"$f":"IF(OR(LEFT('Web Links'!$C118,2)=\"In\",$C118=\"Error\"),\"?????\",IF(LEN(G118)=4,\"\",IF(LEN(G118)=3,\"\",IF(LEN(G118)=2,\"\",IF(LEN(G118)=1,\"\",\"\"))))&'Web Links'!G118)","v":"?????"},{"$f":"IF(OR(LEFT('Web Links'!$C118,2)=\"In\",$C118=\"Error\"),\"???????????????\",\"\"&F118)","v":"???????????????"}]
[{"$f":"IF('GL Template'!B133<>\"\",'GL Template'!B133,0)","v":0},{"$f":"IF('GL Template'!D133<>\"\",'GL Template'!D133,0)","v":0},"Error",null,null,null,null,null,null,null,null,null,null,{"$f":"IF(OR(LEFT('Web Links'!$C119,2)=\"In\",$C119=\"Error\"),\"?????\",\"\"&C119)","v":"?????"},{"$f":"IF(OR(LEFT('Web Links'!$C119,2)=\"In\",$C119=\"Error\"),\"??????????\",\"\"&D119)","v":"??????????"},{"$f":"IF(OR(LEFT('Web Links'!$C119,2)=\"In\",$C119=\"Error\"),\"???\",IF(LEN(E119)=2,\"0\",IF(LEN(E119)=1,\"00\",\"\")))&'Web Links'!E119","v":"???"},{"$f":"IF(OR(LEFT('Web Links'!$C119,2)=\"In\",$C119=\"Error\"),\"?????\",IF(LEN(G119)=4,\"\",IF(LEN(G119)=3,\"\",IF(LEN(G119)=2,\"\",IF(LEN(G119)=1,\"\",\"\"))))&'Web Links'!G119)","v":"?????"},{"$f":"IF(OR(LEFT('Web Links'!$C119,2)=\"In\",$C119=\"Error\"),\"???????????????\",\"\"&F119)","v":"???????????????"}]
[{"$f":"IF('GL Template'!B134<>\"\",'GL Template'!B134,0)","v":0},{"$f":"IF('GL Template'!D134<>\"\",'GL Template'!D134,0)","v":0},"Error",null,null,null,null,null,null,null,null,null,null,{"$f":"IF(OR(LEFT('Web Links'!$C120,2)=\"In\",$C120=\"Error\"),\"?????\",\"\"&C120)","v":"?????"},{"$f":"IF(OR(LEFT('Web Links'!$C120,2)=\"In\",$C120=\"Error\"),\"??????????\",\"\"&D120)","v":"??????????"},{"$f":"IF(OR(LEFT('Web Links'!$C120,2)=\"In\",$C120=\"Error\"),\"???\",IF(LEN(E120)=2,\"0\",IF(LEN(E120)=1,\"00\",\"\")))&'Web Links'!E120","v":"???"},{"$f":"IF(OR(LEFT('Web Links'!$C120,2)=\"In\",$C120=\"Error\"),\"?????\",IF(LEN(G120)=4,\"\",IF(LEN(G120)=3,\"\",IF(LEN(G120)=2,\"\",IF(LEN(G120)=1,\"\",\"\"))))&'Web Links'!G120)","v":"?????"},{"$f":"IF(OR(LEFT('Web Links'!$C120,2)=\"In\",$C120=\"Error\"),\"???????????????\",\"\"&F120)","v":"???????????????"}]
[{"$f":"IF('GL Template'!B135<>\"\",'GL Template'!B135,0)","v":0},{"$f":"IF('GL Template'!D135<>\"\",'GL Template'!D135,0)","v":0},"Error",null,null,null,null,null,null,null,null,null,null,{"$f":"IF(OR(LEFT('Web Links'!$C121,2)=\"In\",$C121=\"Error\"),\"?????\",\"\"&C121)","v":"?????"},{"$f":"IF(OR(LEFT('Web Links'!$C121,2)=\"In\",$C121=\"Error\"),\"??????????\",\"\"&D121)","v":"??????????"},{"$f":"IF(OR(LEFT('Web Links'!$C121,2)=\"In\",$C121=\"Error\"),\"???\",IF(LEN(E121)=2,\"0\",IF(LEN(E121)=1,\"00\",\"\")))&'Web Links'!E121","v":"???"},{"$f":"IF(OR(LEFT('Web Links'!$C121,2)=\"In\",$C121=\"Error\"),\"?????\",IF(LEN(G121)=4,\"\",IF(LEN(G121)=3,\"\",IF(LEN(G121)=2,\"\",IF(LEN(G121)=1,\"\",\"\"))))&'Web Links'!G121)","v":"?????"},{"$f":"IF(OR(LEFT('Web Links'!$C121,2)=\"In\",$C121=\"Error\"),\"???????????????\",\"\"&F121)","v":"???????????????"}]
[{"$f":"IF('GL Template'!B136<>\"\",'GL Template'!B136,0)","v":0},{"$f":"IF('GL Template'!D136<>\"\",'GL Template'!D136,0)","v":0},"Error",null,null,null,null,null,null,null,null,null,null,{"$f":"IF(OR(LEFT('Web Links'!$C122,2)=\"In\",$C122=\"Error\"),\"?????\",\"\"&C122)","v":"?????"},{"$f":"IF(OR(LEFT('Web Links'!$C122,2)=\"In\",$C122=\"Error\"),\"??????????\",\"\"&D122)","v":"??????????"},{"$f":"IF(OR(LEFT('Web Links'!$C122,2)=\"In\",$C122=\"Error\"),\"???\",IF(LEN(E122)=2,\"0\",IF(LEN(E122)=1,\"00\",\"\")))&'Web Links'!E122","v":"???"},{"$f":"IF(OR(LEFT('Web Links'!$C122,2)=\"In\",$C122=\"Error\"),\"?????\",IF(LEN(G122)=4,\"\",IF(LEN(G122)=3,\"\",IF(LEN(G122)=2,\"\",IF(LEN(G122)=1,\"\",\"\"))))&'Web Links'!G122)","v":"?????"},{"$f":"IF(OR(LEFT('Web Links'!$C122,2)=\"In\",$C122=\"Error\"),\"???????????????\",\"\"&F122)","v":"???????????????"}]
[{"$f":"IF('GL Template'!B137<>\"\",'GL Template'!B137,0)","v":0},{"$f":"IF('GL Template'!D137<>\"\",'GL Template'!D137,0)","v":0},"Error",null,null,null,null,null,null,null,null,null,null,{"$f":"IF(OR(LEFT('Web Links'!$C123,2)=\"In\",$C123=\"Error\"),\"?????\",\"\"&C123)","v":"?????"},{"$f":"IF(OR(LEFT('Web Links'!$C123,2)=\"In\",$C123=\"Error\"),\"??????????\",\"\"&D123)","v":"??????????"},{"$f":"IF(OR(LEFT('Web Links'!$C123,2)=\"In\",$C123=\"Error\"),\"???\",IF(LEN(E123)=2,\"0\",IF(LEN(E123)=1,\"00\",\"\")))&'Web Links'!E123","v":"???"},{"$f":"IF(OR(LEFT('Web Links'!$C123,2)=\"In\",$C123=\"Error\"),\"?????\",IF(LEN(G123)=4,\"\",IF(LEN(G123)=3,\"\",IF(LEN(G123)=2,\"\",IF(LEN(G123)=1,\"\",\"\"))))&'Web Links'!G123)","v":"?????"},{"$f":"IF(OR(LEFT('Web Links'!$C123,2)=\"In\",$C123=\"Error\"),\"???????????????\",\"\"&F123)","v":"???????????????"}]
[{"$f":"IF('GL Template'!B138<>\"\",'GL Template'!B138,0)","v":0},{"$f":"IF('GL Template'!D138<>\"\",'GL Template'!D138,0)","v":0},"Error",null,null,null,null,null,null,null,null,null,null,{"$f":"IF(OR(LEFT('Web Links'!$C124,2)=\"In\",$C124=\"Error\"),\"?????\",\"\"&C124)","v":"?????"},{"$f":"IF(OR(LEFT('Web Links'!$C124,2)=\"In\",$C124=\"Error\"),\"??????????\",\"\"&D124)","v":"??????????"},{"$f":"IF(OR(LEFT('Web Links'!$C124,2)=\"In\",$C124=\"Error\"),\"???\",IF(LEN(E124)=2,\"0\",IF(LEN(E124)=1,\"00\",\"\")))&'Web Links'!E124","v":"???"},{"$f":"IF(OR(LEFT('Web Links'!$C124,2)=\"In\",$C124=\"Error\"),\"?????\",IF(LEN(G124)=4,\"\",IF(LEN(G124)=3,\"\",IF(LEN(G124)=2,\"\",IF(LEN(G124)=1,\"\",\"\"))))&'Web Links'!G124)","v":"?????"},{"$f":"IF(OR(LEFT('Web Links'!$C124,2)=\"In\",$C124=\"Error\"),\"???????????????\",\"\"&F124)","v":"???????????????"}]
[{"$f":"IF('GL Template'!B139<>\"\",'GL Template'!B139,0)","v":0},{"$f":"IF('GL Template'!D139<>\"\",'GL Template'!D139,0)","v":0},"Error",null,null,null,null,null,null,null,null,null,null,{"$f":"IF(OR(LEFT('Web Links'!$C125,2)=\"In\",$C125=\"Error\"),\"?????\",\"\"&C125)","v":"?????"},{"$f":"IF(OR(LEFT('Web Links'!$C125,2)=\"In\",$C125=\"Error\"),\"??????????\",\"\"&D125)","v":"??????????"},{"$f":"IF(OR(LEFT('Web Links'!$C125,2)=\"In\",$C125=\"Error\"),\"???\",IF(LEN(E125)=2,\"0\",IF(LEN(E125)=1,\"00\",\"\")))&'Web Links'!E125","v":"???"},{"$f":"IF(OR(LEFT('Web Links'!$C125,2)=\"In\",$C125=\"Error\"),\"?????\",IF(LEN(G125)=4,\"\",IF(LEN(G125)=3,\"\",IF(LEN(G125)=2,\"\",IF(LEN(G125)=1,\"\",\"\"))))&'Web Links'!G125)","v":"?????"},{"$f":"IF(OR(LEFT('Web Links'!$C125,2)=\"In\",$C125=\"Error\"),\"???????????????\",\"\"&F125)","v":"???????????????"}]
[{"$f":"IF('GL Template'!B140<>\"\",'GL Template'!B140,0)","v":0},{"$f":"IF('GL Template'!D140<>\"\",'GL Template'!D140,0)","v":0},"Error",null,null,null,null,null,null,null,null,null,null,{"$f":"IF(OR(LEFT('Web Links'!$C126,2)=\"In\",$C126=\"Error\"),\"?????\",\"\"&C126)","v":"?????"},{"$f":"IF(OR(LEFT('Web Links'!$C126,2)=\"In\",$C126=\"Error\"),\"??????????\",\"\"&D126)","v":"??????????"},{"$f":"IF(OR(LEFT('Web Links'!$C126,2)=\"In\",$C126=\"Error\"),\"???\",IF(LEN(E126)=2,\"0\",IF(LEN(E126)=1,\"00\",\"\")))&'Web Links'!E126","v":"???"},{"$f":"IF(OR(LEFT('Web Links'!$C126,2)=\"In\",$C126=\"Error\"),\"?????\",IF(LEN(G126)=4,\"\",IF(LEN(G126)=3,\"\",IF(LEN(G126)=2,\"\",IF(LEN(G126)=1,\"\",\"\"))))&'Web Links'!G126)","v":"?????"},{"$f":"IF(OR(LEFT('Web Links'!$C126,2)=\"In\",$C126=\"Error\"),\"???????????????\",\"\"&F126)","v":"???????????????"}]
[{"$f":"IF('GL Template'!B141<>\"\",'GL Template'!B141,0)","v":0},{"$f":"IF('GL Template'!D141<>\"\",'GL Template'!D141,0)","v":0},"Error",null,null,null,null,null,null,null,null,null,null,{"$f":"IF(OR(LEFT('Web Links'!$C127,2)=\"In\",$C127=\"Error\"),\"?????\",\"\"&C127)","v":"?????"},{"$f":"IF(OR(LEFT('Web Links'!$C127,2)=\"In\",$C127=\"Error\"),\"??????????\",\"\"&D127)","v":"??????????"},{"$f":"IF(OR(LEFT('Web Links'!$C127,2)=\"In\",$C127=\"Error\"),\"???\",IF(LEN(E127)=2,\"0\",IF(LEN(E127)=1,\"00\",\"\")))&'Web Links'!E127","v":"???"},{"$f":"IF(OR(LEFT('Web Links'!$C127,2)=\"In\",$C127=\"Error\"),\"?????\",IF(LEN(G127)=4,\"\",IF(LEN(G127)=3,\"\",IF(LEN(G127)=2,\"\",IF(LEN(G127)=1,\"\",\"\"))))&'Web Links'!G127)","v":"?????"},{"$f":"IF(OR(LEFT('Web Links'!$C127,2)=\"In\",$C127=\"Error\"),\"???????????????\",\"\"&F127)","v":"???????????????"}]
[{"$f":"IF('GL Template'!B142<>\"\",'GL Template'!B142,0)","v":0},{"$f":"IF('GL Template'!D142<>\"\",'GL Template'!D142,0)","v":0},"Error",null,null,null,null,null,null,null,null,null,null,{"$f":"IF(OR(LEFT('Web Links'!$C128,2)=\"In\",$C128=\"Error\"),\"?????\",\"\"&C128)","v":"?????"},{"$f":"IF(OR(LEFT('Web Links'!$C128,2)=\"In\",$C128=\"Error\"),\"??????????\",\"\"&D128)","v":"??????????"},{"$f":"IF(OR(LEFT('Web Links'!$C128,2)=\"In\",$C128=\"Error\"),\"???\",IF(LEN(E128)=2,\"0\",IF(LEN(E128)=1,\"00\",\"\")))&'Web Links'!E128","v":"???"},{"$f":"IF(OR(LEFT('Web Links'!$C128,2)=\"In\",$C128=\"Error\"),\"?????\",IF(LEN(G128)=4,\"\",IF(LEN(G128)=3,\"\",IF(LEN(G128)=2,\"\",IF(LEN(G128)=1,\"\",\"\"))))&'Web Links'!G128)","v":"?????"},{"$f":"IF(OR(LEFT('Web Links'!$C128,2)=\"In\",$C128=\"Error\"),\"???????????????\",\"\"&F128)","v":"???????????????"}]
[{"$f":"IF('GL Template'!B143<>\"\",'GL Template'!B143,0)","v":0},{"$f":"IF('GL Template'!D143<>\"\",'GL Template'!D143,0)","v":0},"Error",null,null,null,null,null,null,null,null,null,null,{"$f":"IF(OR(LEFT('Web Links'!$C129,2)=\"In\",$C129=\"Error\"),\"?????\",\"\"&C129)","v":"?????"},{"$f":"IF(OR(LEFT('Web Links'!$C129,2)=\"In\",$C129=\"Error\"),\"??????????\",\"\"&D129)","v":"??????????"},{"$f":"IF(OR(LEFT('Web Links'!$C129,2)=\"In\",$C129=\"Error\"),\"???\",IF(LEN(E129)=2,\"0\",IF(LEN(E129)=1,\"00\",\"\")))&'Web Links'!E129","v":"???"},{"$f":"IF(OR(LEFT('Web Links'!$C129,2)=\"In\",$C129=\"Error\"),\"?????\",IF(LEN(G129)=4,\"\",IF(LEN(G129)=3,\"\",IF(LEN(G129)=2,\"\",IF(LEN(G129)=1,\"\",\"\"))))&'Web Links'!G129)","v":"?????"},{"$f":"IF(OR(LEFT('Web Links'!$C129,2)=\"In\",$C129=\"Error\"),\"???????????????\",\"\"&F129)","v":"???????????????"}]
[{"$f":"IF('GL Template'!B144<>\"\",'GL Template'!B144,0)","v":0},{"$f":"IF('GL Template'!D144<>\"\",'GL Template'!D144,0)","v":0},"Error",null,null,null,null,null,null,null,null,null,null,{"$f":"IF(OR(LEFT('Web Links'!$C130,2)=\"In\",$C130=\"Error\"),\"?????\",\"\"&C130)","v":"?????"},{"$f":"IF(OR(LEFT('Web Links'!$C130,2)=\"In\",$C130=\"Error\"),\"??????????\",\"\"&D130)","v":"??????????"},{"$f":"IF(OR(LEFT('Web Links'!$C130,2)=\"In\",$C130=\"Error\"),\"???\",IF(LEN(E130)=2,\"0\",IF(LEN(E130)=1,\"00\",\"\")))&'Web Links'!E130","v":"???"},{"$f":"IF(OR(LEFT('Web Links'!$C130,2)=\"In\",$C130=\"Error\"),\"?????\",IF(LEN(G130)=4,\"\",IF(LEN(G130)=3,\"\",IF(LEN(G130)=2,\"\",IF(LEN(G130)=1,\"\",\"\"))))&'Web Links'!G130)","v":"?????"},{"$f":"IF(OR(LEFT('Web Links'!$C130,2)=\"In\",$C130=\"Error\"),\"???????????????\",\"\"&F130)","v":"???????????????"}]
[{"$f":"IF('GL Template'!B145<>\"\",'GL Template'!B145,0)","v":0},{"$f":"IF('GL Template'!D145<>\"\",'GL Template'!D145,0)","v":0},"Error",null,null,null,null,null,null,null,null,null,null,{"$f":"IF(OR(LEFT('Web Links'!$C131,2)=\"In\",$C131=\"Error\"),\"?????\",\"\"&C131)","v":"?????"},{"$f":"IF(OR(LEFT('Web Links'!$C131,2)=\"In\",$C131=\"Error\"),\"??????????\",\"\"&D131)","v":"??????????"},{"$f":"IF(OR(LEFT('Web Links'!$C131,2)=\"In\",$C131=\"Error\"),\"???\",IF(LEN(E131)=2,\"0\",IF(LEN(E131)=1,\"00\",\"\")))&'Web Links'!E131","v":"???"},{"$f":"IF(OR(LEFT('Web Links'!$C131,2)=\"In\",$C131=\"Error\"),\"?????\",IF(LEN(G131)=4,\"\",IF(LEN(G131)=3,\"\",IF(LEN(G131)=2,\"\",IF(LEN(G131)=1,\"\",\"\"))))&'Web Links'!G131)","v":"?????"},{"$f":"IF(OR(LEFT('Web Links'!$C131,2)=\"In\",$C131=\"Error\"),\"???????????????\",\"\"&F131)","v":"???????????????"}]
[{"$f":"IF('GL Template'!B146<>\"\",'GL Template'!B146,0)","v":0},{"$f":"IF('GL Template'!D146<>\"\",'GL Template'!D146,0)","v":0},"Error",null,null,null,null,null,null,null,null,null,null,{"$f":"IF(OR(LEFT('Web Links'!$C132,2)=\"In\",$C132=\"Error\"),\"?????\",\"\"&C132)","v":"?????"},{"$f":"IF(OR(LEFT('Web Links'!$C132,2)=\"In\",$C132=\"Error\"),\"??????????\",\"\"&D132)","v":"??????????"},{"$f":"IF(OR(LEFT('Web Links'!$C132,2)=\"In\",$C132=\"Error\"),\"???\",IF(LEN(E132)=2,\"0\",IF(LEN(E132)=1,\"00\",\"\")))&'Web Links'!E132","v":"???"},{"$f":"IF(OR(LEFT('Web Links'!$C132,2)=\"In\",$C132=\"Error\"),\"?????\",IF(LEN(G132)=4,\"\",IF(LEN(G132)=3,\"\",IF(LEN(G132)=2,\"\",IF(LEN(G132)=1,\"\",\"\"))))&'Web Links'!G132)","v":"?????"},{"$f":"IF(OR(LEFT('Web Links'!$C132,2)=\"In\",$C132=\"Error\"),\"???????????????\",\"\"&F132)","v":"???????????????"}]
[{"$f":"IF('GL Template'!B147<>\"\",'GL Template'!B147,0)","v":0},{"$f":"IF('GL Template'!D147<>\"\",'GL Template'!D147,0)","v":0},"Error",null,null,null,null,null,null,null,null,null,null,{"$f":"IF(OR(LEFT('Web Links'!$C133,2)=\"In\",$C133=\"Error\"),\"?????\",\"\"&C133)","v":"?????"},{"$f":"IF(OR(LEFT('Web Links'!$C133,2)=\"In\",$C133=\"Error\"),\"??????????\",\"\"&D133)","v":"??????????"},{"$f":"IF(OR(LEFT('Web Links'!$C133,2)=\"In\",$C133=\"Error\"),\"???\",IF(LEN(E133)=2,\"0\",IF(LEN(E133)=1,\"00\",\"\")))&'Web Links'!E133","v":"???"},{"$f":"IF(OR(LEFT('Web Links'!$C133,2)=\"In\",$C133=\"Error\"),\"?????\",IF(LEN(G133)=4,\"\",IF(LEN(G133)=3,\"\",IF(LEN(G133)=2,\"\",IF(LEN(G133)=1,\"\",\"\"))))&'Web Links'!G133)","v":"?????"},{"$f":"IF(OR(LEFT('Web Links'!$C133,2)=\"In\",$C133=\"Error\"),\"???????????????\",\"\"&F133)","v":"???????????????"}]
[{"$f":"IF('GL Template'!B148<>\"\",'GL Template'!B148,0)","v":0},{"$f":"IF('GL Template'!D148<>\"\",'GL Template'!D148,0)","v":0},"Error",null,null,null,null,null,null,null,null,null,null,{"$f":"IF(OR(LEFT('Web Links'!$C134,2)=\"In\",$C134=\"Error\"),\"?????\",\"\"&C134)","v":"?????"},{"$f":"IF(OR(LEFT('Web Links'!$C134,2)=\"In\",$C134=\"Error\"),\"??????????\",\"\"&D134)","v":"??????????"},{"$f":"IF(OR(LEFT('Web Links'!$C134,2)=\"In\",$C134=\"Error\"),\"???\",IF(LEN(E134)=2,\"0\",IF(LEN(E134)=1,\"00\",\"\")))&'Web Links'!E134","v":"???"},{"$f":"IF(OR(LEFT('Web Links'!$C134,2)=\"In\",$C134=\"Error\"),\"?????\",IF(LEN(G134)=4,\"\",IF(LEN(G134)=3,\"\",IF(LEN(G134)=2,\"\",IF(LEN(G134)=1,\"\",\"\"))))&'Web Links'!G134)","v":"?????"},{"$f":"IF(OR(LEFT('Web Links'!$C134,2)=\"In\",$C134=\"Error\"),\"???????????????\",\"\"&F134)","v":"???????????????"}]
[{"$f":"IF('GL Template'!B149<>\"\",'GL Template'!B149,0)","v":0},{"$f":"IF('GL Template'!D149<>\"\",'GL Template'!D149,0)","v":0},"Error",null,null,null,null,null,null,null,null,null,null,{"$f":"IF(OR(LEFT('Web Links'!$C135,2)=\"In\",$C135=\"Error\"),\"?????\",\"\"&C135)","v":"?????"},{"$f":"IF(OR(LEFT('Web Links'!$C135,2)=\"In\",$C135=\"Error\"),\"??????????\",\"\"&D135)","v":"??????????"},{"$f":"IF(OR(LEFT('Web Links'!$C135,2)=\"In\",$C135=\"Error\"),\"???\",IF(LEN(E135)=2,\"0\",IF(LEN(E135)=1,\"00\",\"\")))&'Web Links'!E135","v":"???"},{"$f":"IF(OR(LEFT('Web Links'!$C135,2)=\"In\",$C135=\"Error\"),\"?????\",IF(LEN(G135)=4,\"\",IF(LEN(G135)=3,\"\",IF(LEN(G135)=2,\"\",IF(LEN(G135)=1,\"\",\"\"))))&'Web Links'!G135)","v":"?????"},{"$f":"IF(OR(LEFT('Web Links'!$C135,2)=\"In\",$C135=\"Error\"),\"???????????????\",\"\"&F135)","v":"???????????????"}]
[{"$f":"IF('GL Template'!B150<>\"\",'GL Template'!B150,0)","v":0},{"$f":"IF('GL Template'!D150<>\"\",'GL Template'!D150,0)","v":0},"Error",null,null,null,null,null,null,null,null,null,null,{"$f":"IF(OR(LEFT('Web Links'!$C136,2)=\"In\",$C136=\"Error\"),\"?????\",\"\"&C136)","v":"?????"},{"$f":"IF(OR(LEFT('Web Links'!$C136,2)=\"In\",$C136=\"Error\"),\"??????????\",\"\"&D136)","v":"??????????"},{"$f":"IF(OR(LEFT('Web Links'!$C136,2)=\"In\",$C136=\"Error\"),\"???\",IF(LEN(E136)=2,\"0\",IF(LEN(E136)=1,\"00\",\"\")))&'Web Links'!E136","v":"???"},{"$f":"IF(OR(LEFT('Web Links'!$C136,2)=\"In\",$C136=\"Error\"),\"?????\",IF(LEN(G136)=4,\"\",IF(LEN(G136)=3,\"\",IF(LEN(G136)=2,\"\",IF(LEN(G136)=1,\"\",\"\"))))&'Web Links'!G136)","v":"?????"},{"$f":"IF(OR(LEFT('Web Links'!$C136,2)=\"In\",$C136=\"Error\"),\"???????????????\",\"\"&F136)","v":"???????????????"}]
[{"$f":"IF('GL Template'!B151<>\"\",'GL Template'!B151,0)","v":0},{"$f":"IF('GL Template'!D151<>\"\",'GL Template'!D151,0)","v":0},"Error",null,null,null,null,null,null,null,null,null,null,{"$f":"IF(OR(LEFT('Web Links'!$C137,2)=\"In\",$C137=\"Error\"),\"?????\",\"\"&C137)","v":"?????"},{"$f":"IF(OR(LEFT('Web Links'!$C137,2)=\"In\",$C137=\"Error\"),\"??????????\",\"\"&D137)","v":"??????????"},{"$f":"IF(OR(LEFT('Web Links'!$C137,2)=\"In\",$C137=\"Error\"),\"???\",IF(LEN(E137)=2,\"0\",IF(LEN(E137)=1,\"00\",\"\")))&'Web Links'!E137","v":"???"},{"$f":"IF(OR(LEFT('Web Links'!$C137,2)=\"In\",$C137=\"Error\"),\"?????\",IF(LEN(G137)=4,\"\",IF(LEN(G137)=3,\"\",IF(LEN(G137)=2,\"\",IF(LEN(G137)=1,\"\",\"\"))))&'Web Links'!G137)","v":"?????"},{"$f":"IF(OR(LEFT('Web Links'!$C137,2)=\"In\",$C137=\"Error\"),\"???????????????\",\"\"&F137)","v":"???????????????"}]
[{"$f":"IF('GL Template'!B152<>\"\",'GL Template'!B152,0)","v":0},{"$f":"IF('GL Template'!D152<>\"\",'GL Template'!D152,0)","v":0},"Error",null,null,null,null,null,null,null,null,null,null,{"$f":"IF(OR(LEFT('Web Links'!$C138,2)=\"In\",$C138=\"Error\"),\"?????\",\"\"&C138)","v":"?????"},{"$f":"IF(OR(LEFT('Web Links'!$C138,2)=\"In\",$C138=\"Error\"),\"??????????\",\"\"&D138)","v":"??????????"},{"$f":"IF(OR(LEFT('Web Links'!$C138,2)=\"In\",$C138=\"Error\"),\"???\",IF(LEN(E138)=2,\"0\",IF(LEN(E138)=1,\"00\",\"\")))&'Web Links'!E138","v":"???"},{"$f":"IF(OR(LEFT('Web Links'!$C138,2)=\"In\",$C138=\"Error\"),\"?????\",IF(LEN(G138)=4,\"\",IF(LEN(G138)=3,\"\",IF(LEN(G138)=2,\"\",IF(LEN(G138)=1,\"\",\"\"))))&'Web Links'!G138)","v":"?????"},{"$f":"IF(OR(LEFT('Web Links'!$C138,2)=\"In\",$C138=\"Error\"),\"???????????????\",\"\"&F138)","v":"???????????????"}]
[{"$f":"IF('GL Template'!B153<>\"\",'GL Template'!B153,0)","v":0},{"$f":"IF('GL Template'!D153<>\"\",'GL Template'!D153,0)","v":0},"Error",null,null,null,null,null,null,null,null,null,null,{"$f":"IF(OR(LEFT('Web Links'!$C139,2)=\"In\",$C139=\"Error\"),\"?????\",\"\"&C139)","v":"?????"},{"$f":"IF(OR(LEFT('Web Links'!$C139,2)=\"In\",$C139=\"Error\"),\"??????????\",\"\"&D139)","v":"??????????"},{"$f":"IF(OR(LEFT('Web Links'!$C139,2)=\"In\",$C139=\"Error\"),\"???\",IF(LEN(E139)=2,\"0\",IF(LEN(E139)=1,\"00\",\"\")))&'Web Links'!E139","v":"???"},{"$f":"IF(OR(LEFT('Web Links'!$C139,2)=\"In\",$C139=\"Error\"),\"?????\",IF(LEN(G139)=4,\"\",IF(LEN(G139)=3,\"\",IF(LEN(G139)=2,\"\",IF(LEN(G139)=1,\"\",\"\"))))&'Web Links'!G139)","v":"?????"},{"$f":"IF(OR(LEFT('Web Links'!$C139,2)=\"In\",$C139=\"Error\"),\"???????????????\",\"\"&F139)","v":"???????????????"}]
[{"$f":"IF('GL Template'!B154<>\"\",'GL Template'!B154,0)","v":0},{"$f":"IF('GL Template'!D154<>\"\",'GL Template'!D154,0)","v":0},"Error",null,null,null,null,null,null,null,null,null,null,{"$f":"IF(OR(LEFT('Web Links'!$C140,2)=\"In\",$C140=\"Error\"),\"?????\",\"\"&C140)","v":"?????"},{"$f":"IF(OR(LEFT('Web Links'!$C140,2)=\"In\",$C140=\"Error\"),\"??????????\",\"\"&D140)","v":"??????????"},{"$f":"IF(OR(LEFT('Web Links'!$C140,2)=\"In\",$C140=\"Error\"),\"???\",IF(LEN(E140)=2,\"0\",IF(LEN(E140)=1,\"00\",\"\")))&'Web Links'!E140","v":"???"},{"$f":"IF(OR(LEFT('Web Links'!$C140,2)=\"In\",$C140=\"Error\"),\"?????\",IF(LEN(G140)=4,\"\",IF(LEN(G140)=3,\"\",IF(LEN(G140)=2,\"\",IF(LEN(G140)=1,\"\",\"\"))))&'Web Links'!G140)","v":"?????"},{"$f":"IF(OR(LEFT('Web Links'!$C140,2)=\"In\",$C140=\"Error\"),\"???????????????\",\"\"&F140)","v":"???????????????"}]
[{"$f":"IF('GL Template'!B155<>\"\",'GL Template'!B155,0)","v":0},{"$f":"IF('GL Template'!D155<>\"\",'GL Template'!D155,0)","v":0},"Error",null,null,null,null,null,null,null,null,null,null,{"$f":"IF(OR(LEFT('Web Links'!$C141,2)=\"In\",$C141=\"Error\"),\"?????\",\"\"&C141)","v":"?????"},{"$f":"IF(OR(LEFT('Web Links'!$C141,2)=\"In\",$C141=\"Error\"),\"??????????\",\"\"&D141)","v":"??????????"},{"$f":"IF(OR(LEFT('Web Links'!$C141,2)=\"In\",$C141=\"Error\"),\"???\",IF(LEN(E141)=2,\"0\",IF(LEN(E141)=1,\"00\",\"\")))&'Web Links'!E141","v":"???"},{"$f":"IF(OR(LEFT('Web Links'!$C141,2)=\"In\",$C141=\"Error\"),\"?????\",IF(LEN(G141)=4,\"\",IF(LEN(G141)=3,\"\",IF(LEN(G141)=2,\"\",IF(LEN(G141)=1,\"\",\"\"))))&'Web Links'!G141)","v":"?????"},{"$f":"IF(OR(LEFT('Web Links'!$C141,2)=\"In\",$C141=\"Error\"),\"???????????????\",\"\"&F141)","v":"???????????????"}]
[{"$f":"IF('GL Template'!B156<>\"\",'GL Template'!B156,0)","v":0},{"$f":"IF('GL Template'!D156<>\"\",'GL Template'!D156,0)","v":0},"Error",null,null,null,null,null,null,null,null,null,null,{"$f":"IF(OR(LEFT('Web Links'!$C142,2)=\"In\",$C142=\"Error\"),\"?????\",\"\"&C142)","v":"?????"},{"$f":"IF(OR(LEFT('Web Links'!$C142,2)=\"In\",$C142=\"Error\"),\"??????????\",\"\"&D142)","v":"??????????"},{"$f":"IF(OR(LEFT('Web Links'!$C142,2)=\"In\",$C142=\"Error\"),\"???\",IF(LEN(E142)=2,\"0\",IF(LEN(E142)=1,\"00\",\"\")))&'Web Links'!E142","v":"???"},{"$f":"IF(OR(LEFT('Web Links'!$C142,2)=\"In\",$C142=\"Error\"),\"?????\",IF(LEN(G142)=4,\"\",IF(LEN(G142)=3,\"\",IF(LEN(G142)=2,\"\",IF(LEN(G142)=1,\"\",\"\"))))&'Web Links'!G142)","v":"?????"},{"$f":"IF(OR(LEFT('Web Links'!$C142,2)=\"In\",$C142=\"Error\"),\"???????????????\",\"\"&F142)","v":"???????????????"}]
[{"$f":"IF('GL Template'!B157<>\"\",'GL Template'!B157,0)","v":0},{"$f":"IF('GL Template'!D157<>\"\",'GL Template'!D157,0)","v":0},"Error",null,null,null,null,null,null,null,null,null,null,{"$f":"IF(OR(LEFT('Web Links'!$C143,2)=\"In\",$C143=\"Error\"),\"?????\",\"\"&C143)","v":"?????"},{"$f":"IF(OR(LEFT('Web Links'!$C143,2)=\"In\",$C143=\"Error\"),\"??????????\",\"\"&D143)","v":"??????????"},{"$f":"IF(OR(LEFT('Web Links'!$C143,2)=\"In\",$C143=\"Error\"),\"???\",IF(LEN(E143)=2,\"0\",IF(LEN(E143)=1,\"00\",\"\")))&'Web Links'!E143","v":"???"},{"$f":"IF(OR(LEFT('Web Links'!$C143,2)=\"In\",$C143=\"Error\"),\"?????\",IF(LEN(G143)=4,\"\",IF(LEN(G143)=3,\"\",IF(LEN(G143)=2,\"\",IF(LEN(G143)=1,\"\",\"\"))))&'Web Links'!G143)","v":"?????"},{"$f":"IF(OR(LEFT('Web Links'!$C143,2)=\"In\",$C143=\"Error\"),\"???????????????\",\"\"&F143)","v":"???????????????"}]
[{"$f":"IF('GL Template'!B158<>\"\",'GL Template'!B158,0)","v":0},{"$f":"IF('GL Template'!D158<>\"\",'GL Template'!D158,0)","v":0},"Error",null,null,null,null,null,null,null,null,null,null,{"$f":"IF(OR(LEFT('Web Links'!$C144,2)=\"In\",$C144=\"Error\"),\"?????\",\"\"&C144)","v":"?????"},{"$f":"IF(OR(LEFT('Web Links'!$C144,2)=\"In\",$C144=\"Error\"),\"??????????\",\"\"&D144)","v":"??????????"},{"$f":"IF(OR(LEFT('Web Links'!$C144,2)=\"In\",$C144=\"Error\"),\"???\",IF(LEN(E144)=2,\"0\",IF(LEN(E144)=1,\"00\",\"\")))&'Web Links'!E144","v":"???"},{"$f":"IF(OR(LEFT('Web Links'!$C144,2)=\"In\",$C144=\"Error\"),\"?????\",IF(LEN(G144)=4,\"\",IF(LEN(G144)=3,\"\",IF(LEN(G144)=2,\"\",IF(LEN(G144)=1,\"\",\"\"))))&'Web Links'!G144)","v":"?????"},{"$f":"IF(OR(LEFT('Web Links'!$C144,2)=\"In\",$C144=\"Error\"),\"???????????????\",\"\"&F144)","v":"???????????????"}]
[{"$f":"IF('GL Template'!B159<>\"\",'GL Template'!B159,0)","v":0},{"$f":"IF('GL Template'!D159<>\"\",'GL Template'!D159,0)","v":0},"Error",null,null,null,null,null,null,null,null,null,null,{"$f":"IF(OR(LEFT('Web Links'!$C145,2)=\"In\",$C145=\"Error\"),\"?????\",\"\"&C145)","v":"?????"},{"$f":"IF(OR(LEFT('Web Links'!$C145,2)=\"In\",$C145=\"Error\"),\"??????????\",\"\"&D145)","v":"??????????"},{"$f":"IF(OR(LEFT('Web Links'!$C145,2)=\"In\",$C145=\"Error\"),\"???\",IF(LEN(E145)=2,\"0\",IF(LEN(E145)=1,\"00\",\"\")))&'Web Links'!E145","v":"???"},{"$f":"IF(OR(LEFT('Web Links'!$C145,2)=\"In\",$C145=\"Error\"),\"?????\",IF(LEN(G145)=4,\"\",IF(LEN(G145)=3,\"\",IF(LEN(G145)=2,\"\",IF(LEN(G145)=1,\"\",\"\"))))&'Web Links'!G145)","v":"?????"},{"$f":"IF(OR(LEFT('Web Links'!$C145,2)=\"In\",$C145=\"Error\"),\"???????????????\",\"\"&F145)","v":"???????????????"}]
[{"$f":"IF('GL Template'!B160<>\"\",'GL Template'!B160,0)","v":0},{"$f":"IF('GL Template'!D160<>\"\",'GL Template'!D160,0)","v":0},"Error",null,null,null,null,null,null,null,null,null,null,{"$f":"IF(OR(LEFT('Web Links'!$C146,2)=\"In\",$C146=\"Error\"),\"?????\",\"\"&C146)","v":"?????"},{"$f":"IF(OR(LEFT('Web Links'!$C146,2)=\"In\",$C146=\"Error\"),\"??????????\",\"\"&D146)","v":"??????????"},{"$f":"IF(OR(LEFT('Web Links'!$C146,2)=\"In\",$C146=\"Error\"),\"???\",IF(LEN(E146)=2,\"0\",IF(LEN(E146)=1,\"00\",\"\")))&'Web Links'!E146","v":"???"},{"$f":"IF(OR(LEFT('Web Links'!$C146,2)=\"In\",$C146=\"Error\"),\"?????\",IF(LEN(G146)=4,\"\",IF(LEN(G146)=3,\"\",IF(LEN(G146)=2,\"\",IF(LEN(G146)=1,\"\",\"\"))))&'Web Links'!G146)","v":"?????"},{"$f":"IF(OR(LEFT('Web Links'!$C146,2)=\"In\",$C146=\"Error\"),\"???????????????\",\"\"&F146)","v":"???????????????"}]
[{"$f":"IF('GL Template'!B161<>\"\",'GL Template'!B161,0)","v":0},{"$f":"IF('GL Template'!D161<>\"\",'GL Template'!D161,0)","v":0},"Error",null,null,null,null,null,null,null,null,null,null,{"$f":"IF(OR(LEFT('Web Links'!$C147,2)=\"In\",$C147=\"Error\"),\"?????\",\"\"&C147)","v":"?????"},{"$f":"IF(OR(LEFT('Web Links'!$C147,2)=\"In\",$C147=\"Error\"),\"??????????\",\"\"&D147)","v":"??????????"},{"$f":"IF(OR(LEFT('Web Links'!$C147,2)=\"In\",$C147=\"Error\"),\"???\",IF(LEN(E147)=2,\"0\",IF(LEN(E147)=1,\"00\",\"\")))&'Web Links'!E147","v":"???"},{"$f":"IF(OR(LEFT('Web Links'!$C147,2)=\"In\",$C147=\"Error\"),\"?????\",IF(LEN(G147)=4,\"\",IF(LEN(G147)=3,\"\",IF(LEN(G147)=2,\"\",IF(LEN(G147)=1,\"\",\"\"))))&'Web Links'!G147)","v":"?????"},{"$f":"IF(OR(LEFT('Web Links'!$C147,2)=\"In\",$C147=\"Error\"),\"???????????????\",\"\"&F147)","v":"???????????????"}]
[{"$f":"IF('GL Template'!B162<>\"\",'GL Template'!B162,0)","v":0},{"$f":"IF('GL Template'!D162<>\"\",'GL Template'!D162,0)","v":0},"Error",null,null,null,null,null,null,null,null,null,null,{"$f":"IF(OR(LEFT('Web Links'!$C148,2)=\"In\",$C148=\"Error\"),\"?????\",\"\"&C148)","v":"?????"},{"$f":"IF(OR(LEFT('Web Links'!$C148,2)=\"In\",$C148=\"Error\"),\"??????????\",\"\"&D148)","v":"??????????"},{"$f":"IF(OR(LEFT('Web Links'!$C148,2)=\"In\",$C148=\"Error\"),\"???\",IF(LEN(E148)=2,\"0\",IF(LEN(E148)=1,\"00\",\"\")))&'Web Links'!E148","v":"???"},{"$f":"IF(OR(LEFT('Web Links'!$C148,2)=\"In\",$C148=\"Error\"),\"?????\",IF(LEN(G148)=4,\"\",IF(LEN(G148)=3,\"\",IF(LEN(G148)=2,\"\",IF(LEN(G148)=1,\"\",\"\"))))&'Web Links'!G148)","v":"?????"},{"$f":"IF(OR(LEFT('Web Links'!$C148,2)=\"In\",$C148=\"Error\"),\"???????????????\",\"\"&F148)","v":"???????????????"}]
[{"$f":"IF('GL Template'!B163<>\"\",'GL Template'!B163,0)","v":0},{"$f":"IF('GL Template'!D163<>\"\",'GL Template'!D163,0)","v":0},"Error",null,null,null,null,null,null,null,null,null,null,{"$f":"IF(OR(LEFT('Web Links'!$C149,2)=\"In\",$C149=\"Error\"),\"?????\",\"\"&C149)","v":"?????"},{"$f":"IF(OR(LEFT('Web Links'!$C149,2)=\"In\",$C149=\"Error\"),\"??????????\",\"\"&D149)","v":"??????????"},{"$f":"IF(OR(LEFT('Web Links'!$C149,2)=\"In\",$C149=\"Error\"),\"???\",IF(LEN(E149)=2,\"0\",IF(LEN(E149)=1,\"00\",\"\")))&'Web Links'!E149","v":"???"},{"$f":"IF(OR(LEFT('Web Links'!$C149,2)=\"In\",$C149=\"Error\"),\"?????\",IF(LEN(G149)=4,\"\",IF(LEN(G149)=3,\"\",IF(LEN(G149)=2,\"\",IF(LEN(G149)=1,\"\",\"\"))))&'Web Links'!G149)","v":"?????"},{"$f":"IF(OR(LEFT('Web Links'!$C149,2)=\"In\",$C149=\"Error\"),\"???????????????\",\"\"&F149)","v":"???????????????"}]
[{"$f":"IF('GL Template'!B164<>\"\",'GL Template'!B164,0)","v":0},{"$f":"IF('GL Template'!D164<>\"\",'GL Template'!D164,0)","v":0},"Error",null,null,null,null,null,null,null,null,null,null,{"$f":"IF(OR(LEFT('Web Links'!$C150,2)=\"In\",$C150=\"Error\"),\"?????\",\"\"&C150)","v":"?????"},{"$f":"IF(OR(LEFT('Web Links'!$C150,2)=\"In\",$C150=\"Error\"),\"??????????\",\"\"&D150)","v":"??????????"},{"$f":"IF(OR(LEFT('Web Links'!$C150,2)=\"In\",$C150=\"Error\"),\"???\",IF(LEN(E150)=2,\"0\",IF(LEN(E150)=1,\"00\",\"\")))&'Web Links'!E150","v":"???"},{"$f":"IF(OR(LEFT('Web Links'!$C150,2)=\"In\",$C150=\"Error\"),\"?????\",IF(LEN(G150)=4,\"\",IF(LEN(G150)=3,\"\",IF(LEN(G150)=2,\"\",IF(LEN(G150)=1,\"\",\"\"))))&'Web Links'!G150)","v":"?????"},{"$f":"IF(OR(LEFT('Web Links'!$C150,2)=\"In\",$C150=\"Error\"),\"???????????????\",\"\"&F150)","v":"???????????????"}]
[{"$f":"IF('GL Template'!B165<>\"\",'GL Template'!B165,0)","v":0},{"$f":"IF('GL Template'!D165<>\"\",'GL Template'!D165,0)","v":0},"Error",null,null,null,null,null,null,null,null,null,null,{"$f":"IF(OR(LEFT('Web Links'!$C151,2)=\"In\",$C151=\"Error\"),\"?????\",\"\"&C151)","v":"?????"},{"$f":"IF(OR(LEFT('Web Links'!$C151,2)=\"In\",$C151=\"Error\"),\"??????????\",\"\"&D151)","v":"??????????"},{"$f":"IF(OR(LEFT('Web Links'!$C151,2)=\"In\",$C151=\"Error\"),\"???\",IF(LEN(E151)=2,\"0\",IF(LEN(E151)=1,\"00\",\"\")))&'Web Links'!E151","v":"???"},{"$f":"IF(OR(LEFT('Web Links'!$C151,2)=\"In\",$C151=\"Error\"),\"?????\",IF(LEN(G151)=4,\"\",IF(LEN(G151)=3,\"\",IF(LEN(G151)=2,\"\",IF(LEN(G151)=1,\"\",\"\"))))&'Web Links'!G151)","v":"?????"},{"$f":"IF(OR(LEFT('Web Links'!$C151,2)=\"In\",$C151=\"Error\"),\"???????????????\",\"\"&F151)","v":"???????????????"}]
[{"$f":"IF('GL Template'!B166<>\"\",'GL Template'!B166,0)","v":0},{"$f":"IF('GL Template'!D166<>\"\",'GL Template'!D166,0)","v":0},"Error",null,null,null,null,null,null,null,null,null,null,{"$f":"IF(OR(LEFT('Web Links'!$C152,2)=\"In\",$C152=\"Error\"),\"?????\",\"\"&C152)","v":"?????"},{"$f":"IF(OR(LEFT('Web Links'!$C152,2)=\"In\",$C152=\"Error\"),\"??????????\",\"\"&D152)","v":"??????????"},{"$f":"IF(OR(LEFT('Web Links'!$C152,2)=\"In\",$C152=\"Error\"),\"???\",IF(LEN(E152)=2,\"0\",IF(LEN(E152)=1,\"00\",\"\")))&'Web Links'!E152","v":"???"},{"$f":"IF(OR(LEFT('Web Links'!$C152,2)=\"In\",$C152=\"Error\"),\"?????\",IF(LEN(G152)=4,\"\",IF(LEN(G152)=3,\"\",IF(LEN(G152)=2,\"\",IF(LEN(G152)=1,\"\",\"\"))))&'Web Links'!G152)","v":"?????"},{"$f":"IF(OR(LEFT('Web Links'!$C152,2)=\"In\",$C152=\"Error\"),\"???????????????\",\"\"&F152)","v":"???????????????"}]
[{"$f":"IF('GL Template'!B167<>\"\",'GL Template'!B167,0)","v":0},{"$f":"IF('GL Template'!D167<>\"\",'GL Template'!D167,0)","v":0},"Error",null,null,null,null,null,null,null,null,null,null,{"$f":"IF(OR(LEFT('Web Links'!$C153,2)=\"In\",$C153=\"Error\"),\"?????\",\"\"&C153)","v":"?????"},{"$f":"IF(OR(LEFT('Web Links'!$C153,2)=\"In\",$C153=\"Error\"),\"??????????\",\"\"&D153)","v":"??????????"},{"$f":"IF(OR(LEFT('Web Links'!$C153,2)=\"In\",$C153=\"Error\"),\"???\",IF(LEN(E153)=2,\"0\",IF(LEN(E153)=1,\"00\",\"\")))&'Web Links'!E153","v":"???"},{"$f":"IF(OR(LEFT('Web Links'!$C153,2)=\"In\",$C153=\"Error\"),\"?????\",IF(LEN(G153)=4,\"\",IF(LEN(G153)=3,\"\",IF(LEN(G153)=2,\"\",IF(LEN(G153)=1,\"\",\"\"))))&'Web Links'!G153)","v":"?????"},{"$f":"IF(OR(LEFT('Web Links'!$C153,2)=\"In\",$C153=\"Error\"),\"???????????????\",\"\"&F153)","v":"???????????????"}]
[{"$f":"IF('GL Template'!B168<>\"\",'GL Template'!B168,0)","v":0},{"$f":"IF('GL Template'!D168<>\"\",'GL Template'!D168,0)","v":0},"Error",null,null,null,null,null,null,null,null,null,null,{"$f":"IF(OR(LEFT('Web Links'!$C154,2)=\"In\",$C154=\"Error\"),\"?????\",\"\"&C154)","v":"?????"},{"$f":"IF(OR(LEFT('Web Links'!$C154,2)=\"In\",$C154=\"Error\"),\"??????????\",\"\"&D154)","v":"??????????"},{"$f":"IF(OR(LEFT('Web Links'!$C154,2)=\"In\",$C154=\"Error\"),\"???\",IF(LEN(E154)=2,\"0\",IF(LEN(E154)=1,\"00\",\"\")))&'Web Links'!E154","v":"???"},{"$f":"IF(OR(LEFT('Web Links'!$C154,2)=\"In\",$C154=\"Error\"),\"?????\",IF(LEN(G154)=4,\"\",IF(LEN(G154)=3,\"\",IF(LEN(G154)=2,\"\",IF(LEN(G154)=1,\"\",\"\"))))&'Web Links'!G154)","v":"?????"},{"$f":"IF(OR(LEFT('Web Links'!$C154,2)=\"In\",$C154=\"Error\"),\"???????????????\",\"\"&F154)","v":"???????????????"}]
[{"$f":"IF('GL Template'!B169<>\"\",'GL Template'!B169,0)","v":0},{"$f":"IF('GL Template'!D169<>\"\",'GL Template'!D169,0)","v":0},"Error",null,null,null,null,null,null,null,null,null,null,{"$f":"IF(OR(LEFT('Web Links'!$C155,2)=\"In\",$C155=\"Error\"),\"?????\",\"\"&C155)","v":"?????"},{"$f":"IF(OR(LEFT('Web Links'!$C155,2)=\"In\",$C155=\"Error\"),\"??????????\",\"\"&D155)","v":"??????????"},{"$f":"IF(OR(LEFT('Web Links'!$C155,2)=\"In\",$C155=\"Error\"),\"???\",IF(LEN(E155)=2,\"0\",IF(LEN(E155)=1,\"00\",\"\")))&'Web Links'!E155","v":"???"},{"$f":"IF(OR(LEFT('Web Links'!$C155,2)=\"In\",$C155=\"Error\"),\"?????\",IF(LEN(G155)=4,\"\",IF(LEN(G155)=3,\"\",IF(LEN(G155)=2,\"\",IF(LEN(G155)=1,\"\",\"\"))))&'Web Links'!G155)","v":"?????"},{"$f":"IF(OR(LEFT('Web Links'!$C155,2)=\"In\",$C155=\"Error\"),\"???????????????\",\"\"&F155)","v":"???????????????"}]
[{"$f":"IF('GL Template'!B170<>\"\",'GL Template'!B170,0)","v":0},{"$f":"IF('GL Template'!D170<>\"\",'GL Template'!D170,0)","v":0},"Error",null,null,null,null,null,null,null,null,null,null,{"$f":"IF(OR(LEFT('Web Links'!$C156,2)=\"In\",$C156=\"Error\"),\"?????\",\"\"&C156)","v":"?????"},{"$f":"IF(OR(LEFT('Web Links'!$C156,2)=\"In\",$C156=\"Error\"),\"??????????\",\"\"&D156)","v":"??????????"},{"$f":"IF(OR(LEFT('Web Links'!$C156,2)=\"In\",$C156=\"Error\"),\"???\",IF(LEN(E156)=2,\"0\",IF(LEN(E156)=1,\"00\",\"\")))&'Web Links'!E156","v":"???"},{"$f":"IF(OR(LEFT('Web Links'!$C156,2)=\"In\",$C156=\"Error\"),\"?????\",IF(LEN(G156)=4,\"\",IF(LEN(G156)=3,\"\",IF(LEN(G156)=2,\"\",IF(LEN(G156)=1,\"\",\"\"))))&'Web Links'!G156)","v":"?????"},{"$f":"IF(OR(LEFT('Web Links'!$C156,2)=\"In\",$C156=\"Error\"),\"???????????????\",\"\"&F156)","v":"???????????????"}]
[{"$f":"IF('GL Template'!B171<>\"\",'GL Template'!B171,0)","v":0},{"$f":"IF('GL Template'!D171<>\"\",'GL Template'!D171,0)","v":0},"Error",null,null,null,null,null,null,null,null,null,null,{"$f":"IF(OR(LEFT('Web Links'!$C157,2)=\"In\",$C157=\"Error\"),\"?????\",\"\"&C157)","v":"?????"},{"$f":"IF(OR(LEFT('Web Links'!$C157,2)=\"In\",$C157=\"Error\"),\"??????????\",\"\"&D157)","v":"??????????"},{"$f":"IF(OR(LEFT('Web Links'!$C157,2)=\"In\",$C157=\"Error\"),\"???\",IF(LEN(E157)=2,\"0\",IF(LEN(E157)=1,\"00\",\"\")))&'Web Links'!E157","v":"???"},{"$f":"IF(OR(LEFT('Web Links'!$C157,2)=\"In\",$C157=\"Error\"),\"?????\",IF(LEN(G157)=4,\"\",IF(LEN(G157)=3,\"\",IF(LEN(G157)=2,\"\",IF(LEN(G157)=1,\"\",\"\"))))&'Web Links'!G157)","v":"?????"},{"$f":"IF(OR(LEFT('Web Links'!$C157,2)=\"In\",$C157=\"Error\"),\"???????????????\",\"\"&F157)","v":"???????????????"}]
[{"$f":"IF('GL Template'!B172<>\"\",'GL Template'!B172,0)","v":0},{"$f":"IF('GL Template'!D172<>\"\",'GL Template'!D172,0)","v":0},"Error",null,null,null,null,null,null,null,null,null,null,{"$f":"IF(OR(LEFT('Web Links'!$C158,2)=\"In\",$C158=\"Error\"),\"?????\",\"\"&C158)","v":"?????"},{"$f":"IF(OR(LEFT('Web Links'!$C158,2)=\"In\",$C158=\"Error\"),\"??????????\",\"\"&D158)","v":"??????????"},{"$f":"IF(OR(LEFT('Web Links'!$C158,2)=\"In\",$C158=\"Error\"),\"???\",IF(LEN(E158)=2,\"0\",IF(LEN(E158)=1,\"00\",\"\")))&'Web Links'!E158","v":"???"},{"$f":"IF(OR(LEFT('Web Links'!$C158,2)=\"In\",$C158=\"Error\"),\"?????\",IF(LEN(G158)=4,\"\",IF(LEN(G158)=3,\"\",IF(LEN(G158)=2,\"\",IF(LEN(G158)=1,\"\",\"\"))))&'Web Links'!G158)","v":"?????"},{"$f":"IF(OR(LEFT('Web Links'!$C158,2)=\"In\",$C158=\"Error\"),\"???????????????\",\"\"&F158)","v":"???????????????"}]
[{"$f":"IF('GL Template'!B173<>\"\",'GL Template'!B173,0)","v":0},{"$f":"IF('GL Template'!D173<>\"\",'GL Template'!D173,0)","v":0},"Error",null,null,null,null,null,null,null,null,null,null,{"$f":"IF(OR(LEFT('Web Links'!$C159,2)=\"In\",$C159=\"Error\"),\"?????\",\"\"&C159)","v":"?????"},{"$f":"IF(OR(LEFT('Web Links'!$C159,2)=\"In\",$C159=\"Error\"),\"??????????\",\"\"&D159)","v":"??????????"},{"$f":"IF(OR(LEFT('Web Links'!$C159,2)=\"In\",$C159=\"Error\"),\"???\",IF(LEN(E159)=2,\"0\",IF(LEN(E159)=1,\"00\",\"\")))&'Web Links'!E159","v":"???"},{"$f":"IF(OR(LEFT('Web Links'!$C159,2)=\"In\",$C159=\"Error\"),\"?????\",IF(LEN(G159)=4,\"\",IF(LEN(G159)=3,\"\",IF(LEN(G159)=2,\"\",IF(LEN(G159)=1,\"\",\"\"))))&'Web Links'!G159)","v":"?????"},{"$f":"IF(OR(LEFT('Web Links'!$C159,2)=\"In\",$C159=\"Error\"),\"???????????????\",\"\"&F159)","v":"???????????????"}]
[{"$f":"IF('GL Template'!B174<>\"\",'GL Template'!B174,0)","v":0},{"$f":"IF('GL Template'!D174<>\"\",'GL Template'!D174,0)","v":0},"Error",null,null,null,null,null,null,null,null,null,null,{"$f":"IF(OR(LEFT('Web Links'!$C160,2)=\"In\",$C160=\"Error\"),\"?????\",\"\"&C160)","v":"?????"},{"$f":"IF(OR(LEFT('Web Links'!$C160,2)=\"In\",$C160=\"Error\"),\"??????????\",\"\"&D160)","v":"??????????"},{"$f":"IF(OR(LEFT('Web Links'!$C160,2)=\"In\",$C160=\"Error\"),\"???\",IF(LEN(E160)=2,\"0\",IF(LEN(E160)=1,\"00\",\"\")))&'Web Links'!E160","v":"???"},{"$f":"IF(OR(LEFT('Web Links'!$C160,2)=\"In\",$C160=\"Error\"),\"?????\",IF(LEN(G160)=4,\"\",IF(LEN(G160)=3,\"\",IF(LEN(G160)=2,\"\",IF(LEN(G160)=1,\"\",\"\"))))&'Web Links'!G160)","v":"?????"},{"$f":"IF(OR(LEFT('Web Links'!$C160,2)=\"In\",$C160=\"Error\"),\"???????????????\",\"\"&F160)","v":"???????????????"}]
[{"$f":"IF('GL Template'!B175<>\"\",'GL Template'!B175,0)","v":0},{"$f":"IF('GL Template'!D175<>\"\",'GL Template'!D175,0)","v":0},"Error",null,null,null,null,null,null,null,null,null,null,{"$f":"IF(OR(LEFT('Web Links'!$C161,2)=\"In\",$C161=\"Error\"),\"?????\",\"\"&C161)","v":"?????"},{"$f":"IF(OR(LEFT('Web Links'!$C161,2)=\"In\",$C161=\"Error\"),\"??????????\",\"\"&D161)","v":"??????????"},{"$f":"IF(OR(LEFT('Web Links'!$C161,2)=\"In\",$C161=\"Error\"),\"???\",IF(LEN(E161)=2,\"0\",IF(LEN(E161)=1,\"00\",\"\")))&'Web Links'!E161","v":"???"},{"$f":"IF(OR(LEFT('Web Links'!$C161,2)=\"In\",$C161=\"Error\"),\"?????\",IF(LEN(G161)=4,\"\",IF(LEN(G161)=3,\"\",IF(LEN(G161)=2,\"\",IF(LEN(G161)=1,\"\",\"\"))))&'Web Links'!G161)","v":"?????"},{"$f":"IF(OR(LEFT('Web Links'!$C161,2)=\"In\",$C161=\"Error\"),\"???????????????\",\"\"&F161)","v":"???????????????"}]
[{"$f":"IF('GL Template'!B176<>\"\",'GL Template'!B176,0)","v":0},{"$f":"IF('GL Template'!D176<>\"\",'GL Template'!D176,0)","v":0},"Error",null,null,null,null,null,null,null,null,null,null,{"$f":"IF(OR(LEFT('Web Links'!$C162,2)=\"In\",$C162=\"Error\"),\"?????\",\"\"&C162)","v":"?????"},{"$f":"IF(OR(LEFT('Web Links'!$C162,2)=\"In\",$C162=\"Error\"),\"??????????\",\"\"&D162)","v":"??????????"},{"$f":"IF(OR(LEFT('Web Links'!$C162,2)=\"In\",$C162=\"Error\"),\"???\",IF(LEN(E162)=2,\"0\",IF(LEN(E162)=1,\"00\",\"\")))&'Web Links'!E162","v":"???"},{"$f":"IF(OR(LEFT('Web Links'!$C162,2)=\"In\",$C162=\"Error\"),\"?????\",IF(LEN(G162)=4,\"\",IF(LEN(G162)=3,\"\",IF(LEN(G162)=2,\"\",IF(LEN(G162)=1,\"\",\"\"))))&'Web Links'!G162)","v":"?????"},{"$f":"IF(OR(LEFT('Web Links'!$C162,2)=\"In\",$C162=\"Error\"),\"???????????????\",\"\"&F162)","v":"???????????????"}]
[{"$f":"IF('GL Template'!B177<>\"\",'GL Template'!B177,0)","v":0},{"$f":"IF('GL Template'!D177<>\"\",'GL Template'!D177,0)","v":0},"Error",null,null,null,null,null,null,null,null,null,null,{"$f":"IF(OR(LEFT('Web Links'!$C163,2)=\"In\",$C163=\"Error\"),\"?????\",\"\"&C163)","v":"?????"},{"$f":"IF(OR(LEFT('Web Links'!$C163,2)=\"In\",$C163=\"Error\"),\"??????????\",\"\"&D163)","v":"??????????"},{"$f":"IF(OR(LEFT('Web Links'!$C163,2)=\"In\",$C163=\"Error\"),\"???\",IF(LEN(E163)=2,\"0\",IF(LEN(E163)=1,\"00\",\"\")))&'Web Links'!E163","v":"???"},{"$f":"IF(OR(LEFT('Web Links'!$C163,2)=\"In\",$C163=\"Error\"),\"?????\",IF(LEN(G163)=4,\"\",IF(LEN(G163)=3,\"\",IF(LEN(G163)=2,\"\",IF(LEN(G163)=1,\"\",\"\"))))&'Web Links'!G163)","v":"?????"},{"$f":"IF(OR(LEFT('Web Links'!$C163,2)=\"In\",$C163=\"Error\"),\"???????????????\",\"\"&F163)","v":"???????????????"}]
[{"$f":"IF('GL Template'!B178<>\"\",'GL Template'!B178,0)","v":0},{"$f":"IF('GL Template'!D178<>\"\",'GL Template'!D178,0)","v":0},"Error",null,null,null,null,null,null,null,null,null,null,{"$f":"IF(OR(LEFT('Web Links'!$C164,2)=\"In\",$C164=\"Error\"),\"?????\",\"\"&C164)","v":"?????"},{"$f":"IF(OR(LEFT('Web Links'!$C164,2)=\"In\",$C164=\"Error\"),\"??????????\",\"\"&D164)","v":"??????????"},{"$f":"IF(OR(LEFT('Web Links'!$C164,2)=\"In\",$C164=\"Error\"),\"???\",IF(LEN(E164)=2,\"0\",IF(LEN(E164)=1,\"00\",\"\")))&'Web Links'!E164","v":"???"},{"$f":"IF(OR(LEFT('Web Links'!$C164,2)=\"In\",$C164=\"Error\"),\"?????\",IF(LEN(G164)=4,\"\",IF(LEN(G164)=3,\"\",IF(LEN(G164)=2,\"\",IF(LEN(G164)=1,\"\",\"\"))))&'Web Links'!G164)","v":"?????"},{"$f":"IF(OR(LEFT('Web Links'!$C164,2)=\"In\",$C164=\"Error\"),\"???????????????\",\"\"&F164)","v":"???????????????"}]
[{"$f":"IF('GL Template'!B179<>\"\",'GL Template'!B179,0)","v":0},{"$f":"IF('GL Template'!D179<>\"\",'GL Template'!D179,0)","v":0},"Error",null,null,null,null,null,null,null,null,null,null,{"$f":"IF(OR(LEFT('Web Links'!$C165,2)=\"In\",$C165=\"Error\"),\"?????\",\"\"&C165)","v":"?????"},{"$f":"IF(OR(LEFT('Web Links'!$C165,2)=\"In\",$C165=\"Error\"),\"??????????\",\"\"&D165)","v":"??????????"},{"$f":"IF(OR(LEFT('Web Links'!$C165,2)=\"In\",$C165=\"Error\"),\"???\",IF(LEN(E165)=2,\"0\",IF(LEN(E165)=1,\"00\",\"\")))&'Web Links'!E165","v":"???"},{"$f":"IF(OR(LEFT('Web Links'!$C165,2)=\"In\",$C165=\"Error\"),\"?????\",IF(LEN(G165)=4,\"\",IF(LEN(G165)=3,\"\",IF(LEN(G165)=2,\"\",IF(LEN(G165)=1,\"\",\"\"))))&'Web Links'!G165)","v":"?????"},{"$f":"IF(OR(LEFT('Web Links'!$C165,2)=\"In\",$C165=\"Error\"),\"???????????????\",\"\"&F165)","v":"???????????????"}]
[{"$f":"IF('GL Template'!B180<>\"\",'GL Template'!B180,0)","v":0},{"$f":"IF('GL Template'!D180<>\"\",'GL Template'!D180,0)","v":0},"Error",null,null,null,null,null,null,null,null,null,null,{"$f":"IF(OR(LEFT('Web Links'!$C166,2)=\"In\",$C166=\"Error\"),\"?????\",\"\"&C166)","v":"?????"},{"$f":"IF(OR(LEFT('Web Links'!$C166,2)=\"In\",$C166=\"Error\"),\"??????????\",\"\"&D166)","v":"??????????"},{"$f":"IF(OR(LEFT('Web Links'!$C166,2)=\"In\",$C166=\"Error\"),\"???\",IF(LEN(E166)=2,\"0\",IF(LEN(E166)=1,\"00\",\"\")))&'Web Links'!E166","v":"???"},{"$f":"IF(OR(LEFT('Web Links'!$C166,2)=\"In\",$C166=\"Error\"),\"?????\",IF(LEN(G166)=4,\"\",IF(LEN(G166)=3,\"\",IF(LEN(G166)=2,\"\",IF(LEN(G166)=1,\"\",\"\"))))&'Web Links'!G166)","v":"?????"},{"$f":"IF(OR(LEFT('Web Links'!$C166,2)=\"In\",$C166=\"Error\"),\"???????????????\",\"\"&F166)","v":"???????????????"}]
[{"$f":"IF('GL Template'!B181<>\"\",'GL Template'!B181,0)","v":0},{"$f":"IF('GL Template'!D181<>\"\",'GL Template'!D181,0)","v":0},"Error",null,null,null,null,null,null,null,null,null,null,{"$f":"IF(OR(LEFT('Web Links'!$C167,2)=\"In\",$C167=\"Error\"),\"?????\",\"\"&C167)","v":"?????"},{"$f":"IF(OR(LEFT('Web Links'!$C167,2)=\"In\",$C167=\"Error\"),\"??????????\",\"\"&D167)","v":"??????????"},{"$f":"IF(OR(LEFT('Web Links'!$C167,2)=\"In\",$C167=\"Error\"),\"???\",IF(LEN(E167)=2,\"0\",IF(LEN(E167)=1,\"00\",\"\")))&'Web Links'!E167","v":"???"},{"$f":"IF(OR(LEFT('Web Links'!$C167,2)=\"In\",$C167=\"Error\"),\"?????\",IF(LEN(G167)=4,\"\",IF(LEN(G167)=3,\"\",IF(LEN(G167)=2,\"\",IF(LEN(G167)=1,\"\",\"\"))))&'Web Links'!G167)","v":"?????"},{"$f":"IF(OR(LEFT('Web Links'!$C167,2)=\"In\",$C167=\"Error\"),\"???????????????\",\"\"&F167)","v":"???????????????"}]
[{"$f":"IF('GL Template'!B182<>\"\",'GL Template'!B182,0)","v":0},{"$f":"IF('GL Template'!D182<>\"\",'GL Template'!D182,0)","v":0},"Error",null,null,null,null,null,null,null,null,null,null,{"$f":"IF(OR(LEFT('Web Links'!$C168,2)=\"In\",$C168=\"Error\"),\"?????\",\"\"&C168)","v":"?????"},{"$f":"IF(OR(LEFT('Web Links'!$C168,2)=\"In\",$C168=\"Error\"),\"??????????\",\"\"&D168)","v":"??????????"},{"$f":"IF(OR(LEFT('Web Links'!$C168,2)=\"In\",$C168=\"Error\"),\"???\",IF(LEN(E168)=2,\"0\",IF(LEN(E168)=1,\"00\",\"\")))&'Web Links'!E168","v":"???"},{"$f":"IF(OR(LEFT('Web Links'!$C168,2)=\"In\",$C168=\"Error\"),\"?????\",IF(LEN(G168)=4,\"\",IF(LEN(G168)=3,\"\",IF(LEN(G168)=2,\"\",IF(LEN(G168)=1,\"\",\"\"))))&'Web Links'!G168)","v":"?????"},{"$f":"IF(OR(LEFT('Web Links'!$C168,2)=\"In\",$C168=\"Error\"),\"???????????????\",\"\"&F168)","v":"???????????????"}]
[{"$f":"IF('GL Template'!B183<>\"\",'GL Template'!B183,0)","v":0},{"$f":"IF('GL Template'!D183<>\"\",'GL Template'!D183,0)","v":0},"Error",null,null,null,null,null,null,null,null,null,null,{"$f":"IF(OR(LEFT('Web Links'!$C169,2)=\"In\",$C169=\"Error\"),\"?????\",\"\"&C169)","v":"?????"},{"$f":"IF(OR(LEFT('Web Links'!$C169,2)=\"In\",$C169=\"Error\"),\"??????????\",\"\"&D169)","v":"??????????"},{"$f":"IF(OR(LEFT('Web Links'!$C169,2)=\"In\",$C169=\"Error\"),\"???\",IF(LEN(E169)=2,\"0\",IF(LEN(E169)=1,\"00\",\"\")))&'Web Links'!E169","v":"???"},{"$f":"IF(OR(LEFT('Web Links'!$C169,2)=\"In\",$C169=\"Error\"),\"?????\",IF(LEN(G169)=4,\"\",IF(LEN(G169)=3,\"\",IF(LEN(G169)=2,\"\",IF(LEN(G169)=1,\"\",\"\"))))&'Web Links'!G169)","v":"?????"},{"$f":"IF(OR(LEFT('Web Links'!$C169,2)=\"In\",$C169=\"Error\"),\"???????????????\",\"\"&F169)","v":"???????????????"}]
[{"$f":"IF('GL Template'!B184<>\"\",'GL Template'!B184,0)","v":0},{"$f":"IF('GL Template'!D184<>\"\",'GL Template'!D184,0)","v":0},"Error",null,null,null,null,null,null,null,null,null,null,{"$f":"IF(OR(LEFT('Web Links'!$C170,2)=\"In\",$C170=\"Error\"),\"?????\",\"\"&C170)","v":"?????"},{"$f":"IF(OR(LEFT('Web Links'!$C170,2)=\"In\",$C170=\"Error\"),\"??????????\",\"\"&D170)","v":"??????????"},{"$f":"IF(OR(LEFT('Web Links'!$C170,2)=\"In\",$C170=\"Error\"),\"???\",IF(LEN(E170)=2,\"0\",IF(LEN(E170)=1,\"00\",\"\")))&'Web Links'!E170","v":"???"},{"$f":"IF(OR(LEFT('Web Links'!$C170,2)=\"In\",$C170=\"Error\"),\"?????\",IF(LEN(G170)=4,\"\",IF(LEN(G170)=3,\"\",IF(LEN(G170)=2,\"\",IF(LEN(G170)=1,\"\",\"\"))))&'Web Links'!G170)","v":"?????"},{"$f":"IF(OR(LEFT('Web Links'!$C170,2)=\"In\",$C170=\"Error\"),\"???????????????\",\"\"&F170)","v":"???????????????"}]
[{"$f":"IF('GL Template'!B185<>\"\",'GL Template'!B185,0)","v":0},{"$f":"IF('GL Template'!D185<>\"\",'GL Template'!D185,0)","v":0},"Error",null,null,null,null,null,null,null,null,null,null,{"$f":"IF(OR(LEFT('Web Links'!$C171,2)=\"In\",$C171=\"Error\"),\"?????\",\"\"&C171)","v":"?????"},{"$f":"IF(OR(LEFT('Web Links'!$C171,2)=\"In\",$C171=\"Error\"),\"??????????\",\"\"&D171)","v":"??????????"},{"$f":"IF(OR(LEFT('Web Links'!$C171,2)=\"In\",$C171=\"Error\"),\"???\",IF(LEN(E171)=2,\"0\",IF(LEN(E171)=1,\"00\",\"\")))&'Web Links'!E171","v":"???"},{"$f":"IF(OR(LEFT('Web Links'!$C171,2)=\"In\",$C171=\"Error\"),\"?????\",IF(LEN(G171)=4,\"\",IF(LEN(G171)=3,\"\",IF(LEN(G171)=2,\"\",IF(LEN(G171)=1,\"\",\"\"))))&'Web Links'!G171)","v":"?????"},{"$f":"IF(OR(LEFT('Web Links'!$C171,2)=\"In\",$C171=\"Error\"),\"???????????????\",\"\"&F171)","v":"???????????????"}]
[{"$f":"IF('GL Template'!B186<>\"\",'GL Template'!B186,0)","v":0},{"$f":"IF('GL Template'!D186<>\"\",'GL Template'!D186,0)","v":0},"Error",null,null,null,null,null,null,null,null,null,null,{"$f":"IF(OR(LEFT('Web Links'!$C172,2)=\"In\",$C172=\"Error\"),\"?????\",\"\"&C172)","v":"?????"},{"$f":"IF(OR(LEFT('Web Links'!$C172,2)=\"In\",$C172=\"Error\"),\"??????????\",\"\"&D172)","v":"??????????"},{"$f":"IF(OR(LEFT('Web Links'!$C172,2)=\"In\",$C172=\"Error\"),\"???\",IF(LEN(E172)=2,\"0\",IF(LEN(E172)=1,\"00\",\"\")))&'Web Links'!E172","v":"???"},{"$f":"IF(OR(LEFT('Web Links'!$C172,2)=\"In\",$C172=\"Error\"),\"?????\",IF(LEN(G172)=4,\"\",IF(LEN(G172)=3,\"\",IF(LEN(G172)=2,\"\",IF(LEN(G172)=1,\"\",\"\"))))&'Web Links'!G172)","v":"?????"},{"$f":"IF(OR(LEFT('Web Links'!$C172,2)=\"In\",$C172=\"Error\"),\"???????????????\",\"\"&F172)","v":"???????????????"}]
[{"$f":"IF('GL Template'!B187<>\"\",'GL Template'!B187,0)","v":0},{"$f":"IF('GL Template'!D187<>\"\",'GL Template'!D187,0)","v":0},"Error",null,null,null,null,null,null,null,null,null,null,{"$f":"IF(OR(LEFT('Web Links'!$C173,2)=\"In\",$C173=\"Error\"),\"?????\",\"\"&C173)","v":"?????"},{"$f":"IF(OR(LEFT('Web Links'!$C173,2)=\"In\",$C173=\"Error\"),\"??????????\",\"\"&D173)","v":"??????????"},{"$f":"IF(OR(LEFT('Web Links'!$C173,2)=\"In\",$C173=\"Error\"),\"???\",IF(LEN(E173)=2,\"0\",IF(LEN(E173)=1,\"00\",\"\")))&'Web Links'!E173","v":"???"},{"$f":"IF(OR(LEFT('Web Links'!$C173,2)=\"In\",$C173=\"Error\"),\"?????\",IF(LEN(G173)=4,\"\",IF(LEN(G173)=3,\"\",IF(LEN(G173)=2,\"\",IF(LEN(G173)=1,\"\",\"\"))))&'Web Links'!G173)","v":"?????"},{"$f":"IF(OR(LEFT('Web Links'!$C173,2)=\"In\",$C173=\"Error\"),\"???????????????\",\"\"&F173)","v":"???????????????"}]
[{"$f":"IF('GL Template'!B188<>\"\",'GL Template'!B188,0)","v":0},{"$f":"IF('GL Template'!D188<>\"\",'GL Template'!D188,0)","v":0},"Error",null,null,null,null,null,null,null,null,null,null,{"$f":"IF(OR(LEFT('Web Links'!$C174,2)=\"In\",$C174=\"Error\"),\"?????\",\"\"&C174)","v":"?????"},{"$f":"IF(OR(LEFT('Web Links'!$C174,2)=\"In\",$C174=\"Error\"),\"??????????\",\"\"&D174)","v":"??????????"},{"$f":"IF(OR(LEFT('Web Links'!$C174,2)=\"In\",$C174=\"Error\"),\"???\",IF(LEN(E174)=2,\"0\",IF(LEN(E174)=1,\"00\",\"\")))&'Web Links'!E174","v":"???"},{"$f":"IF(OR(LEFT('Web Links'!$C174,2)=\"In\",$C174=\"Error\"),\"?????\",IF(LEN(G174)=4,\"\",IF(LEN(G174)=3,\"\",IF(LEN(G174)=2,\"\",IF(LEN(G174)=1,\"\",\"\"))))&'Web Links'!G174)","v":"?????"},{"$f":"IF(OR(LEFT('Web Links'!$C174,2)=\"In\",$C174=\"Error\"),\"???????????????\",\"\"&F174)","v":"???????????????"}]
[{"$f":"IF('GL Template'!B189<>\"\",'GL Template'!B189,0)","v":0},{"$f":"IF('GL Template'!D189<>\"\",'GL Template'!D189,0)","v":0},"Error",null,null,null,null,null,null,null,null,null,null,{"$f":"IF(OR(LEFT('Web Links'!$C175,2)=\"In\",$C175=\"Error\"),\"?????\",\"\"&C175)","v":"?????"},{"$f":"IF(OR(LEFT('Web Links'!$C175,2)=\"In\",$C175=\"Error\"),\"??????????\",\"\"&D175)","v":"??????????"},{"$f":"IF(OR(LEFT('Web Links'!$C175,2)=\"In\",$C175=\"Error\"),\"???\",IF(LEN(E175)=2,\"0\",IF(LEN(E175)=1,\"00\",\"\")))&'Web Links'!E175","v":"???"},{"$f":"IF(OR(LEFT('Web Links'!$C175,2)=\"In\",$C175=\"Error\"),\"?????\",IF(LEN(G175)=4,\"\",IF(LEN(G175)=3,\"\",IF(LEN(G175)=2,\"\",IF(LEN(G175)=1,\"\",\"\"))))&'Web Links'!G175)","v":"?????"},{"$f":"IF(OR(LEFT('Web Links'!$C175,2)=\"In\",$C175=\"Error\"),\"???????????????\",\"\"&F175)","v":"???????????????"}]
[{"$f":"IF('GL Template'!B190<>\"\",'GL Template'!B190,0)","v":0},{"$f":"IF('GL Template'!D190<>\"\",'GL Template'!D190,0)","v":0},"Error",null,null,null,null,null,null,null,null,null,null,{"$f":"IF(OR(LEFT('Web Links'!$C176,2)=\"In\",$C176=\"Error\"),\"?????\",\"\"&C176)","v":"?????"},{"$f":"IF(OR(LEFT('Web Links'!$C176,2)=\"In\",$C176=\"Error\"),\"??????????\",\"\"&D176)","v":"??????????"},{"$f":"IF(OR(LEFT('Web Links'!$C176,2)=\"In\",$C176=\"Error\"),\"???\",IF(LEN(E176)=2,\"0\",IF(LEN(E176)=1,\"00\",\"\")))&'Web Links'!E176","v":"???"},{"$f":"IF(OR(LEFT('Web Links'!$C176,2)=\"In\",$C176=\"Error\"),\"?????\",IF(LEN(G176)=4,\"\",IF(LEN(G176)=3,\"\",IF(LEN(G176)=2,\"\",IF(LEN(G176)=1,\"\",\"\"))))&'Web Links'!G176)","v":"?????"},{"$f":"IF(OR(LEFT('Web Links'!$C176,2)=\"In\",$C176=\"Error\"),\"???????????????\",\"\"&F176)","v":"???????????????"}]
[{"$f":"IF('GL Template'!B191<>\"\",'GL Template'!B191,0)","v":0},{"$f":"IF('GL Template'!D191<>\"\",'GL Template'!D191,0)","v":0},"Error",null,null,null,null,null,null,null,null,null,null,{"$f":"IF(OR(LEFT('Web Links'!$C177,2)=\"In\",$C177=\"Error\"),\"?????\",\"\"&C177)","v":"?????"},{"$f":"IF(OR(LEFT('Web Links'!$C177,2)=\"In\",$C177=\"Error\"),\"??????????\",\"\"&D177)","v":"??????????"},{"$f":"IF(OR(LEFT('Web Links'!$C177,2)=\"In\",$C177=\"Error\"),\"???\",IF(LEN(E177)=2,\"0\",IF(LEN(E177)=1,\"00\",\"\")))&'Web Links'!E177","v":"???"},{"$f":"IF(OR(LEFT('Web Links'!$C177,2)=\"In\",$C177=\"Error\"),\"?????\",IF(LEN(G177)=4,\"\",IF(LEN(G177)=3,\"\",IF(LEN(G177)=2,\"\",IF(LEN(G177)=1,\"\",\"\"))))&'Web Links'!G177)","v":"?????"},{"$f":"IF(OR(LEFT('Web Links'!$C177,2)=\"In\",$C177=\"Error\"),\"???????????????\",\"\"&F177)","v":"???????????????"}]
[{"$f":"IF('GL Template'!B192<>\"\",'GL Template'!B192,0)","v":0},{"$f":"IF('GL Template'!D192<>\"\",'GL Template'!D192,0)","v":0},"Error",null,null,null,null,null,null,null,null,null,null,{"$f":"IF(OR(LEFT('Web Links'!$C178,2)=\"In\",$C178=\"Error\"),\"?????\",\"\"&C178)","v":"?????"},{"$f":"IF(OR(LEFT('Web Links'!$C178,2)=\"In\",$C178=\"Error\"),\"??????????\",\"\"&D178)","v":"??????????"},{"$f":"IF(OR(LEFT('Web Links'!$C178,2)=\"In\",$C178=\"Error\"),\"???\",IF(LEN(E178)=2,\"0\",IF(LEN(E178)=1,\"00\",\"\")))&'Web Links'!E178","v":"???"},{"$f":"IF(OR(LEFT('Web Links'!$C178,2)=\"In\",$C178=\"Error\"),\"?????\",IF(LEN(G178)=4,\"\",IF(LEN(G178)=3,\"\",IF(LEN(G178)=2,\"\",IF(LEN(G178)=1,\"\",\"\"))))&'Web Links'!G178)","v":"?????"},{"$f":"IF(OR(LEFT('Web Links'!$C178,2)=\"In\",$C178=\"Error\"),\"???????????????\",\"\"&F178)","v":"???????????????"}]
[{"$f":"IF('GL Template'!B193<>\"\",'GL Template'!B193,0)","v":0},{"$f":"IF('GL Template'!D193<>\"\",'GL Template'!D193,0)","v":0},"Error",null,null,null,null,null,null,null,null,null,null,{"$f":"IF(OR(LEFT('Web Links'!$C179,2)=\"In\",$C179=\"Error\"),\"?????\",\"\"&C179)","v":"?????"},{"$f":"IF(OR(LEFT('Web Links'!$C179,2)=\"In\",$C179=\"Error\"),\"??????????\",\"\"&D179)","v":"??????????"},{"$f":"IF(OR(LEFT('Web Links'!$C179,2)=\"In\",$C179=\"Error\"),\"???\",IF(LEN(E179)=2,\"0\",IF(LEN(E179)=1,\"00\",\"\")))&'Web Links'!E179","v":"???"},{"$f":"IF(OR(LEFT('Web Links'!$C179,2)=\"In\",$C179=\"Error\"),\"?????\",IF(LEN(G179)=4,\"\",IF(LEN(G179)=3,\"\",IF(LEN(G179)=2,\"\",IF(LEN(G179)=1,\"\",\"\"))))&'Web Links'!G179)","v":"?????"},{"$f":"IF(OR(LEFT('Web Links'!$C179,2)=\"In\",$C179=\"Error\"),\"???????????????\",\"\"&F179)","v":"???????????????"}]
[{"$f":"IF('GL Template'!B194<>\"\",'GL Template'!B194,0)","v":0},{"$f":"IF('GL Template'!D194<>\"\",'GL Template'!D194,0)","v":0},"Error",null,null,null,null,null,null,null,null,null,null,{"$f":"IF(OR(LEFT('Web Links'!$C180,2)=\"In\",$C180=\"Error\"),\"?????\",\"\"&C180)","v":"?????"},{"$f":"IF(OR(LEFT('Web Links'!$C180,2)=\"In\",$C180=\"Error\"),\"??????????\",\"\"&D180)","v":"??????????"},{"$f":"IF(OR(LEFT('Web Links'!$C180,2)=\"In\",$C180=\"Error\"),\"???\",IF(LEN(E180)=2,\"0\",IF(LEN(E180)=1,\"00\",\"\")))&'Web Links'!E180","v":"???"},{"$f":"IF(OR(LEFT('Web Links'!$C180,2)=\"In\",$C180=\"Error\"),\"?????\",IF(LEN(G180)=4,\"\",IF(LEN(G180)=3,\"\",IF(LEN(G180)=2,\"\",IF(LEN(G180)=1,\"\",\"\"))))&'Web Links'!G180)","v":"?????"},{"$f":"IF(OR(LEFT('Web Links'!$C180,2)=\"In\",$C180=\"Error\"),\"???????????????\",\"\"&F180)","v":"???????????????"}]
[{"$f":"IF('GL Template'!B195<>\"\",'GL Template'!B195,0)","v":0},{"$f":"IF('GL Template'!D195<>\"\",'GL Template'!D195,0)","v":0},"Error",null,null,null,null,null,null,null,null,null,null,{"$f":"IF(OR(LEFT('Web Links'!$C181,2)=\"In\",$C181=\"Error\"),\"?????\",\"\"&C181)","v":"?????"},{"$f":"IF(OR(LEFT('Web Links'!$C181,2)=\"In\",$C181=\"Error\"),\"??????????\",\"\"&D181)","v":"??????????"},{"$f":"IF(OR(LEFT('Web Links'!$C181,2)=\"In\",$C181=\"Error\"),\"???\",IF(LEN(E181)=2,\"0\",IF(LEN(E181)=1,\"00\",\"\")))&'Web Links'!E181","v":"???"},{"$f":"IF(OR(LEFT('Web Links'!$C181,2)=\"In\",$C181=\"Error\"),\"?????\",IF(LEN(G181)=4,\"\",IF(LEN(G181)=3,\"\",IF(LEN(G181)=2,\"\",IF(LEN(G181)=1,\"\",\"\"))))&'Web Links'!G181)","v":"?????"},{"$f":"IF(OR(LEFT('Web Links'!$C181,2)=\"In\",$C181=\"Error\"),\"???????????????\",\"\"&F181)","v":"???????????????"}]
[{"$f":"IF('GL Template'!B196<>\"\",'GL Template'!B196,0)","v":0},{"$f":"IF('GL Template'!D196<>\"\",'GL Template'!D196,0)","v":0},"Error",null,null,null,null,null,null,null,null,null,null,{"$f":"IF(OR(LEFT('Web Links'!$C182,2)=\"In\",$C182=\"Error\"),\"?????\",\"\"&C182)","v":"?????"},{"$f":"IF(OR(LEFT('Web Links'!$C182,2)=\"In\",$C182=\"Error\"),\"??????????\",\"\"&D182)","v":"??????????"},{"$f":"IF(OR(LEFT('Web Links'!$C182,2)=\"In\",$C182=\"Error\"),\"???\",IF(LEN(E182)=2,\"0\",IF(LEN(E182)=1,\"00\",\"\")))&'Web Links'!E182","v":"???"},{"$f":"IF(OR(LEFT('Web Links'!$C182,2)=\"In\",$C182=\"Error\"),\"?????\",IF(LEN(G182)=4,\"\",IF(LEN(G182)=3,\"\",IF(LEN(G182)=2,\"\",IF(LEN(G182)=1,\"\",\"\"))))&'Web Links'!G182)","v":"?????"},{"$f":"IF(OR(LEFT('Web Links'!$C182,2)=\"In\",$C182=\"Error\"),\"???????????????\",\"\"&F182)","v":"???????????????"}]
[{"$f":"IF('GL Template'!B197<>\"\",'GL Template'!B197,0)","v":0},{"$f":"IF('GL Template'!D197<>\"\",'GL Template'!D197,0)","v":0},"Error",null,null,null,null,null,null,null,null,null,null,{"$f":"IF(OR(LEFT('Web Links'!$C183,2)=\"In\",$C183=\"Error\"),\"?????\",\"\"&C183)","v":"?????"},{"$f":"IF(OR(LEFT('Web Links'!$C183,2)=\"In\",$C183=\"Error\"),\"??????????\",\"\"&D183)","v":"??????????"},{"$f":"IF(OR(LEFT('Web Links'!$C183,2)=\"In\",$C183=\"Error\"),\"???\",IF(LEN(E183)=2,\"0\",IF(LEN(E183)=1,\"00\",\"\")))&'Web Links'!E183","v":"???"},{"$f":"IF(OR(LEFT('Web Links'!$C183,2)=\"In\",$C183=\"Error\"),\"?????\",IF(LEN(G183)=4,\"\",IF(LEN(G183)=3,\"\",IF(LEN(G183)=2,\"\",IF(LEN(G183)=1,\"\",\"\"))))&'Web Links'!G183)","v":"?????"},{"$f":"IF(OR(LEFT('Web Links'!$C183,2)=\"In\",$C183=\"Error\"),\"???????????????\",\"\"&F183)","v":"???????????????"}]
[{"$f":"IF('GL Template'!B198<>\"\",'GL Template'!B198,0)","v":0},{"$f":"IF('GL Template'!D198<>\"\",'GL Template'!D198,0)","v":0},"Error",null,null,null,null,null,null,null,null,null,null,{"$f":"IF(OR(LEFT('Web Links'!$C184,2)=\"In\",$C184=\"Error\"),\"?????\",\"\"&C184)","v":"?????"},{"$f":"IF(OR(LEFT('Web Links'!$C184,2)=\"In\",$C184=\"Error\"),\"??????????\",\"\"&D184)","v":"??????????"},{"$f":"IF(OR(LEFT('Web Links'!$C184,2)=\"In\",$C184=\"Error\"),\"???\",IF(LEN(E184)=2,\"0\",IF(LEN(E184)=1,\"00\",\"\")))&'Web Links'!E184","v":"???"},{"$f":"IF(OR(LEFT('Web Links'!$C184,2)=\"In\",$C184=\"Error\"),\"?????\",IF(LEN(G184)=4,\"\",IF(LEN(G184)=3,\"\",IF(LEN(G184)=2,\"\",IF(LEN(G184)=1,\"\",\"\"))))&'Web Links'!G184)","v":"?????"},{"$f":"IF(OR(LEFT('Web Links'!$C184,2)=\"In\",$C184=\"Error\"),\"???????????????\",\"\"&F184)","v":"???????????????"}]
[{"$f":"IF('GL Template'!B199<>\"\",'GL Template'!B199,0)","v":0},{"$f":"IF('GL Template'!D199<>\"\",'GL Template'!D199,0)","v":0},"Error",null,null,null,null,null,null,null,null,null,null,{"$f":"IF(OR(LEFT('Web Links'!$C185,2)=\"In\",$C185=\"Error\"),\"?????\",\"\"&C185)","v":"?????"},{"$f":"IF(OR(LEFT('Web Links'!$C185,2)=\"In\",$C185=\"Error\"),\"??????????\",\"\"&D185)","v":"??????????"},{"$f":"IF(OR(LEFT('Web Links'!$C185,2)=\"In\",$C185=\"Error\"),\"???\",IF(LEN(E185)=2,\"0\",IF(LEN(E185)=1,\"00\",\"\")))&'Web Links'!E185","v":"???"},{"$f":"IF(OR(LEFT('Web Links'!$C185,2)=\"In\",$C185=\"Error\"),\"?????\",IF(LEN(G185)=4,\"\",IF(LEN(G185)=3,\"\",IF(LEN(G185)=2,\"\",IF(LEN(G185)=1,\"\",\"\"))))&'Web Links'!G185)","v":"?????"},{"$f":"IF(OR(LEFT('Web Links'!$C185,2)=\"In\",$C185=\"Error\"),\"???????????????\",\"\"&F185)","v":"???????????????"}]
[{"$f":"IF('GL Template'!B200<>\"\",'GL Template'!B200,0)","v":0},{"$f":"IF('GL Template'!D200<>\"\",'GL Template'!D200,0)","v":0},"Error",null,null,null,null,null,null,null,null,null,null,{"$f":"IF(OR(LEFT('Web Links'!$C186,2)=\"In\",$C186=\"Error\"),\"?????\",\"\"&C186)","v":"?????"},{"$f":"IF(OR(LEFT('Web Links'!$C186,2)=\"In\",$C186=\"Error\"),\"??????????\",\"\"&D186)","v":"??????????"},{"$f":"IF(OR(LEFT('Web Links'!$C186,2)=\"In\",$C186=\"Error\"),\"???\",IF(LEN(E186)=2,\"0\",IF(LEN(E186)=1,\"00\",\"\")))&'Web Links'!E186","v":"???"},{"$f":"IF(OR(LEFT('Web Links'!$C186,2)=\"In\",$C186=\"Error\"),\"?????\",IF(LEN(G186)=4,\"\",IF(LEN(G186)=3,\"\",IF(LEN(G186)=2,\"\",IF(LEN(G186)=1,\"\",\"\"))))&'Web Links'!G186)","v":"?????"},{"$f":"IF(OR(LEFT('Web Links'!$C186,2)=\"In\",$C186=\"Error\"),\"???????????????\",\"\"&F186)","v":"???????????????"}]
[{"$f":"IF('GL Template'!B201<>\"\",'GL Template'!B201,0)","v":0},{"$f":"IF('GL Template'!D201<>\"\",'GL Template'!D201,0)","v":0},"Error",null,null,null,null,null,null,null,null,null,null,{"$f":"IF(OR(LEFT('Web Links'!$C187,2)=\"In\",$C187=\"Error\"),\"?????\",\"\"&C187)","v":"?????"},{"$f":"IF(OR(LEFT('Web Links'!$C187,2)=\"In\",$C187=\"Error\"),\"??????????\",\"\"&D187)","v":"??????????"},{"$f":"IF(OR(LEFT('Web Links'!$C187,2)=\"In\",$C187=\"Error\"),\"???\",IF(LEN(E187)=2,\"0\",IF(LEN(E187)=1,\"00\",\"\")))&'Web Links'!E187","v":"???"},{"$f":"IF(OR(LEFT('Web Links'!$C187,2)=\"In\",$C187=\"Error\"),\"?????\",IF(LEN(G187)=4,\"\",IF(LEN(G187)=3,\"\",IF(LEN(G187)=2,\"\",IF(LEN(G187)=1,\"\",\"\"))))&'Web Links'!G187)","v":"?????"},{"$f":"IF(OR(LEFT('Web Links'!$C187,2)=\"In\",$C187=\"Error\"),\"???????????????\",\"\"&F187)","v":"???????????????"}]
[{"$f":"IF('GL Template'!B202<>\"\",'GL Template'!B202,0)","v":0},{"$f":"IF('GL Template'!D202<>\"\",'GL Template'!D202,0)","v":0},"Error",null,null,null,null,null,null,null,null,null,null,{"$f":"IF(OR(LEFT('Web Links'!$C188,2)=\"In\",$C188=\"Error\"),\"?????\",\"\"&C188)","v":"?????"},{"$f":"IF(OR(LEFT('Web Links'!$C188,2)=\"In\",$C188=\"Error\"),\"??????????\",\"\"&D188)","v":"??????????"},{"$f":"IF(OR(LEFT('Web Links'!$C188,2)=\"In\",$C188=\"Error\"),\"???\",IF(LEN(E188)=2,\"0\",IF(LEN(E188)=1,\"00\",\"\")))&'Web Links'!E188","v":"???"},{"$f":"IF(OR(LEFT('Web Links'!$C188,2)=\"In\",$C188=\"Error\"),\"?????\",IF(LEN(G188)=4,\"\",IF(LEN(G188)=3,\"\",IF(LEN(G188)=2,\"\",IF(LEN(G188)=1,\"\",\"\"))))&'Web Links'!G188)","v":"?????"},{"$f":"IF(OR(LEFT('Web Links'!$C188,2)=\"In\",$C188=\"Error\"),\"???????????????\",\"\"&F188)","v":"???????????????"}]
[{"$f":"IF('GL Template'!B203<>\"\",'GL Template'!B203,0)","v":0},{"$f":"IF('GL Template'!D203<>\"\",'GL Template'!D203,0)","v":0},"Error",null,null,null,null,null,null,null,null,null,null,{"$f":"IF(OR(LEFT('Web Links'!$C189,2)=\"In\",$C189=\"Error\"),\"?????\",\"\"&C189)","v":"?????"},{"$f":"IF(OR(LEFT('Web Links'!$C189,2)=\"In\",$C189=\"Error\"),\"??????????\",\"\"&D189)","v":"??????????"},{"$f":"IF(OR(LEFT('Web Links'!$C189,2)=\"In\",$C189=\"Error\"),\"???\",IF(LEN(E189)=2,\"0\",IF(LEN(E189)=1,\"00\",\"\")))&'Web Links'!E189","v":"???"},{"$f":"IF(OR(LEFT('Web Links'!$C189,2)=\"In\",$C189=\"Error\"),\"?????\",IF(LEN(G189)=4,\"\",IF(LEN(G189)=3,\"\",IF(LEN(G189)=2,\"\",IF(LEN(G189)=1,\"\",\"\"))))&'Web Links'!G189)","v":"?????"},{"$f":"IF(OR(LEFT('Web Links'!$C189,2)=\"In\",$C189=\"Error\"),\"???????????????\",\"\"&F189)","v":"???????????????"}]
[{"$f":"IF('GL Template'!B204<>\"\",'GL Template'!B204,0)","v":0},{"$f":"IF('GL Template'!D204<>\"\",'GL Template'!D204,0)","v":0},"Error",null,null,null,null,null,null,null,null,null,null,{"$f":"IF(OR(LEFT('Web Links'!$C190,2)=\"In\",$C190=\"Error\"),\"?????\",\"\"&C190)","v":"?????"},{"$f":"IF(OR(LEFT('Web Links'!$C190,2)=\"In\",$C190=\"Error\"),\"??????????\",\"\"&D190)","v":"??????????"},{"$f":"IF(OR(LEFT('Web Links'!$C190,2)=\"In\",$C190=\"Error\"),\"???\",IF(LEN(E190)=2,\"0\",IF(LEN(E190)=1,\"00\",\"\")))&'Web Links'!E190","v":"???"},{"$f":"IF(OR(LEFT('Web Links'!$C190,2)=\"In\",$C190=\"Error\"),\"?????\",IF(LEN(G190)=4,\"\",IF(LEN(G190)=3,\"\",IF(LEN(G190)=2,\"\",IF(LEN(G190)=1,\"\",\"\"))))&'Web Links'!G190)","v":"?????"},{"$f":"IF(OR(LEFT('Web Links'!$C190,2)=\"In\",$C190=\"Error\"),\"???????????????\",\"\"&F190)","v":"???????????????"}]
[{"$f":"IF('GL Template'!B205<>\"\",'GL Template'!B205,0)","v":0},{"$f":"IF('GL Template'!D205<>\"\",'GL Template'!D205,0)","v":0},"Error",null,null,null,null,null,null,null,null,null,null,{"$f":"IF(OR(LEFT('Web Links'!$C191,2)=\"In\",$C191=\"Error\"),\"?????\",\"\"&C191)","v":"?????"},{"$f":"IF(OR(LEFT('Web Links'!$C191,2)=\"In\",$C191=\"Error\"),\"??????????\",\"\"&D191)","v":"??????????"},{"$f":"IF(OR(LEFT('Web Links'!$C191,2)=\"In\",$C191=\"Error\"),\"???\",IF(LEN(E191)=2,\"0\",IF(LEN(E191)=1,\"00\",\"\")))&'Web Links'!E191","v":"???"},{"$f":"IF(OR(LEFT('Web Links'!$C191,2)=\"In\",$C191=\"Error\"),\"?????\",IF(LEN(G191)=4,\"\",IF(LEN(G191)=3,\"\",IF(LEN(G191)=2,\"\",IF(LEN(G191)=1,\"\",\"\"))))&'Web Links'!G191)","v":"?????"},{"$f":"IF(OR(LEFT('Web Links'!$C191,2)=\"In\",$C191=\"Error\"),\"???????????????\",\"\"&F191)","v":"???????????????"}]
[{"$f":"IF('GL Template'!B206<>\"\",'GL Template'!B206,0)","v":0},{"$f":"IF('GL Template'!D206<>\"\",'GL Template'!D206,0)","v":0},"Error",null,null,null,null,null,null,null,null,null,null,{"$f":"IF(OR(LEFT('Web Links'!$C192,2)=\"In\",$C192=\"Error\"),\"?????\",\"\"&C192)","v":"?????"},{"$f":"IF(OR(LEFT('Web Links'!$C192,2)=\"In\",$C192=\"Error\"),\"??????????\",\"\"&D192)","v":"??????????"},{"$f":"IF(OR(LEFT('Web Links'!$C192,2)=\"In\",$C192=\"Error\"),\"???\",IF(LEN(E192)=2,\"0\",IF(LEN(E192)=1,\"00\",\"\")))&'Web Links'!E192","v":"???"},{"$f":"IF(OR(LEFT('Web Links'!$C192,2)=\"In\",$C192=\"Error\"),\"?????\",IF(LEN(G192)=4,\"\",IF(LEN(G192)=3,\"\",IF(LEN(G192)=2,\"\",IF(LEN(G192)=1,\"\",\"\"))))&'Web Links'!G192)","v":"?????"},{"$f":"IF(OR(LEFT('Web Links'!$C192,2)=\"In\",$C192=\"Error\"),\"???????????????\",\"\"&F192)","v":"???????????????"}]
[{"$f":"IF('GL Template'!B207<>\"\",'GL Template'!B207,0)","v":0},{"$f":"IF('GL Template'!D207<>\"\",'GL Template'!D207,0)","v":0},"Error",null,null,null,null,null,null,null,null,null,null,{"$f":"IF(OR(LEFT('Web Links'!$C193,2)=\"In\",$C193=\"Error\"),\"?????\",\"\"&C193)","v":"?????"},{"$f":"IF(OR(LEFT('Web Links'!$C193,2)=\"In\",$C193=\"Error\"),\"??????????\",\"\"&D193)","v":"??????????"},{"$f":"IF(OR(LEFT('Web Links'!$C193,2)=\"In\",$C193=\"Error\"),\"???\",IF(LEN(E193)=2,\"0\",IF(LEN(E193)=1,\"00\",\"\")))&'Web Links'!E193","v":"???"},{"$f":"IF(OR(LEFT('Web Links'!$C193,2)=\"In\",$C193=\"Error\"),\"?????\",IF(LEN(G193)=4,\"\",IF(LEN(G193)=3,\"\",IF(LEN(G193)=2,\"\",IF(LEN(G193)=1,\"\",\"\"))))&'Web Links'!G193)","v":"?????"},{"$f":"IF(OR(LEFT('Web Links'!$C193,2)=\"In\",$C193=\"Error\"),\"???????????????\",\"\"&F193)","v":"???????????????"}]
[{"$f":"IF('GL Template'!B208<>\"\",'GL Template'!B208,0)","v":0},{"$f":"IF('GL Template'!D208<>\"\",'GL Template'!D208,0)","v":0},"Error",null,null,null,null,null,null,null,null,null,null,{"$f":"IF(OR(LEFT('Web Links'!$C194,2)=\"In\",$C194=\"Error\"),\"?????\",\"\"&C194)","v":"?????"},{"$f":"IF(OR(LEFT('Web Links'!$C194,2)=\"In\",$C194=\"Error\"),\"??????????\",\"\"&D194)","v":"??????????"},{"$f":"IF(OR(LEFT('Web Links'!$C194,2)=\"In\",$C194=\"Error\"),\"???\",IF(LEN(E194)=2,\"0\",IF(LEN(E194)=1,\"00\",\"\")))&'Web Links'!E194","v":"???"},{"$f":"IF(OR(LEFT('Web Links'!$C194,2)=\"In\",$C194=\"Error\"),\"?????\",IF(LEN(G194)=4,\"\",IF(LEN(G194)=3,\"\",IF(LEN(G194)=2,\"\",IF(LEN(G194)=1,\"\",\"\"))))&'Web Links'!G194)","v":"?????"},{"$f":"IF(OR(LEFT('Web Links'!$C194,2)=\"In\",$C194=\"Error\"),\"???????????????\",\"\"&F194)","v":"???????????????"}]
[{"$f":"IF('GL Template'!B209<>\"\",'GL Template'!B209,0)","v":0},{"$f":"IF('GL Template'!D209<>\"\",'GL Template'!D209,0)","v":0},"Error",null,null,null,null,null,null,null,null,null,null,{"$f":"IF(OR(LEFT('Web Links'!$C195,2)=\"In\",$C195=\"Error\"),\"?????\",\"\"&C195)","v":"?????"},{"$f":"IF(OR(LEFT('Web Links'!$C195,2)=\"In\",$C195=\"Error\"),\"??????????\",\"\"&D195)","v":"??????????"},{"$f":"IF(OR(LEFT('Web Links'!$C195,2)=\"In\",$C195=\"Error\"),\"???\",IF(LEN(E195)=2,\"0\",IF(LEN(E195)=1,\"00\",\"\")))&'Web Links'!E195","v":"???"},{"$f":"IF(OR(LEFT('Web Links'!$C195,2)=\"In\",$C195=\"Error\"),\"?????\",IF(LEN(G195)=4,\"\",IF(LEN(G195)=3,\"\",IF(LEN(G195)=2,\"\",IF(LEN(G195)=1,\"\",\"\"))))&'Web Links'!G195)","v":"?????"},{"$f":"IF(OR(LEFT('Web Links'!$C195,2)=\"In\",$C195=\"Error\"),\"???????????????\",\"\"&F195)","v":"???????????????"}]
[{"$f":"IF('GL Template'!B210<>\"\",'GL Template'!B210,0)","v":0},{"$f":"IF('GL Template'!D210<>\"\",'GL Template'!D210,0)","v":0},"Error",null,null,null,null,null,null,null,null,null,null,{"$f":"IF(OR(LEFT('Web Links'!$C196,2)=\"In\",$C196=\"Error\"),\"?????\",\"\"&C196)","v":"?????"},{"$f":"IF(OR(LEFT('Web Links'!$C196,2)=\"In\",$C196=\"Error\"),\"??????????\",\"\"&D196)","v":"??????????"},{"$f":"IF(OR(LEFT('Web Links'!$C196,2)=\"In\",$C196=\"Error\"),\"???\",IF(LEN(E196)=2,\"0\",IF(LEN(E196)=1,\"00\",\"\")))&'Web Links'!E196","v":"???"},{"$f":"IF(OR(LEFT('Web Links'!$C196,2)=\"In\",$C196=\"Error\"),\"?????\",IF(LEN(G196)=4,\"\",IF(LEN(G196)=3,\"\",IF(LEN(G196)=2,\"\",IF(LEN(G196)=1,\"\",\"\"))))&'Web Links'!G196)","v":"?????"},{"$f":"IF(OR(LEFT('Web Links'!$C196,2)=\"In\",$C196=\"Error\"),\"???????????????\",\"\"&F196)","v":"???????????????"}]
[{"$f":"IF('GL Template'!B211<>\"\",'GL Template'!B211,0)","v":0},{"$f":"IF('GL Template'!D211<>\"\",'GL Template'!D211,0)","v":0},"Error",null,null,null,null,null,null,null,null,null,null,{"$f":"IF(OR(LEFT('Web Links'!$C197,2)=\"In\",$C197=\"Error\"),\"?????\",\"\"&C197)","v":"?????"},{"$f":"IF(OR(LEFT('Web Links'!$C197,2)=\"In\",$C197=\"Error\"),\"??????????\",\"\"&D197)","v":"??????????"},{"$f":"IF(OR(LEFT('Web Links'!$C197,2)=\"In\",$C197=\"Error\"),\"???\",IF(LEN(E197)=2,\"0\",IF(LEN(E197)=1,\"00\",\"\")))&'Web Links'!E197","v":"???"},{"$f":"IF(OR(LEFT('Web Links'!$C197,2)=\"In\",$C197=\"Error\"),\"?????\",IF(LEN(G197)=4,\"\",IF(LEN(G197)=3,\"\",IF(LEN(G197)=2,\"\",IF(LEN(G197)=1,\"\",\"\"))))&'Web Links'!G197)","v":"?????"},{"$f":"IF(OR(LEFT('Web Links'!$C197,2)=\"In\",$C197=\"Error\"),\"???????????????\",\"\"&F197)","v":"???????????????"}]
[{"$f":"IF('GL Template'!B212<>\"\",'GL Template'!B212,0)","v":0},{"$f":"IF('GL Template'!D212<>\"\",'GL Template'!D212,0)","v":0},"Error",null,null,null,null,null,null,null,null,null,null,{"$f":"IF(OR(LEFT('Web Links'!$C198,2)=\"In\",$C198=\"Error\"),\"?????\",\"\"&C198)","v":"?????"},{"$f":"IF(OR(LEFT('Web Links'!$C198,2)=\"In\",$C198=\"Error\"),\"??????????\",\"\"&D198)","v":"??????????"},{"$f":"IF(OR(LEFT('Web Links'!$C198,2)=\"In\",$C198=\"Error\"),\"???\",IF(LEN(E198)=2,\"0\",IF(LEN(E198)=1,\"00\",\"\")))&'Web Links'!E198","v":"???"},{"$f":"IF(OR(LEFT('Web Links'!$C198,2)=\"In\",$C198=\"Error\"),\"?????\",IF(LEN(G198)=4,\"\",IF(LEN(G198)=3,\"\",IF(LEN(G198)=2,\"\",IF(LEN(G198)=1,\"\",\"\"))))&'Web Links'!G198)","v":"?????"},{"$f":"IF(OR(LEFT('Web Links'!$C198,2)=\"In\",$C198=\"Error\"),\"???????????????\",\"\"&F198)","v":"???????????????"}]
[{"$f":"IF('GL Template'!B213<>\"\",'GL Template'!B213,0)","v":0},{"$f":"IF('GL Template'!D213<>\"\",'GL Template'!D213,0)","v":0},"Error",null,null,null,null,null,null,null,null,null,null,{"$f":"IF(OR(LEFT('Web Links'!$C199,2)=\"In\",$C199=\"Error\"),\"?????\",\"\"&C199)","v":"?????"},{"$f":"IF(OR(LEFT('Web Links'!$C199,2)=\"In\",$C199=\"Error\"),\"??????????\",\"\"&D199)","v":"??????????"},{"$f":"IF(OR(LEFT('Web Links'!$C199,2)=\"In\",$C199=\"Error\"),\"???\",IF(LEN(E199)=2,\"0\",IF(LEN(E199)=1,\"00\",\"\")))&'Web Links'!E199","v":"???"},{"$f":"IF(OR(LEFT('Web Links'!$C199,2)=\"In\",$C199=\"Error\"),\"?????\",IF(LEN(G199)=4,\"\",IF(LEN(G199)=3,\"\",IF(LEN(G199)=2,\"\",IF(LEN(G199)=1,\"\",\"\"))))&'Web Links'!G199)","v":"?????"},{"$f":"IF(OR(LEFT('Web Links'!$C199,2)=\"In\",$C199=\"Error\"),\"???????????????\",\"\"&F199)","v":"???????????????"}]
[{"$f":"IF('GL Template'!B214<>\"\",'GL Template'!B214,0)","v":0},{"$f":"IF('GL Template'!D214<>\"\",'GL Template'!D214,0)","v":0},"Error",null,null,null,null,null,null,null,null,null,null,{"$f":"IF(OR(LEFT('Web Links'!$C200,2)=\"In\",$C200=\"Error\"),\"?????\",\"\"&C200)","v":"?????"},{"$f":"IF(OR(LEFT('Web Links'!$C200,2)=\"In\",$C200=\"Error\"),\"??????????\",\"\"&D200)","v":"??????????"},{"$f":"IF(OR(LEFT('Web Links'!$C200,2)=\"In\",$C200=\"Error\"),\"???\",IF(LEN(E200)=2,\"0\",IF(LEN(E200)=1,\"00\",\"\")))&'Web Links'!E200","v":"???"},{"$f":"IF(OR(LEFT('Web Links'!$C200,2)=\"In\",$C200=\"Error\"),\"?????\",IF(LEN(G200)=4,\"\",IF(LEN(G200)=3,\"\",IF(LEN(G200)=2,\"\",IF(LEN(G200)=1,\"\",\"\"))))&'Web Links'!G200)","v":"?????"},{"$f":"IF(OR(LEFT('Web Links'!$C200,2)=\"In\",$C200=\"Error\"),\"???????????????\",\"\"&F200)","v":"???????????????"}]
[{"$f":"IF('GL Template'!B215<>\"\",'GL Template'!B215,0)","v":0},{"$f":"IF('GL Template'!D215<>\"\",'GL Template'!D215,0)","v":0},"Error",null,null,null,null,null,null,null,null,null,null,{"$f":"IF(OR(LEFT('Web Links'!$C201,2)=\"In\",$C201=\"Error\"),\"?????\",\"\"&C201)","v":"?????"},{"$f":"IF(OR(LEFT('Web Links'!$C201,2)=\"In\",$C201=\"Error\"),\"??????????\",\"\"&D201)","v":"??????????"},{"$f":"IF(OR(LEFT('Web Links'!$C201,2)=\"In\",$C201=\"Error\"),\"???\",IF(LEN(E201)=2,\"0\",IF(LEN(E201)=1,\"00\",\"\")))&'Web Links'!E201","v":"???"},{"$f":"IF(OR(LEFT('Web Links'!$C201,2)=\"In\",$C201=\"Error\"),\"?????\",IF(LEN(G201)=4,\"\",IF(LEN(G201)=3,\"\",IF(LEN(G201)=2,\"\",IF(LEN(G201)=1,\"\",\"\"))))&'Web Links'!G201)","v":"?????"},{"$f":"IF(OR(LEFT('Web Links'!$C201,2)=\"In\",$C201=\"Error\"),\"???????????????\",\"\"&F201)","v":"???????????????"}]
[{"$f":"IF('GL Template'!B216<>\"\",'GL Template'!B216,0)","v":0},{"$f":"IF('GL Template'!D216<>\"\",'GL Template'!D216,0)","v":0},"Error",null,null,null,null,null,null,null,null,null,null,{"$f":"IF(OR(LEFT('Web Links'!$C202,2)=\"In\",$C202=\"Error\"),\"?????\",\"\"&C202)","v":"?????"},{"$f":"IF(OR(LEFT('Web Links'!$C202,2)=\"In\",$C202=\"Error\"),\"??????????\",\"\"&D202)","v":"??????????"},{"$f":"IF(OR(LEFT('Web Links'!$C202,2)=\"In\",$C202=\"Error\"),\"???\",IF(LEN(E202)=2,\"0\",IF(LEN(E202)=1,\"00\",\"\")))&'Web Links'!E202","v":"???"},{"$f":"IF(OR(LEFT('Web Links'!$C202,2)=\"In\",$C202=\"Error\"),\"?????\",IF(LEN(G202)=4,\"\",IF(LEN(G202)=3,\"\",IF(LEN(G202)=2,\"\",IF(LEN(G202)=1,\"\",\"\"))))&'Web Links'!G202)","v":"?????"},{"$f":"IF(OR(LEFT('Web Links'!$C202,2)=\"In\",$C202=\"Error\"),\"???????????????\",\"\"&F202)","v":"???????????????"}]
[{"$f":"IF('GL Template'!B217<>\"\",'GL Template'!B217,0)","v":0},{"$f":"IF('GL Template'!D217<>\"\",'GL Template'!D217,0)","v":0},"Error",null,null,null,null,null,null,null,null,null,null,{"$f":"IF(OR(LEFT('Web Links'!$C203,2)=\"In\",$C203=\"Error\"),\"?????\",\"\"&C203)","v":"?????"},{"$f":"IF(OR(LEFT('Web Links'!$C203,2)=\"In\",$C203=\"Error\"),\"??????????\",\"\"&D203)","v":"??????????"},{"$f":"IF(OR(LEFT('Web Links'!$C203,2)=\"In\",$C203=\"Error\"),\"???\",IF(LEN(E203)=2,\"0\",IF(LEN(E203)=1,\"00\",\"\")))&'Web Links'!E203","v":"???"},{"$f":"IF(OR(LEFT('Web Links'!$C203,2)=\"In\",$C203=\"Error\"),\"?????\",IF(LEN(G203)=4,\"\",IF(LEN(G203)=3,\"\",IF(LEN(G203)=2,\"\",IF(LEN(G203)=1,\"\",\"\"))))&'Web Links'!G203)","v":"?????"},{"$f":"IF(OR(LEFT('Web Links'!$C203,2)=\"In\",$C203=\"Error\"),\"???????????????\",\"\"&F203)","v":"???????????????"}]
[{"$f":"IF('GL Template'!B218<>\"\",'GL Template'!B218,0)","v":0},{"$f":"IF('GL Template'!D218<>\"\",'GL Template'!D218,0)","v":0},"Error",null,null,null,null,null,null,null,null,null,null,{"$f":"IF(OR(LEFT('Web Links'!$C204,2)=\"In\",$C204=\"Error\"),\"?????\",\"\"&C204)","v":"?????"},{"$f":"IF(OR(LEFT('Web Links'!$C204,2)=\"In\",$C204=\"Error\"),\"??????????\",\"\"&D204)","v":"??????????"},{"$f":"IF(OR(LEFT('Web Links'!$C204,2)=\"In\",$C204=\"Error\"),\"???\",IF(LEN(E204)=2,\"0\",IF(LEN(E204)=1,\"00\",\"\")))&'Web Links'!E204","v":"???"},{"$f":"IF(OR(LEFT('Web Links'!$C204,2)=\"In\",$C204=\"Error\"),\"?????\",IF(LEN(G204)=4,\"\",IF(LEN(G204)=3,\"\",IF(LEN(G204)=2,\"\",IF(LEN(G204)=1,\"\",\"\"))))&'Web Links'!G204)","v":"?????"},{"$f":"IF(OR(LEFT('Web Links'!$C204,2)=\"In\",$C204=\"Error\"),\"???????????????\",\"\"&F204)","v":"???????????????"}]
[{"$f":"IF('GL Template'!B219<>\"\",'GL Template'!B219,0)","v":0},{"$f":"IF('GL Template'!D219<>\"\",'GL Template'!D219,0)","v":0},"Error",null,null,null,null,null,null,null,null,null,null,{"$f":"IF(OR(LEFT('Web Links'!$C205,2)=\"In\",$C205=\"Error\"),\"?????\",\"\"&C205)","v":"?????"},{"$f":"IF(OR(LEFT('Web Links'!$C205,2)=\"In\",$C205=\"Error\"),\"??????????\",\"\"&D205)","v":"??????????"},{"$f":"IF(OR(LEFT('Web Links'!$C205,2)=\"In\",$C205=\"Error\"),\"???\",IF(LEN(E205)=2,\"0\",IF(LEN(E205)=1,\"00\",\"\")))&'Web Links'!E205","v":"???"},{"$f":"IF(OR(LEFT('Web Links'!$C205,2)=\"In\",$C205=\"Error\"),\"?????\",IF(LEN(G205)=4,\"\",IF(LEN(G205)=3,\"\",IF(LEN(G205)=2,\"\",IF(LEN(G205)=1,\"\",\"\"))))&'Web Links'!G205)","v":"?????"},{"$f":"IF(OR(LEFT('Web Links'!$C205,2)=\"In\",$C205=\"Error\"),\"???????????????\",\"\"&F205)","v":"???????????????"}]
[{"$f":"IF('GL Template'!B220<>\"\",'GL Template'!B220,0)","v":0},{"$f":"IF('GL Template'!D220<>\"\",'GL Template'!D220,0)","v":0},"Error",null,null,null,null,null,null,null,null,null,null,{"$f":"IF(OR(LEFT('Web Links'!$C206,2)=\"In\",$C206=\"Error\"),\"?????\",\"\"&C206)","v":"?????"},{"$f":"IF(OR(LEFT('Web Links'!$C206,2)=\"In\",$C206=\"Error\"),\"??????????\",\"\"&D206)","v":"??????????"},{"$f":"IF(OR(LEFT('Web Links'!$C206,2)=\"In\",$C206=\"Error\"),\"???\",IF(LEN(E206)=2,\"0\",IF(LEN(E206)=1,\"00\",\"\")))&'Web Links'!E206","v":"???"},{"$f":"IF(OR(LEFT('Web Links'!$C206,2)=\"In\",$C206=\"Error\"),\"?????\",IF(LEN(G206)=4,\"\",IF(LEN(G206)=3,\"\",IF(LEN(G206)=2,\"\",IF(LEN(G206)=1,\"\",\"\"))))&'Web Links'!G206)","v":"?????"},{"$f":"IF(OR(LEFT('Web Links'!$C206,2)=\"In\",$C206=\"Error\"),\"???????????????\",\"\"&F206)","v":"???????????????"}]
[{"$f":"IF('GL Template'!B221<>\"\",'GL Template'!B221,0)","v":0},{"$f":"IF('GL Template'!D221<>\"\",'GL Template'!D221,0)","v":0},"Error",null,null,null,null,null,null,null,null,null,null,{"$f":"IF(OR(LEFT('Web Links'!$C207,2)=\"In\",$C207=\"Error\"),\"?????\",\"\"&C207)","v":"?????"},{"$f":"IF(OR(LEFT('Web Links'!$C207,2)=\"In\",$C207=\"Error\"),\"??????????\",\"\"&D207)","v":"??????????"},{"$f":"IF(OR(LEFT('Web Links'!$C207,2)=\"In\",$C207=\"Error\"),\"???\",IF(LEN(E207)=2,\"0\",IF(LEN(E207)=1,\"00\",\"\")))&'Web Links'!E207","v":"???"},{"$f":"IF(OR(LEFT('Web Links'!$C207,2)=\"In\",$C207=\"Error\"),\"?????\",IF(LEN(G207)=4,\"\",IF(LEN(G207)=3,\"\",IF(LEN(G207)=2,\"\",IF(LEN(G207)=1,\"\",\"\"))))&'Web Links'!G207)","v":"?????"},{"$f":"IF(OR(LEFT('Web Links'!$C207,2)=\"In\",$C207=\"Error\"),\"???????????????\",\"\"&F207)","v":"???????????????"}]
[{"$f":"IF('GL Template'!B222<>\"\",'GL Template'!B222,0)","v":0},{"$f":"IF('GL Template'!D222<>\"\",'GL Template'!D222,0)","v":0},"Error",null,null,null,null,null,null,null,null,null,null,{"$f":"IF(OR(LEFT('Web Links'!$C208,2)=\"In\",$C208=\"Error\"),\"?????\",\"\"&C208)","v":"?????"},{"$f":"IF(OR(LEFT('Web Links'!$C208,2)=\"In\",$C208=\"Error\"),\"??????????\",\"\"&D208)","v":"??????????"},{"$f":"IF(OR(LEFT('Web Links'!$C208,2)=\"In\",$C208=\"Error\"),\"???\",IF(LEN(E208)=2,\"0\",IF(LEN(E208)=1,\"00\",\"\")))&'Web Links'!E208","v":"???"},{"$f":"IF(OR(LEFT('Web Links'!$C208,2)=\"In\",$C208=\"Error\"),\"?????\",IF(LEN(G208)=4,\"\",IF(LEN(G208)=3,\"\",IF(LEN(G208)=2,\"\",IF(LEN(G208)=1,\"\",\"\"))))&'Web Links'!G208)","v":"?????"},{"$f":"IF(OR(LEFT('Web Links'!$C208,2)=\"In\",$C208=\"Error\"),\"???????????????\",\"\"&F208)","v":"???????????????"}]
[{"$f":"IF('GL Template'!B223<>\"\",'GL Template'!B223,0)","v":0},{"$f":"IF('GL Template'!D223<>\"\",'GL Template'!D223,0)","v":0},"Error",null,null,null,null,null,null,null,null,null,null,{"$f":"IF(OR(LEFT('Web Links'!$C209,2)=\"In\",$C209=\"Error\"),\"?????\",\"\"&C209)","v":"?????"},{"$f":"IF(OR(LEFT('Web Links'!$C209,2)=\"In\",$C209=\"Error\"),\"??????????\",\"\"&D209)","v":"??????????"},{"$f":"IF(OR(LEFT('Web Links'!$C209,2)=\"In\",$C209=\"Error\"),\"???\",IF(LEN(E209)=2,\"0\",IF(LEN(E209)=1,\"00\",\"\")))&'Web Links'!E209","v":"???"},{"$f":"IF(OR(LEFT('Web Links'!$C209,2)=\"In\",$C209=\"Error\"),\"?????\",IF(LEN(G209)=4,\"\",IF(LEN(G209)=3,\"\",IF(LEN(G209)=2,\"\",IF(LEN(G209)=1,\"\",\"\"))))&'Web Links'!G209)","v":"?????"},{"$f":"IF(OR(LEFT('Web Links'!$C209,2)=\"In\",$C209=\"Error\"),\"???????????????\",\"\"&F209)","v":"???????????????"}]
[{"$f":"IF('GL Template'!B224<>\"\",'GL Template'!B224,0)","v":0},{"$f":"IF('GL Template'!D224<>\"\",'GL Template'!D224,0)","v":0},"Error",null,null,null,null,null,null,null,null,null,null,{"$f":"IF(OR(LEFT('Web Links'!$C210,2)=\"In\",$C210=\"Error\"),\"?????\",\"\"&C210)","v":"?????"},{"$f":"IF(OR(LEFT('Web Links'!$C210,2)=\"In\",$C210=\"Error\"),\"??????????\",\"\"&D210)","v":"??????????"},{"$f":"IF(OR(LEFT('Web Links'!$C210,2)=\"In\",$C210=\"Error\"),\"???\",IF(LEN(E210)=2,\"0\",IF(LEN(E210)=1,\"00\",\"\")))&'Web Links'!E210","v":"???"},{"$f":"IF(OR(LEFT('Web Links'!$C210,2)=\"In\",$C210=\"Error\"),\"?????\",IF(LEN(G210)=4,\"\",IF(LEN(G210)=3,\"\",IF(LEN(G210)=2,\"\",IF(LEN(G210)=1,\"\",\"\"))))&'Web Links'!G210)","v":"?????"},{"$f":"IF(OR(LEFT('Web Links'!$C210,2)=\"In\",$C210=\"Error\"),\"???????????????\",\"\"&F210)","v":"???????????????"}]
[{"$f":"IF('GL Template'!B225<>\"\",'GL Template'!B225,0)","v":0},{"$f":"IF('GL Template'!D225<>\"\",'GL Template'!D225,0)","v":0},"Error",null,null,null,null,null,null,null,null,null,null,{"$f":"IF(OR(LEFT('Web Links'!$C211,2)=\"In\",$C211=\"Error\"),\"?????\",\"\"&C211)","v":"?????"},{"$f":"IF(OR(LEFT('Web Links'!$C211,2)=\"In\",$C211=\"Error\"),\"??????????\",\"\"&D211)","v":"??????????"},{"$f":"IF(OR(LEFT('Web Links'!$C211,2)=\"In\",$C211=\"Error\"),\"???\",IF(LEN(E211)=2,\"0\",IF(LEN(E211)=1,\"00\",\"\")))&'Web Links'!E211","v":"???"},{"$f":"IF(OR(LEFT('Web Links'!$C211,2)=\"In\",$C211=\"Error\"),\"?????\",IF(LEN(G211)=4,\"\",IF(LEN(G211)=3,\"\",IF(LEN(G211)=2,\"\",IF(LEN(G211)=1,\"\",\"\"))))&'Web Links'!G211)","v":"?????"},{"$f":"IF(OR(LEFT('Web Links'!$C211,2)=\"In\",$C211=\"Error\"),\"???????????????\",\"\"&F211)","v":"???????????????"}]
[{"$f":"IF('GL Template'!B226<>\"\",'GL Template'!B226,0)","v":0},{"$f":"IF('GL Template'!D226<>\"\",'GL Template'!D226,0)","v":0},"Error",null,null,null,null,null,null,null,null,null,null,{"$f":"IF(OR(LEFT('Web Links'!$C212,2)=\"In\",$C212=\"Error\"),\"?????\",\"\"&C212)","v":"?????"},{"$f":"IF(OR(LEFT('Web Links'!$C212,2)=\"In\",$C212=\"Error\"),\"??????????\",\"\"&D212)","v":"??????????"},{"$f":"IF(OR(LEFT('Web Links'!$C212,2)=\"In\",$C212=\"Error\"),\"???\",IF(LEN(E212)=2,\"0\",IF(LEN(E212)=1,\"00\",\"\")))&'Web Links'!E212","v":"???"},{"$f":"IF(OR(LEFT('Web Links'!$C212,2)=\"In\",$C212=\"Error\"),\"?????\",IF(LEN(G212)=4,\"\",IF(LEN(G212)=3,\"\",IF(LEN(G212)=2,\"\",IF(LEN(G212)=1,\"\",\"\"))))&'Web Links'!G212)","v":"?????"},{"$f":"IF(OR(LEFT('Web Links'!$C212,2)=\"In\",$C212=\"Error\"),\"???????????????\",\"\"&F212)","v":"???????????????"}]
[{"$f":"IF('GL Template'!B227<>\"\",'GL Template'!B227,0)","v":0},{"$f":"IF('GL Template'!D227<>\"\",'GL Template'!D227,0)","v":0},"Error",null,null,null,null,null,null,null,null,null,null,{"$f":"IF(OR(LEFT('Web Links'!$C213,2)=\"In\",$C213=\"Error\"),\"?????\",\"\"&C213)","v":"?????"},{"$f":"IF(OR(LEFT('Web Links'!$C213,2)=\"In\",$C213=\"Error\"),\"??????????\",\"\"&D213)","v":"??????????"},{"$f":"IF(OR(LEFT('Web Links'!$C213,2)=\"In\",$C213=\"Error\"),\"???\",IF(LEN(E213)=2,\"0\",IF(LEN(E213)=1,\"00\",\"\")))&'Web Links'!E213","v":"???"},{"$f":"IF(OR(LEFT('Web Links'!$C213,2)=\"In\",$C213=\"Error\"),\"?????\",IF(LEN(G213)=4,\"\",IF(LEN(G213)=3,\"\",IF(LEN(G213)=2,\"\",IF(LEN(G213)=1,\"\",\"\"))))&'Web Links'!G213)","v":"?????"},{"$f":"IF(OR(LEFT('Web Links'!$C213,2)=\"In\",$C213=\"Error\"),\"???????????????\",\"\"&F213)","v":"???????????????"}]
[{"$f":"IF('GL Template'!B228<>\"\",'GL Template'!B228,0)","v":0},{"$f":"IF('GL Template'!D228<>\"\",'GL Template'!D228,0)","v":0},"Error",null,null,null,null,null,null,null,null,null,null,{"$f":"IF(OR(LEFT('Web Links'!$C214,2)=\"In\",$C214=\"Error\"),\"?????\",\"\"&C214)","v":"?????"},{"$f":"IF(OR(LEFT('Web Links'!$C214,2)=\"In\",$C214=\"Error\"),\"??????????\",\"\"&D214)","v":"??????????"},{"$f":"IF(OR(LEFT('Web Links'!$C214,2)=\"In\",$C214=\"Error\"),\"???\",IF(LEN(E214)=2,\"0\",IF(LEN(E214)=1,\"00\",\"\")))&'Web Links'!E214","v":"???"},{"$f":"IF(OR(LEFT('Web Links'!$C214,2)=\"In\",$C214=\"Error\"),\"?????\",IF(LEN(G214)=4,\"\",IF(LEN(G214)=3,\"\",IF(LEN(G214)=2,\"\",IF(LEN(G214)=1,\"\",\"\"))))&'Web Links'!G214)","v":"?????"},{"$f":"IF(OR(LEFT('Web Links'!$C214,2)=\"In\",$C214=\"Error\"),\"???????????????\",\"\"&F214)","v":"???????????????"}]
[{"$f":"IF('GL Template'!B229<>\"\",'GL Template'!B229,0)","v":0},{"$f":"IF('GL Template'!D229<>\"\",'GL Template'!D229,0)","v":0},"Error",null,null,null,null,null,null,null,null,null,null,{"$f":"IF(OR(LEFT('Web Links'!$C215,2)=\"In\",$C215=\"Error\"),\"?????\",\"\"&C215)","v":"?????"},{"$f":"IF(OR(LEFT('Web Links'!$C215,2)=\"In\",$C215=\"Error\"),\"??????????\",\"\"&D215)","v":"??????????"},{"$f":"IF(OR(LEFT('Web Links'!$C215,2)=\"In\",$C215=\"Error\"),\"???\",IF(LEN(E215)=2,\"0\",IF(LEN(E215)=1,\"00\",\"\")))&'Web Links'!E215","v":"???"},{"$f":"IF(OR(LEFT('Web Links'!$C215,2)=\"In\",$C215=\"Error\"),\"?????\",IF(LEN(G215)=4,\"\",IF(LEN(G215)=3,\"\",IF(LEN(G215)=2,\"\",IF(LEN(G215)=1,\"\",\"\"))))&'Web Links'!G215)","v":"?????"},{"$f":"IF(OR(LEFT('Web Links'!$C215,2)=\"In\",$C215=\"Error\"),\"???????????????\",\"\"&F215)","v":"???????????????"}]
[{"$f":"IF('GL Template'!B230<>\"\",'GL Template'!B230,0)","v":0},{"$f":"IF('GL Template'!D230<>\"\",'GL Template'!D230,0)","v":0},"Error",null,null,null,null,null,null,null,null,null,null,{"$f":"IF(OR(LEFT('Web Links'!$C216,2)=\"In\",$C216=\"Error\"),\"?????\",\"\"&C216)","v":"?????"},{"$f":"IF(OR(LEFT('Web Links'!$C216,2)=\"In\",$C216=\"Error\"),\"??????????\",\"\"&D216)","v":"??????????"},{"$f":"IF(OR(LEFT('Web Links'!$C216,2)=\"In\",$C216=\"Error\"),\"???\",IF(LEN(E216)=2,\"0\",IF(LEN(E216)=1,\"00\",\"\")))&'Web Links'!E216","v":"???"},{"$f":"IF(OR(LEFT('Web Links'!$C216,2)=\"In\",$C216=\"Error\"),\"?????\",IF(LEN(G216)=4,\"\",IF(LEN(G216)=3,\"\",IF(LEN(G216)=2,\"\",IF(LEN(G216)=1,\"\",\"\"))))&'Web Links'!G216)","v":"?????"},{"$f":"IF(OR(LEFT('Web Links'!$C216,2)=\"In\",$C216=\"Error\"),\"???????????????\",\"\"&F216)","v":"???????????????"}]
[{"$f":"IF('GL Template'!B231<>\"\",'GL Template'!B231,0)","v":0},{"$f":"IF('GL Template'!D231<>\"\",'GL Template'!D231,0)","v":0},"Error",null,null,null,null,null,null,null,null,null,null,{"$f":"IF(OR(LEFT('Web Links'!$C217,2)=\"In\",$C217=\"Error\"),\"?????\",\"\"&C217)","v":"?????"},{"$f":"IF(OR(LEFT('Web Links'!$C217,2)=\"In\",$C217=\"Error\"),\"??????????\",\"\"&D217)","v":"??????????"},{"$f":"IF(OR(LEFT('Web Links'!$C217,2)=\"In\",$C217=\"Error\"),\"???\",IF(LEN(E217)=2,\"0\",IF(LEN(E217)=1,\"00\",\"\")))&'Web Links'!E217","v":"???"},{"$f":"IF(OR(LEFT('Web Links'!$C217,2)=\"In\",$C217=\"Error\"),\"?????\",IF(LEN(G217)=4,\"\",IF(LEN(G217)=3,\"\",IF(LEN(G217)=2,\"\",IF(LEN(G217)=1,\"\",\"\"))))&'Web Links'!G217)","v":"?????"},{"$f":"IF(OR(LEFT('Web Links'!$C217,2)=\"In\",$C217=\"Error\"),\"???????????????\",\"\"&F217)","v":"???????????????"}]
[{"$f":"IF('GL Template'!B232<>\"\",'GL Template'!B232,0)","v":0},{"$f":"IF('GL Template'!D232<>\"\",'GL Template'!D232,0)","v":0},"Error",null,null,null,null,null,null,null,null,null,null,{"$f":"IF(OR(LEFT('Web Links'!$C218,2)=\"In\",$C218=\"Error\"),\"?????\",\"\"&C218)","v":"?????"},{"$f":"IF(OR(LEFT('Web Links'!$C218,2)=\"In\",$C218=\"Error\"),\"??????????\",\"\"&D218)","v":"??????????"},{"$f":"IF(OR(LEFT('Web Links'!$C218,2)=\"In\",$C218=\"Error\"),\"???\",IF(LEN(E218)=2,\"0\",IF(LEN(E218)=1,\"00\",\"\")))&'Web Links'!E218","v":"???"},{"$f":"IF(OR(LEFT('Web Links'!$C218,2)=\"In\",$C218=\"Error\"),\"?????\",IF(LEN(G218)=4,\"\",IF(LEN(G218)=3,\"\",IF(LEN(G218)=2,\"\",IF(LEN(G218)=1,\"\",\"\"))))&'Web Links'!G218)","v":"?????"},{"$f":"IF(OR(LEFT('Web Links'!$C218,2)=\"In\",$C218=\"Error\"),\"???????????????\",\"\"&F218)","v":"???????????????"}]
[{"$f":"IF('GL Template'!B233<>\"\",'GL Template'!B233,0)","v":0},{"$f":"IF('GL Template'!D233<>\"\",'GL Template'!D233,0)","v":0},"Error",null,null,null,null,null,null,null,null,null,null,{"$f":"IF(OR(LEFT('Web Links'!$C219,2)=\"In\",$C219=\"Error\"),\"?????\",\"\"&C219)","v":"?????"},{"$f":"IF(OR(LEFT('Web Links'!$C219,2)=\"In\",$C219=\"Error\"),\"??????????\",\"\"&D219)","v":"??????????"},{"$f":"IF(OR(LEFT('Web Links'!$C219,2)=\"In\",$C219=\"Error\"),\"???\",IF(LEN(E219)=2,\"0\",IF(LEN(E219)=1,\"00\",\"\")))&'Web Links'!E219","v":"???"},{"$f":"IF(OR(LEFT('Web Links'!$C219,2)=\"In\",$C219=\"Error\"),\"?????\",IF(LEN(G219)=4,\"\",IF(LEN(G219)=3,\"\",IF(LEN(G219)=2,\"\",IF(LEN(G219)=1,\"\",\"\"))))&'Web Links'!G219)","v":"?????"},{"$f":"IF(OR(LEFT('Web Links'!$C219,2)=\"In\",$C219=\"Error\"),\"???????????????\",\"\"&F219)","v":"???????????????"}]
[{"$f":"IF('GL Template'!B234<>\"\",'GL Template'!B234,0)","v":0},{"$f":"IF('GL Template'!D234<>\"\",'GL Template'!D234,0)","v":0},"Error",null,null,null,null,null,null,null,null,null,null,{"$f":"IF(OR(LEFT('Web Links'!$C220,2)=\"In\",$C220=\"Error\"),\"?????\",\"\"&C220)","v":"?????"},{"$f":"IF(OR(LEFT('Web Links'!$C220,2)=\"In\",$C220=\"Error\"),\"??????????\",\"\"&D220)","v":"??????????"},{"$f":"IF(OR(LEFT('Web Links'!$C220,2)=\"In\",$C220=\"Error\"),\"???\",IF(LEN(E220)=2,\"0\",IF(LEN(E220)=1,\"00\",\"\")))&'Web Links'!E220","v":"???"},{"$f":"IF(OR(LEFT('Web Links'!$C220,2)=\"In\",$C220=\"Error\"),\"?????\",IF(LEN(G220)=4,\"\",IF(LEN(G220)=3,\"\",IF(LEN(G220)=2,\"\",IF(LEN(G220)=1,\"\",\"\"))))&'Web Links'!G220)","v":"?????"},{"$f":"IF(OR(LEFT('Web Links'!$C220,2)=\"In\",$C220=\"Error\"),\"???????????????\",\"\"&F220)","v":"???????????????"}]
[{"$f":"IF('GL Template'!B235<>\"\",'GL Template'!B235,0)","v":0},{"$f":"IF('GL Template'!D235<>\"\",'GL Template'!D235,0)","v":0},"Error",null,null,null,null,null,null,null,null,null,null,{"$f":"IF(OR(LEFT('Web Links'!$C221,2)=\"In\",$C221=\"Error\"),\"?????\",\"\"&C221)","v":"?????"},{"$f":"IF(OR(LEFT('Web Links'!$C221,2)=\"In\",$C221=\"Error\"),\"??????????\",\"\"&D221)","v":"??????????"},{"$f":"IF(OR(LEFT('Web Links'!$C221,2)=\"In\",$C221=\"Error\"),\"???\",IF(LEN(E221)=2,\"0\",IF(LEN(E221)=1,\"00\",\"\")))&'Web Links'!E221","v":"???"},{"$f":"IF(OR(LEFT('Web Links'!$C221,2)=\"In\",$C221=\"Error\"),\"?????\",IF(LEN(G221)=4,\"\",IF(LEN(G221)=3,\"\",IF(LEN(G221)=2,\"\",IF(LEN(G221)=1,\"\",\"\"))))&'Web Links'!G221)","v":"?????"},{"$f":"IF(OR(LEFT('Web Links'!$C221,2)=\"In\",$C221=\"Error\"),\"???????????????\",\"\"&F221)","v":"???????????????"}]
[{"$f":"IF('GL Template'!B236<>\"\",'GL Template'!B236,0)","v":0},{"$f":"IF('GL Template'!D236<>\"\",'GL Template'!D236,0)","v":0},"Error",null,null,null,null,null,null,null,null,null,null,{"$f":"IF(OR(LEFT('Web Links'!$C222,2)=\"In\",$C222=\"Error\"),\"?????\",\"\"&C222)","v":"?????"},{"$f":"IF(OR(LEFT('Web Links'!$C222,2)=\"In\",$C222=\"Error\"),\"??????????\",\"\"&D222)","v":"??????????"},{"$f":"IF(OR(LEFT('Web Links'!$C222,2)=\"In\",$C222=\"Error\"),\"???\",IF(LEN(E222)=2,\"0\",IF(LEN(E222)=1,\"00\",\"\")))&'Web Links'!E222","v":"???"},{"$f":"IF(OR(LEFT('Web Links'!$C222,2)=\"In\",$C222=\"Error\"),\"?????\",IF(LEN(G222)=4,\"\",IF(LEN(G222)=3,\"\",IF(LEN(G222)=2,\"\",IF(LEN(G222)=1,\"\",\"\"))))&'Web Links'!G222)","v":"?????"},{"$f":"IF(OR(LEFT('Web Links'!$C222,2)=\"In\",$C222=\"Error\"),\"???????????????\",\"\"&F222)","v":"???????????????"}]
[{"$f":"IF('GL Template'!B237<>\"\",'GL Template'!B237,0)","v":0},{"$f":"IF('GL Template'!D237<>\"\",'GL Template'!D237,0)","v":0},"Error",null,null,null,null,null,null,null,null,null,null,{"$f":"IF(OR(LEFT('Web Links'!$C223,2)=\"In\",$C223=\"Error\"),\"?????\",\"\"&C223)","v":"?????"},{"$f":"IF(OR(LEFT('Web Links'!$C223,2)=\"In\",$C223=\"Error\"),\"??????????\",\"\"&D223)","v":"??????????"},{"$f":"IF(OR(LEFT('Web Links'!$C223,2)=\"In\",$C223=\"Error\"),\"???\",IF(LEN(E223)=2,\"0\",IF(LEN(E223)=1,\"00\",\"\")))&'Web Links'!E223","v":"???"},{"$f":"IF(OR(LEFT('Web Links'!$C223,2)=\"In\",$C223=\"Error\"),\"?????\",IF(LEN(G223)=4,\"\",IF(LEN(G223)=3,\"\",IF(LEN(G223)=2,\"\",IF(LEN(G223)=1,\"\",\"\"))))&'Web Links'!G223)","v":"?????"},{"$f":"IF(OR(LEFT('Web Links'!$C223,2)=\"In\",$C223=\"Error\"),\"???????????????\",\"\"&F223)","v":"???????????????"}]
[{"$f":"IF('GL Template'!B238<>\"\",'GL Template'!B238,0)","v":0},{"$f":"IF('GL Template'!D238<>\"\",'GL Template'!D238,0)","v":0},"Error",null,null,null,null,null,null,null,null,null,null,{"$f":"IF(OR(LEFT('Web Links'!$C224,2)=\"In\",$C224=\"Error\"),\"?????\",\"\"&C224)","v":"?????"},{"$f":"IF(OR(LEFT('Web Links'!$C224,2)=\"In\",$C224=\"Error\"),\"??????????\",\"\"&D224)","v":"??????????"},{"$f":"IF(OR(LEFT('Web Links'!$C224,2)=\"In\",$C224=\"Error\"),\"???\",IF(LEN(E224)=2,\"0\",IF(LEN(E224)=1,\"00\",\"\")))&'Web Links'!E224","v":"???"},{"$f":"IF(OR(LEFT('Web Links'!$C224,2)=\"In\",$C224=\"Error\"),\"?????\",IF(LEN(G224)=4,\"\",IF(LEN(G224)=3,\"\",IF(LEN(G224)=2,\"\",IF(LEN(G224)=1,\"\",\"\"))))&'Web Links'!G224)","v":"?????"},{"$f":"IF(OR(LEFT('Web Links'!$C224,2)=\"In\",$C224=\"Error\"),\"???????????????\",\"\"&F224)","v":"???????????????"}]
[{"$f":"IF('GL Template'!B239<>\"\",'GL Template'!B239,0)","v":0},{"$f":"IF('GL Template'!D239<>\"\",'GL Template'!D239,0)","v":0},"Error",null,null,null,null,null,null,null,null,null,null,{"$f":"IF(OR(LEFT('Web Links'!$C225,2)=\"In\",$C225=\"Error\"),\"?????\",\"\"&C225)","v":"?????"},{"$f":"IF(OR(LEFT('Web Links'!$C225,2)=\"In\",$C225=\"Error\"),\"??????????\",\"\"&D225)","v":"??????????"},{"$f":"IF(OR(LEFT('Web Links'!$C225,2)=\"In\",$C225=\"Error\"),\"???\",IF(LEN(E225)=2,\"0\",IF(LEN(E225)=1,\"00\",\"\")))&'Web Links'!E225","v":"???"},{"$f":"IF(OR(LEFT('Web Links'!$C225,2)=\"In\",$C225=\"Error\"),\"?????\",IF(LEN(G225)=4,\"\",IF(LEN(G225)=3,\"\",IF(LEN(G225)=2,\"\",IF(LEN(G225)=1,\"\",\"\"))))&'Web Links'!G225)","v":"?????"},{"$f":"IF(OR(LEFT('Web Links'!$C225,2)=\"In\",$C225=\"Error\"),\"???????????????\",\"\"&F225)","v":"???????????????"}]
[{"$f":"IF('GL Template'!B240<>\"\",'GL Template'!B240,0)","v":0},{"$f":"IF('GL Template'!D240<>\"\",'GL Template'!D240,0)","v":0},"Error",null,null,null,null,null,null,null,null,null,null,{"$f":"IF(OR(LEFT('Web Links'!$C226,2)=\"In\",$C226=\"Error\"),\"?????\",\"\"&C226)","v":"?????"},{"$f":"IF(OR(LEFT('Web Links'!$C226,2)=\"In\",$C226=\"Error\"),\"??????????\",\"\"&D226)","v":"??????????"},{"$f":"IF(OR(LEFT('Web Links'!$C226,2)=\"In\",$C226=\"Error\"),\"???\",IF(LEN(E226)=2,\"0\",IF(LEN(E226)=1,\"00\",\"\")))&'Web Links'!E226","v":"???"},{"$f":"IF(OR(LEFT('Web Links'!$C226,2)=\"In\",$C226=\"Error\"),\"?????\",IF(LEN(G226)=4,\"\",IF(LEN(G226)=3,\"\",IF(LEN(G226)=2,\"\",IF(LEN(G226)=1,\"\",\"\"))))&'Web Links'!G226)","v":"?????"},{"$f":"IF(OR(LEFT('Web Links'!$C226,2)=\"In\",$C226=\"Error\"),\"???????????????\",\"\"&F226)","v":"???????????????"}]
[{"$f":"IF('GL Template'!B241<>\"\",'GL Template'!B241,0)","v":0},{"$f":"IF('GL Template'!D241<>\"\",'GL Template'!D241,0)","v":0},"Error",null,null,null,null,null,null,null,null,null,null,{"$f":"IF(OR(LEFT('Web Links'!$C227,2)=\"In\",$C227=\"Error\"),\"?????\",\"\"&C227)","v":"?????"},{"$f":"IF(OR(LEFT('Web Links'!$C227,2)=\"In\",$C227=\"Error\"),\"??????????\",\"\"&D227)","v":"??????????"},{"$f":"IF(OR(LEFT('Web Links'!$C227,2)=\"In\",$C227=\"Error\"),\"???\",IF(LEN(E227)=2,\"0\",IF(LEN(E227)=1,\"00\",\"\")))&'Web Links'!E227","v":"???"},{"$f":"IF(OR(LEFT('Web Links'!$C227,2)=\"In\",$C227=\"Error\"),\"?????\",IF(LEN(G227)=4,\"\",IF(LEN(G227)=3,\"\",IF(LEN(G227)=2,\"\",IF(LEN(G227)=1,\"\",\"\"))))&'Web Links'!G227)","v":"?????"},{"$f":"IF(OR(LEFT('Web Links'!$C227,2)=\"In\",$C227=\"Error\"),\"???????????????\",\"\"&F227)","v":"???????????????"}]
[{"$f":"IF('GL Template'!B242<>\"\",'GL Template'!B242,0)","v":0},{"$f":"IF('GL Template'!D242<>\"\",'GL Template'!D242,0)","v":0},"Error",null,null,null,null,null,null,null,null,null,null,{"$f":"IF(OR(LEFT('Web Links'!$C228,2)=\"In\",$C228=\"Error\"),\"?????\",\"\"&C228)","v":"?????"},{"$f":"IF(OR(LEFT('Web Links'!$C228,2)=\"In\",$C228=\"Error\"),\"??????????\",\"\"&D228)","v":"??????????"},{"$f":"IF(OR(LEFT('Web Links'!$C228,2)=\"In\",$C228=\"Error\"),\"???\",IF(LEN(E228)=2,\"0\",IF(LEN(E228)=1,\"00\",\"\")))&'Web Links'!E228","v":"???"},{"$f":"IF(OR(LEFT('Web Links'!$C228,2)=\"In\",$C228=\"Error\"),\"?????\",IF(LEN(G228)=4,\"\",IF(LEN(G228)=3,\"\",IF(LEN(G228)=2,\"\",IF(LEN(G228)=1,\"\",\"\"))))&'Web Links'!G228)","v":"?????"},{"$f":"IF(OR(LEFT('Web Links'!$C228,2)=\"In\",$C228=\"Error\"),\"???????????????\",\"\"&F228)","v":"???????????????"}]
[{"$f":"IF('GL Template'!B243<>\"\",'GL Template'!B243,0)","v":0},{"$f":"IF('GL Template'!D243<>\"\",'GL Template'!D243,0)","v":0},"Error",null,null,null,null,null,null,null,null,null,null,{"$f":"IF(OR(LEFT('Web Links'!$C229,2)=\"In\",$C229=\"Error\"),\"?????\",\"\"&C229)","v":"?????"},{"$f":"IF(OR(LEFT('Web Links'!$C229,2)=\"In\",$C229=\"Error\"),\"??????????\",\"\"&D229)","v":"??????????"},{"$f":"IF(OR(LEFT('Web Links'!$C229,2)=\"In\",$C229=\"Error\"),\"???\",IF(LEN(E229)=2,\"0\",IF(LEN(E229)=1,\"00\",\"\")))&'Web Links'!E229","v":"???"},{"$f":"IF(OR(LEFT('Web Links'!$C229,2)=\"In\",$C229=\"Error\"),\"?????\",IF(LEN(G229)=4,\"\",IF(LEN(G229)=3,\"\",IF(LEN(G229)=2,\"\",IF(LEN(G229)=1,\"\",\"\"))))&'Web Links'!G229)","v":"?????"},{"$f":"IF(OR(LEFT('Web Links'!$C229,2)=\"In\",$C229=\"Error\"),\"???????????????\",\"\"&F229)","v":"???????????????"}]
[{"$f":"IF('GL Template'!B244<>\"\",'GL Template'!B244,0)","v":0},{"$f":"IF('GL Template'!D244<>\"\",'GL Template'!D244,0)","v":0},"Error",null,null,null,null,null,null,null,null,null,null,{"$f":"IF(OR(LEFT('Web Links'!$C230,2)=\"In\",$C230=\"Error\"),\"?????\",\"\"&C230)","v":"?????"},{"$f":"IF(OR(LEFT('Web Links'!$C230,2)=\"In\",$C230=\"Error\"),\"??????????\",\"\"&D230)","v":"??????????"},{"$f":"IF(OR(LEFT('Web Links'!$C230,2)=\"In\",$C230=\"Error\"),\"???\",IF(LEN(E230)=2,\"0\",IF(LEN(E230)=1,\"00\",\"\")))&'Web Links'!E230","v":"???"},{"$f":"IF(OR(LEFT('Web Links'!$C230,2)=\"In\",$C230=\"Error\"),\"?????\",IF(LEN(G230)=4,\"\",IF(LEN(G230)=3,\"\",IF(LEN(G230)=2,\"\",IF(LEN(G230)=1,\"\",\"\"))))&'Web Links'!G230)","v":"?????"},{"$f":"IF(OR(LEFT('Web Links'!$C230,2)=\"In\",$C230=\"Error\"),\"???????????????\",\"\"&F230)","v":"???????????????"}]
[{"$f":"IF('GL Template'!B245<>\"\",'GL Template'!B245,0)","v":0},{"$f":"IF('GL Template'!D245<>\"\",'GL Template'!D245,0)","v":0},"Error",null,null,null,null,null,null,null,null,null,null,{"$f":"IF(OR(LEFT('Web Links'!$C231,2)=\"In\",$C231=\"Error\"),\"?????\",\"\"&C231)","v":"?????"},{"$f":"IF(OR(LEFT('Web Links'!$C231,2)=\"In\",$C231=\"Error\"),\"??????????\",\"\"&D231)","v":"??????????"},{"$f":"IF(OR(LEFT('Web Links'!$C231,2)=\"In\",$C231=\"Error\"),\"???\",IF(LEN(E231)=2,\"0\",IF(LEN(E231)=1,\"00\",\"\")))&'Web Links'!E231","v":"???"},{"$f":"IF(OR(LEFT('Web Links'!$C231,2)=\"In\",$C231=\"Error\"),\"?????\",IF(LEN(G231)=4,\"\",IF(LEN(G231)=3,\"\",IF(LEN(G231)=2,\"\",IF(LEN(G231)=1,\"\",\"\"))))&'Web Links'!G231)","v":"?????"},{"$f":"IF(OR(LEFT('Web Links'!$C231,2)=\"In\",$C231=\"Error\"),\"???????????????\",\"\"&F231)","v":"???????????????"}]
[{"$f":"IF('GL Template'!B246<>\"\",'GL Template'!B246,0)","v":0},{"$f":"IF('GL Template'!D246<>\"\",'GL Template'!D246,0)","v":0},"Error",null,null,null,null,null,null,null,null,null,null,{"$f":"IF(OR(LEFT('Web Links'!$C232,2)=\"In\",$C232=\"Error\"),\"?????\",\"\"&C232)","v":"?????"},{"$f":"IF(OR(LEFT('Web Links'!$C232,2)=\"In\",$C232=\"Error\"),\"??????????\",\"\"&D232)","v":"??????????"},{"$f":"IF(OR(LEFT('Web Links'!$C232,2)=\"In\",$C232=\"Error\"),\"???\",IF(LEN(E232)=2,\"0\",IF(LEN(E232)=1,\"00\",\"\")))&'Web Links'!E232","v":"???"},{"$f":"IF(OR(LEFT('Web Links'!$C232,2)=\"In\",$C232=\"Error\"),\"?????\",IF(LEN(G232)=4,\"\",IF(LEN(G232)=3,\"\",IF(LEN(G232)=2,\"\",IF(LEN(G232)=1,\"\",\"\"))))&'Web Links'!G232)","v":"?????"},{"$f":"IF(OR(LEFT('Web Links'!$C232,2)=\"In\",$C232=\"Error\"),\"???????????????\",\"\"&F232)","v":"???????????????"}]
[{"$f":"IF('GL Template'!B247<>\"\",'GL Template'!B247,0)","v":0},{"$f":"IF('GL Template'!D247<>\"\",'GL Template'!D247,0)","v":0},"Error",null,null,null,null,null,null,null,null,null,null,{"$f":"IF(OR(LEFT('Web Links'!$C233,2)=\"In\",$C233=\"Error\"),\"?????\",\"\"&C233)","v":"?????"},{"$f":"IF(OR(LEFT('Web Links'!$C233,2)=\"In\",$C233=\"Error\"),\"??????????\",\"\"&D233)","v":"??????????"},{"$f":"IF(OR(LEFT('Web Links'!$C233,2)=\"In\",$C233=\"Error\"),\"???\",IF(LEN(E233)=2,\"0\",IF(LEN(E233)=1,\"00\",\"\")))&'Web Links'!E233","v":"???"},{"$f":"IF(OR(LEFT('Web Links'!$C233,2)=\"In\",$C233=\"Error\"),\"?????\",IF(LEN(G233)=4,\"\",IF(LEN(G233)=3,\"\",IF(LEN(G233)=2,\"\",IF(LEN(G233)=1,\"\",\"\"))))&'Web Links'!G233)","v":"?????"},{"$f":"IF(OR(LEFT('Web Links'!$C233,2)=\"In\",$C233=\"Error\"),\"???????????????\",\"\"&F233)","v":"???????????????"}]
[{"$f":"IF('GL Template'!B248<>\"\",'GL Template'!B248,0)","v":0},{"$f":"IF('GL Template'!D248<>\"\",'GL Template'!D248,0)","v":0},"Error",null,null,null,null,null,null,null,null,null,null,{"$f":"IF(OR(LEFT('Web Links'!$C234,2)=\"In\",$C234=\"Error\"),\"?????\",\"\"&C234)","v":"?????"},{"$f":"IF(OR(LEFT('Web Links'!$C234,2)=\"In\",$C234=\"Error\"),\"??????????\",\"\"&D234)","v":"??????????"},{"$f":"IF(OR(LEFT('Web Links'!$C234,2)=\"In\",$C234=\"Error\"),\"???\",IF(LEN(E234)=2,\"0\",IF(LEN(E234)=1,\"00\",\"\")))&'Web Links'!E234","v":"???"},{"$f":"IF(OR(LEFT('Web Links'!$C234,2)=\"In\",$C234=\"Error\"),\"?????\",IF(LEN(G234)=4,\"\",IF(LEN(G234)=3,\"\",IF(LEN(G234)=2,\"\",IF(LEN(G234)=1,\"\",\"\"))))&'Web Links'!G234)","v":"?????"},{"$f":"IF(OR(LEFT('Web Links'!$C234,2)=\"In\",$C234=\"Error\"),\"???????????????\",\"\"&F234)","v":"???????????????"}]
[{"$f":"IF('GL Template'!B249<>\"\",'GL Template'!B249,0)","v":0},{"$f":"IF('GL Template'!D249<>\"\",'GL Template'!D249,0)","v":0},"Error",null,null,null,null,null,null,null,null,null,null,{"$f":"IF(OR(LEFT('Web Links'!$C235,2)=\"In\",$C235=\"Error\"),\"?????\",\"\"&C235)","v":"?????"},{"$f":"IF(OR(LEFT('Web Links'!$C235,2)=\"In\",$C235=\"Error\"),\"??????????\",\"\"&D235)","v":"??????????"},{"$f":"IF(OR(LEFT('Web Links'!$C235,2)=\"In\",$C235=\"Error\"),\"???\",IF(LEN(E235)=2,\"0\",IF(LEN(E235)=1,\"00\",\"\")))&'Web Links'!E235","v":"???"},{"$f":"IF(OR(LEFT('Web Links'!$C235,2)=\"In\",$C235=\"Error\"),\"?????\",IF(LEN(G235)=4,\"\",IF(LEN(G235)=3,\"\",IF(LEN(G235)=2,\"\",IF(LEN(G235)=1,\"\",\"\"))))&'Web Links'!G235)","v":"?????"},{"$f":"IF(OR(LEFT('Web Links'!$C235,2)=\"In\",$C235=\"Error\"),\"???????????????\",\"\"&F235)","v":"???????????????"}]
[{"$f":"IF('GL Template'!B250<>\"\",'GL Template'!B250,0)","v":0},{"$f":"IF('GL Template'!D250<>\"\",'GL Template'!D250,0)","v":0},"Error",null,null,null,null,null,null,null,null,null,null,{"$f":"IF(OR(LEFT('Web Links'!$C236,2)=\"In\",$C236=\"Error\"),\"?????\",\"\"&C236)","v":"?????"},{"$f":"IF(OR(LEFT('Web Links'!$C236,2)=\"In\",$C236=\"Error\"),\"??????????\",\"\"&D236)","v":"??????????"},{"$f":"IF(OR(LEFT('Web Links'!$C236,2)=\"In\",$C236=\"Error\"),\"???\",IF(LEN(E236)=2,\"0\",IF(LEN(E236)=1,\"00\",\"\")))&'Web Links'!E236","v":"???"},{"$f":"IF(OR(LEFT('Web Links'!$C236,2)=\"In\",$C236=\"Error\"),\"?????\",IF(LEN(G236)=4,\"\",IF(LEN(G236)=3,\"\",IF(LEN(G236)=2,\"\",IF(LEN(G236)=1,\"\",\"\"))))&'Web Links'!G236)","v":"?????"},{"$f":"IF(OR(LEFT('Web Links'!$C236,2)=\"In\",$C236=\"Error\"),\"???????????????\",\"\"&F236)","v":"???????????????"}]
[{"$f":"IF('GL Template'!B251<>\"\",'GL Template'!B251,0)","v":0},{"$f":"IF('GL Template'!D251<>\"\",'GL Template'!D251,0)","v":0},"Error",null,null,null,null,null,null,null,null,null,null,{"$f":"IF(OR(LEFT('Web Links'!$C237,2)=\"In\",$C237=\"Error\"),\"?????\",\"\"&C237)","v":"?????"},{"$f":"IF(OR(LEFT('Web Links'!$C237,2)=\"In\",$C237=\"Error\"),\"??????????\",\"\"&D237)","v":"??????????"},{"$f":"IF(OR(LEFT('Web Links'!$C237,2)=\"In\",$C237=\"Error\"),\"???\",IF(LEN(E237)=2,\"0\",IF(LEN(E237)=1,\"00\",\"\")))&'Web Links'!E237","v":"???"},{"$f":"IF(OR(LEFT('Web Links'!$C237,2)=\"In\",$C237=\"Error\"),\"?????\",IF(LEN(G237)=4,\"\",IF(LEN(G237)=3,\"\",IF(LEN(G237)=2,\"\",IF(LEN(G237)=1,\"\",\"\"))))&'Web Links'!G237)","v":"?????"},{"$f":"IF(OR(LEFT('Web Links'!$C237,2)=\"In\",$C237=\"Error\"),\"???????????????\",\"\"&F237)","v":"???????????????"}]
[{"$f":"IF('GL Template'!B252<>\"\",'GL Template'!B252,0)","v":0},{"$f":"IF('GL Template'!D252<>\"\",'GL Template'!D252,0)","v":0},"Error",null,null,null,null,null,null,null,null,null,null,{"$f":"IF(OR(LEFT('Web Links'!$C238,2)=\"In\",$C238=\"Error\"),\"?????\",\"\"&C238)","v":"?????"},{"$f":"IF(OR(LEFT('Web Links'!$C238,2)=\"In\",$C238=\"Error\"),\"??????????\",\"\"&D238)","v":"??????????"},{"$f":"IF(OR(LEFT('Web Links'!$C238,2)=\"In\",$C238=\"Error\"),\"???\",IF(LEN(E238)=2,\"0\",IF(LEN(E238)=1,\"00\",\"\")))&'Web Links'!E238","v":"???"},{"$f":"IF(OR(LEFT('Web Links'!$C238,2)=\"In\",$C238=\"Error\"),\"?????\",IF(LEN(G238)=4,\"\",IF(LEN(G238)=3,\"\",IF(LEN(G238)=2,\"\",IF(LEN(G238)=1,\"\",\"\"))))&'Web Links'!G238)","v":"?????"},{"$f":"IF(OR(LEFT('Web Links'!$C238,2)=\"In\",$C238=\"Error\"),\"???????????????\",\"\"&F238)","v":"???????????????"}]
[{"$f":"IF('GL Template'!B253<>\"\",'GL Template'!B253,0)","v":0},{"$f":"IF('GL Template'!D253<>\"\",'GL Template'!D253,0)","v":0},"Error",null,null,null,null,null,null,null,null,null,null,{"$f":"IF(OR(LEFT('Web Links'!$C239,2)=\"In\",$C239=\"Error\"),\"?????\",\"\"&C239)","v":"?????"},{"$f":"IF(OR(LEFT('Web Links'!$C239,2)=\"In\",$C239=\"Error\"),\"??????????\",\"\"&D239)","v":"??????????"},{"$f":"IF(OR(LEFT('Web Links'!$C239,2)=\"In\",$C239=\"Error\"),\"???\",IF(LEN(E239)=2,\"0\",IF(LEN(E239)=1,\"00\",\"\")))&'Web Links'!E239","v":"???"},{"$f":"IF(OR(LEFT('Web Links'!$C239,2)=\"In\",$C239=\"Error\"),\"?????\",IF(LEN(G239)=4,\"\",IF(LEN(G239)=3,\"\",IF(LEN(G239)=2,\"\",IF(LEN(G239)=1,\"\",\"\"))))&'Web Links'!G239)","v":"?????"},{"$f":"IF(OR(LEFT('Web Links'!$C239,2)=\"In\",$C239=\"Error\"),\"???????????????\",\"\"&F239)","v":"???????????????"}]
[{"$f":"IF('GL Template'!B254<>\"\",'GL Template'!B254,0)","v":0},{"$f":"IF('GL Template'!D254<>\"\",'GL Template'!D254,0)","v":0},"Error",null,null,null,null,null,null,null,null,null,null,{"$f":"IF(OR(LEFT('Web Links'!$C240,2)=\"In\",$C240=\"Error\"),\"?????\",\"\"&C240)","v":"?????"},{"$f":"IF(OR(LEFT('Web Links'!$C240,2)=\"In\",$C240=\"Error\"),\"??????????\",\"\"&D240)","v":"??????????"},{"$f":"IF(OR(LEFT('Web Links'!$C240,2)=\"In\",$C240=\"Error\"),\"???\",IF(LEN(E240)=2,\"0\",IF(LEN(E240)=1,\"00\",\"\")))&'Web Links'!E240","v":"???"},{"$f":"IF(OR(LEFT('Web Links'!$C240,2)=\"In\",$C240=\"Error\"),\"?????\",IF(LEN(G240)=4,\"\",IF(LEN(G240)=3,\"\",IF(LEN(G240)=2,\"\",IF(LEN(G240)=1,\"\",\"\"))))&'Web Links'!G240)","v":"?????"},{"$f":"IF(OR(LEFT('Web Links'!$C240,2)=\"In\",$C240=\"Error\"),\"???????????????\",\"\"&F240)","v":"???????????????"}]
[{"$f":"IF('GL Template'!B255<>\"\",'GL Template'!B255,0)","v":0},{"$f":"IF('GL Template'!D255<>\"\",'GL Template'!D255,0)","v":0},"Error",null,null,null,null,null,null,null,null,null,null,{"$f":"IF(OR(LEFT('Web Links'!$C241,2)=\"In\",$C241=\"Error\"),\"?????\",\"\"&C241)","v":"?????"},{"$f":"IF(OR(LEFT('Web Links'!$C241,2)=\"In\",$C241=\"Error\"),\"??????????\",\"\"&D241)","v":"??????????"},{"$f":"IF(OR(LEFT('Web Links'!$C241,2)=\"In\",$C241=\"Error\"),\"???\",IF(LEN(E241)=2,\"0\",IF(LEN(E241)=1,\"00\",\"\")))&'Web Links'!E241","v":"???"},{"$f":"IF(OR(LEFT('Web Links'!$C241,2)=\"In\",$C241=\"Error\"),\"?????\",IF(LEN(G241)=4,\"\",IF(LEN(G241)=3,\"\",IF(LEN(G241)=2,\"\",IF(LEN(G241)=1,\"\",\"\"))))&'Web Links'!G241)","v":"?????"},{"$f":"IF(OR(LEFT('Web Links'!$C241,2)=\"In\",$C241=\"Error\"),\"???????????????\",\"\"&F241)","v":"???????????????"}]
[{"$f":"IF('GL Template'!B256<>\"\",'GL Template'!B256,0)","v":0},{"$f":"IF('GL Template'!D256<>\"\",'GL Template'!D256,0)","v":0},"Error",null,null,null,null,null,null,null,null,null,null,{"$f":"IF(OR(LEFT('Web Links'!$C242,2)=\"In\",$C242=\"Error\"),\"?????\",\"\"&C242)","v":"?????"},{"$f":"IF(OR(LEFT('Web Links'!$C242,2)=\"In\",$C242=\"Error\"),\"??????????\",\"\"&D242)","v":"??????????"},{"$f":"IF(OR(LEFT('Web Links'!$C242,2)=\"In\",$C242=\"Error\"),\"???\",IF(LEN(E242)=2,\"0\",IF(LEN(E242)=1,\"00\",\"\")))&'Web Links'!E242","v":"???"},{"$f":"IF(OR(LEFT('Web Links'!$C242,2)=\"In\",$C242=\"Error\"),\"?????\",IF(LEN(G242)=4,\"\",IF(LEN(G242)=3,\"\",IF(LEN(G242)=2,\"\",IF(LEN(G242)=1,\"\",\"\"))))&'Web Links'!G242)","v":"?????"},{"$f":"IF(OR(LEFT('Web Links'!$C242,2)=\"In\",$C242=\"Error\"),\"???????????????\",\"\"&F242)","v":"???????????????"}]
[{"$f":"IF('GL Template'!B257<>\"\",'GL Template'!B257,0)","v":0},{"$f":"IF('GL Template'!D257<>\"\",'GL Template'!D257,0)","v":0},"Error",null,null,null,null,null,null,null,null,null,null,{"$f":"IF(OR(LEFT('Web Links'!$C243,2)=\"In\",$C243=\"Error\"),\"?????\",\"\"&C243)","v":"?????"},{"$f":"IF(OR(LEFT('Web Links'!$C243,2)=\"In\",$C243=\"Error\"),\"??????????\",\"\"&D243)","v":"??????????"},{"$f":"IF(OR(LEFT('Web Links'!$C243,2)=\"In\",$C243=\"Error\"),\"???\",IF(LEN(E243)=2,\"0\",IF(LEN(E243)=1,\"00\",\"\")))&'Web Links'!E243","v":"???"},{"$f":"IF(OR(LEFT('Web Links'!$C243,2)=\"In\",$C243=\"Error\"),\"?????\",IF(LEN(G243)=4,\"\",IF(LEN(G243)=3,\"\",IF(LEN(G243)=2,\"\",IF(LEN(G243)=1,\"\",\"\"))))&'Web Links'!G243)","v":"?????"},{"$f":"IF(OR(LEFT('Web Links'!$C243,2)=\"In\",$C243=\"Error\"),\"???????????????\",\"\"&F243)","v":"???????????????"}]
[{"$f":"IF('GL Template'!B258<>\"\",'GL Template'!B258,0)","v":0},{"$f":"IF('GL Template'!D258<>\"\",'GL Template'!D258,0)","v":0},"Error",null,null,null,null,null,null,null,null,null,null,{"$f":"IF(OR(LEFT('Web Links'!$C244,2)=\"In\",$C244=\"Error\"),\"?????\",\"\"&C244)","v":"?????"},{"$f":"IF(OR(LEFT('Web Links'!$C244,2)=\"In\",$C244=\"Error\"),\"??????????\",\"\"&D244)","v":"??????????"},{"$f":"IF(OR(LEFT('Web Links'!$C244,2)=\"In\",$C244=\"Error\"),\"???\",IF(LEN(E244)=2,\"0\",IF(LEN(E244)=1,\"00\",\"\")))&'Web Links'!E244","v":"???"},{"$f":"IF(OR(LEFT('Web Links'!$C244,2)=\"In\",$C244=\"Error\"),\"?????\",IF(LEN(G244)=4,\"\",IF(LEN(G244)=3,\"\",IF(LEN(G244)=2,\"\",IF(LEN(G244)=1,\"\",\"\"))))&'Web Links'!G244)","v":"?????"},{"$f":"IF(OR(LEFT('Web Links'!$C244,2)=\"In\",$C244=\"Error\"),\"???????????????\",\"\"&F244)","v":"???????????????"}]
[{"$f":"IF('GL Template'!B259<>\"\",'GL Template'!B259,0)","v":0},{"$f":"IF('GL Template'!D259<>\"\",'GL Template'!D259,0)","v":0},"Error",null,null,null,null,null,null,null,null,null,null,{"$f":"IF(OR(LEFT('Web Links'!$C245,2)=\"In\",$C245=\"Error\"),\"?????\",\"\"&C245)","v":"?????"},{"$f":"IF(OR(LEFT('Web Links'!$C245,2)=\"In\",$C245=\"Error\"),\"??????????\",\"\"&D245)","v":"??????????"},{"$f":"IF(OR(LEFT('Web Links'!$C245,2)=\"In\",$C245=\"Error\"),\"???\",IF(LEN(E245)=2,\"0\",IF(LEN(E245)=1,\"00\",\"\")))&'Web Links'!E245","v":"???"},{"$f":"IF(OR(LEFT('Web Links'!$C245,2)=\"In\",$C245=\"Error\"),\"?????\",IF(LEN(G245)=4,\"\",IF(LEN(G245)=3,\"\",IF(LEN(G245)=2,\"\",IF(LEN(G245)=1,\"\",\"\"))))&'Web Links'!G245)","v":"?????"},{"$f":"IF(OR(LEFT('Web Links'!$C245,2)=\"In\",$C245=\"Error\"),\"???????????????\",\"\"&F245)","v":"???????????????"}]
[{"$f":"IF('GL Template'!B260<>\"\",'GL Template'!B260,0)","v":0},{"$f":"IF('GL Template'!D260<>\"\",'GL Template'!D260,0)","v":0},"Error",null,null,null,null,null,null,null,null,null,null,{"$f":"IF(OR(LEFT('Web Links'!$C246,2)=\"In\",$C246=\"Error\"),\"?????\",\"\"&C246)","v":"?????"},{"$f":"IF(OR(LEFT('Web Links'!$C246,2)=\"In\",$C246=\"Error\"),\"??????????\",\"\"&D246)","v":"??????????"},{"$f":"IF(OR(LEFT('Web Links'!$C246,2)=\"In\",$C246=\"Error\"),\"???\",IF(LEN(E246)=2,\"0\",IF(LEN(E246)=1,\"00\",\"\")))&'Web Links'!E246","v":"???"},{"$f":"IF(OR(LEFT('Web Links'!$C246,2)=\"In\",$C246=\"Error\"),\"?????\",IF(LEN(G246)=4,\"\",IF(LEN(G246)=3,\"\",IF(LEN(G246)=2,\"\",IF(LEN(G246)=1,\"\",\"\"))))&'Web Links'!G246)","v":"?????"},{"$f":"IF(OR(LEFT('Web Links'!$C246,2)=\"In\",$C246=\"Error\"),\"???????????????\",\"\"&F246)","v":"???????????????"}]
[{"$f":"IF('GL Template'!B261<>\"\",'GL Template'!B261,0)","v":0},{"$f":"IF('GL Template'!D261<>\"\",'GL Template'!D261,0)","v":0},"Error",null,null,null,null,null,null,null,null,null,null,{"$f":"IF(OR(LEFT('Web Links'!$C247,2)=\"In\",$C247=\"Error\"),\"?????\",\"\"&C247)","v":"?????"},{"$f":"IF(OR(LEFT('Web Links'!$C247,2)=\"In\",$C247=\"Error\"),\"??????????\",\"\"&D247)","v":"??????????"},{"$f":"IF(OR(LEFT('Web Links'!$C247,2)=\"In\",$C247=\"Error\"),\"???\",IF(LEN(E247)=2,\"0\",IF(LEN(E247)=1,\"00\",\"\")))&'Web Links'!E247","v":"???"},{"$f":"IF(OR(LEFT('Web Links'!$C247,2)=\"In\",$C247=\"Error\"),\"?????\",IF(LEN(G247)=4,\"\",IF(LEN(G247)=3,\"\",IF(LEN(G247)=2,\"\",IF(LEN(G247)=1,\"\",\"\"))))&'Web Links'!G247)","v":"?????"},{"$f":"IF(OR(LEFT('Web Links'!$C247,2)=\"In\",$C247=\"Error\"),\"???????????????\",\"\"&F247)","v":"???????????????"}]
[{"$f":"IF('GL Template'!B262<>\"\",'GL Template'!B262,0)","v":0},{"$f":"IF('GL Template'!D262<>\"\",'GL Template'!D262,0)","v":0},"Error",null,null,null,null,null,null,null,null,null,null,{"$f":"IF(OR(LEFT('Web Links'!$C248,2)=\"In\",$C248=\"Error\"),\"?????\",\"\"&C248)","v":"?????"},{"$f":"IF(OR(LEFT('Web Links'!$C248,2)=\"In\",$C248=\"Error\"),\"??????????\",\"\"&D248)","v":"??????????"},{"$f":"IF(OR(LEFT('Web Links'!$C248,2)=\"In\",$C248=\"Error\"),\"???\",IF(LEN(E248)=2,\"0\",IF(LEN(E248)=1,\"00\",\"\")))&'Web Links'!E248","v":"???"},{"$f":"IF(OR(LEFT('Web Links'!$C248,2)=\"In\",$C248=\"Error\"),\"?????\",IF(LEN(G248)=4,\"\",IF(LEN(G248)=3,\"\",IF(LEN(G248)=2,\"\",IF(LEN(G248)=1,\"\",\"\"))))&'Web Links'!G248)","v":"?????"},{"$f":"IF(OR(LEFT('Web Links'!$C248,2)=\"In\",$C248=\"Error\"),\"???????????????\",\"\"&F248)","v":"???????????????"}]
[{"$f":"IF('GL Template'!B263<>\"\",'GL Template'!B263,0)","v":0},{"$f":"IF('GL Template'!D263<>\"\",'GL Template'!D263,0)","v":0},"Error",null,null,null,null,null,null,null,null,null,null,{"$f":"IF(OR(LEFT('Web Links'!$C249,2)=\"In\",$C249=\"Error\"),\"?????\",\"\"&C249)","v":"?????"},{"$f":"IF(OR(LEFT('Web Links'!$C249,2)=\"In\",$C249=\"Error\"),\"??????????\",\"\"&D249)","v":"??????????"},{"$f":"IF(OR(LEFT('Web Links'!$C249,2)=\"In\",$C249=\"Error\"),\"???\",IF(LEN(E249)=2,\"0\",IF(LEN(E249)=1,\"00\",\"\")))&'Web Links'!E249","v":"???"},{"$f":"IF(OR(LEFT('Web Links'!$C249,2)=\"In\",$C249=\"Error\"),\"?????\",IF(LEN(G249)=4,\"\",IF(LEN(G249)=3,\"\",IF(LEN(G249)=2,\"\",IF(LEN(G249)=1,\"\",\"\"))))&'Web Links'!G249)","v":"?????"},{"$f":"IF(OR(LEFT('Web Links'!$C249,2)=\"In\",$C249=\"Error\"),\"???????????????\",\"\"&F249)","v":"???????????????"}]
[{"$f":"IF('GL Template'!B264<>\"\",'GL Template'!B264,0)","v":0},{"$f":"IF('GL Template'!D264<>\"\",'GL Template'!D264,0)","v":0},"Error",null,null,null,null,null,null,null,null,null,null,{"$f":"IF(OR(LEFT('Web Links'!$C250,2)=\"In\",$C250=\"Error\"),\"?????\",\"\"&C250)","v":"?????"},{"$f":"IF(OR(LEFT('Web Links'!$C250,2)=\"In\",$C250=\"Error\"),\"??????????\",\"\"&D250)","v":"??????????"},{"$f":"IF(OR(LEFT('Web Links'!$C250,2)=\"In\",$C250=\"Error\"),\"???\",IF(LEN(E250)=2,\"0\",IF(LEN(E250)=1,\"00\",\"\")))&'Web Links'!E250","v":"???"},{"$f":"IF(OR(LEFT('Web Links'!$C250,2)=\"In\",$C250=\"Error\"),\"?????\",IF(LEN(G250)=4,\"\",IF(LEN(G250)=3,\"\",IF(LEN(G250)=2,\"\",IF(LEN(G250)=1,\"\",\"\"))))&'Web Links'!G250)","v":"?????"},{"$f":"IF(OR(LEFT('Web Links'!$C250,2)=\"In\",$C250=\"Error\"),\"???????????????\",\"\"&F250)","v":"???????????????"}]
[{"$f":"IF('GL Template'!B265<>\"\",'GL Template'!B265,0)","v":0},{"$f":"IF('GL Template'!D265<>\"\",'GL Template'!D265,0)","v":0},"Error",null,null,null,null,null,null,null,null,null,null,{"$f":"IF(OR(LEFT('Web Links'!$C251,2)=\"In\",$C251=\"Error\"),\"?????\",\"\"&C251)","v":"?????"},{"$f":"IF(OR(LEFT('Web Links'!$C251,2)=\"In\",$C251=\"Error\"),\"??????????\",\"\"&D251)","v":"??????????"},{"$f":"IF(OR(LEFT('Web Links'!$C251,2)=\"In\",$C251=\"Error\"),\"???\",IF(LEN(E251)=2,\"0\",IF(LEN(E251)=1,\"00\",\"\")))&'Web Links'!E251","v":"???"},{"$f":"IF(OR(LEFT('Web Links'!$C251,2)=\"In\",$C251=\"Error\"),\"?????\",IF(LEN(G251)=4,\"\",IF(LEN(G251)=3,\"\",IF(LEN(G251)=2,\"\",IF(LEN(G251)=1,\"\",\"\"))))&'Web Links'!G251)","v":"?????"},{"$f":"IF(OR(LEFT('Web Links'!$C251,2)=\"In\",$C251=\"Error\"),\"???????????????\",\"\"&F251)","v":"???????????????"}]
[{"$f":"IF('GL Template'!B266<>\"\",'GL Template'!B266,0)","v":0},{"$f":"IF('GL Template'!D266<>\"\",'GL Template'!D266,0)","v":0},"Error",null,null,null,null,null,null,null,null,null,null,{"$f":"IF(OR(LEFT('Web Links'!$C252,2)=\"In\",$C252=\"Error\"),\"?????\",\"\"&C252)","v":"?????"},{"$f":"IF(OR(LEFT('Web Links'!$C252,2)=\"In\",$C252=\"Error\"),\"??????????\",\"\"&D252)","v":"??????????"},{"$f":"IF(OR(LEFT('Web Links'!$C252,2)=\"In\",$C252=\"Error\"),\"???\",IF(LEN(E252)=2,\"0\",IF(LEN(E252)=1,\"00\",\"\")))&'Web Links'!E252","v":"???"},{"$f":"IF(OR(LEFT('Web Links'!$C252,2)=\"In\",$C252=\"Error\"),\"?????\",IF(LEN(G252)=4,\"\",IF(LEN(G252)=3,\"\",IF(LEN(G252)=2,\"\",IF(LEN(G252)=1,\"\",\"\"))))&'Web Links'!G252)","v":"?????"},{"$f":"IF(OR(LEFT('Web Links'!$C252,2)=\"In\",$C252=\"Error\"),\"???????????????\",\"\"&F252)","v":"???????????????"}]
[{"$f":"IF('GL Template'!B267<>\"\",'GL Template'!B267,0)","v":0},{"$f":"IF('GL Template'!D267<>\"\",'GL Template'!D267,0)","v":0},"Error",null,null,null,null,null,null,null,null,null,null,{"$f":"IF(OR(LEFT('Web Links'!$C253,2)=\"In\",$C253=\"Error\"),\"?????\",\"\"&C253)","v":"?????"},{"$f":"IF(OR(LEFT('Web Links'!$C253,2)=\"In\",$C253=\"Error\"),\"??????????\",\"\"&D253)","v":"??????????"},{"$f":"IF(OR(LEFT('Web Links'!$C253,2)=\"In\",$C253=\"Error\"),\"???\",IF(LEN(E253)=2,\"0\",IF(LEN(E253)=1,\"00\",\"\")))&'Web Links'!E253","v":"???"},{"$f":"IF(OR(LEFT('Web Links'!$C253,2)=\"In\",$C253=\"Error\"),\"?????\",IF(LEN(G253)=4,\"\",IF(LEN(G253)=3,\"\",IF(LEN(G253)=2,\"\",IF(LEN(G253)=1,\"\",\"\"))))&'Web Links'!G253)","v":"?????"},{"$f":"IF(OR(LEFT('Web Links'!$C253,2)=\"In\",$C253=\"Error\"),\"???????????????\",\"\"&F253)","v":"???????????????"}]
[{"$f":"IF('GL Template'!B268<>\"\",'GL Template'!B268,0)","v":0},{"$f":"IF('GL Template'!D268<>\"\",'GL Template'!D268,0)","v":0},"Error",null,null,null,null,null,null,null,null,null,null,{"$f":"IF(OR(LEFT('Web Links'!$C254,2)=\"In\",$C254=\"Error\"),\"?????\",\"\"&C254)","v":"?????"},{"$f":"IF(OR(LEFT('Web Links'!$C254,2)=\"In\",$C254=\"Error\"),\"??????????\",\"\"&D254)","v":"??????????"},{"$f":"IF(OR(LEFT('Web Links'!$C254,2)=\"In\",$C254=\"Error\"),\"???\",IF(LEN(E254)=2,\"0\",IF(LEN(E254)=1,\"00\",\"\")))&'Web Links'!E254","v":"???"},{"$f":"IF(OR(LEFT('Web Links'!$C254,2)=\"In\",$C254=\"Error\"),\"?????\",IF(LEN(G254)=4,\"\",IF(LEN(G254)=3,\"\",IF(LEN(G254)=2,\"\",IF(LEN(G254)=1,\"\",\"\"))))&'Web Links'!G254)","v":"?????"},{"$f":"IF(OR(LEFT('Web Links'!$C254,2)=\"In\",$C254=\"Error\"),\"???????????????\",\"\"&F254)","v":"???????????????"}]
[{"$f":"IF('GL Template'!B269<>\"\",'GL Template'!B269,0)","v":0},{"$f":"IF('GL Template'!D269<>\"\",'GL Template'!D269,0)","v":0},"Error",null,null,null,null,null,null,null,null,null,null,{"$f":"IF(OR(LEFT('Web Links'!$C255,2)=\"In\",$C255=\"Error\"),\"?????\",\"\"&C255)","v":"?????"},{"$f":"IF(OR(LEFT('Web Links'!$C255,2)=\"In\",$C255=\"Error\"),\"??????????\",\"\"&D255)","v":"??????????"},{"$f":"IF(OR(LEFT('Web Links'!$C255,2)=\"In\",$C255=\"Error\"),\"???\",IF(LEN(E255)=2,\"0\",IF(LEN(E255)=1,\"00\",\"\")))&'Web Links'!E255","v":"???"},{"$f":"IF(OR(LEFT('Web Links'!$C255,2)=\"In\",$C255=\"Error\"),\"?????\",IF(LEN(G255)=4,\"\",IF(LEN(G255)=3,\"\",IF(LEN(G255)=2,\"\",IF(LEN(G255)=1,\"\",\"\"))))&'Web Links'!G255)","v":"?????"},{"$f":"IF(OR(LEFT('Web Links'!$C255,2)=\"In\",$C255=\"Error\"),\"???????????????\",\"\"&F255)","v":"???????????????"}]
[{"$f":"IF('GL Template'!B270<>\"\",'GL Template'!B270,0)","v":0},{"$f":"IF('GL Template'!D270<>\"\",'GL Template'!D270,0)","v":0},"Error",null,null,null,null,null,null,null,null,null,null,{"$f":"IF(OR(LEFT('Web Links'!$C256,2)=\"In\",$C256=\"Error\"),\"?????\",\"\"&C256)","v":"?????"},{"$f":"IF(OR(LEFT('Web Links'!$C256,2)=\"In\",$C256=\"Error\"),\"??????????\",\"\"&D256)","v":"??????????"},{"$f":"IF(OR(LEFT('Web Links'!$C256,2)=\"In\",$C256=\"Error\"),\"???\",IF(LEN(E256)=2,\"0\",IF(LEN(E256)=1,\"00\",\"\")))&'Web Links'!E256","v":"???"},{"$f":"IF(OR(LEFT('Web Links'!$C256,2)=\"In\",$C256=\"Error\"),\"?????\",IF(LEN(G256)=4,\"\",IF(LEN(G256)=3,\"\",IF(LEN(G256)=2,\"\",IF(LEN(G256)=1,\"\",\"\"))))&'Web Links'!G256)","v":"?????"},{"$f":"IF(OR(LEFT('Web Links'!$C256,2)=\"In\",$C256=\"Error\"),\"???????????????\",\"\"&F256)","v":"???????????????"}]
[{"$f":"IF('GL Template'!B271<>\"\",'GL Template'!B271,0)","v":0},{"$f":"IF('GL Template'!D271<>\"\",'GL Template'!D271,0)","v":0},"Error",null,null,null,null,null,null,null,null,null,null,{"$f":"IF(OR(LEFT('Web Links'!$C257,2)=\"In\",$C257=\"Error\"),\"?????\",\"\"&C257)","v":"?????"},{"$f":"IF(OR(LEFT('Web Links'!$C257,2)=\"In\",$C257=\"Error\"),\"??????????\",\"\"&D257)","v":"??????????"},{"$f":"IF(OR(LEFT('Web Links'!$C257,2)=\"In\",$C257=\"Error\"),\"???\",IF(LEN(E257)=2,\"0\",IF(LEN(E257)=1,\"00\",\"\")))&'Web Links'!E257","v":"???"},{"$f":"IF(OR(LEFT('Web Links'!$C257,2)=\"In\",$C257=\"Error\"),\"?????\",IF(LEN(G257)=4,\"\",IF(LEN(G257)=3,\"\",IF(LEN(G257)=2,\"\",IF(LEN(G257)=1,\"\",\"\"))))&'Web Links'!G257)","v":"?????"},{"$f":"IF(OR(LEFT('Web Links'!$C257,2)=\"In\",$C257=\"Error\"),\"???????????????\",\"\"&F257)","v":"???????????????"}]
[{"$f":"IF('GL Template'!B272<>\"\",'GL Template'!B272,0)","v":0},{"$f":"IF('GL Template'!D272<>\"\",'GL Template'!D272,0)","v":0},"Error",null,null,null,null,null,null,null,null,null,null,{"$f":"IF(OR(LEFT('Web Links'!$C258,2)=\"In\",$C258=\"Error\"),\"?????\",\"\"&C258)","v":"?????"},{"$f":"IF(OR(LEFT('Web Links'!$C258,2)=\"In\",$C258=\"Error\"),\"??????????\",\"\"&D258)","v":"??????????"},{"$f":"IF(OR(LEFT('Web Links'!$C258,2)=\"In\",$C258=\"Error\"),\"???\",IF(LEN(E258)=2,\"0\",IF(LEN(E258)=1,\"00\",\"\")))&'Web Links'!E258","v":"???"},{"$f":"IF(OR(LEFT('Web Links'!$C258,2)=\"In\",$C258=\"Error\"),\"?????\",IF(LEN(G258)=4,\"\",IF(LEN(G258)=3,\"\",IF(LEN(G258)=2,\"\",IF(LEN(G258)=1,\"\",\"\"))))&'Web Links'!G258)","v":"?????"},{"$f":"IF(OR(LEFT('Web Links'!$C258,2)=\"In\",$C258=\"Error\"),\"???????????????\",\"\"&F258)","v":"???????????????"}]
[{"$f":"IF('GL Template'!B273<>\"\",'GL Template'!B273,0)","v":0},{"$f":"IF('GL Template'!D273<>\"\",'GL Template'!D273,0)","v":0},"Error",null,null,null,null,null,null,null,null,null,null,{"$f":"IF(OR(LEFT('Web Links'!$C259,2)=\"In\",$C259=\"Error\"),\"?????\",\"\"&C259)","v":"?????"},{"$f":"IF(OR(LEFT('Web Links'!$C259,2)=\"In\",$C259=\"Error\"),\"??????????\",\"\"&D259)","v":"??????????"},{"$f":"IF(OR(LEFT('Web Links'!$C259,2)=\"In\",$C259=\"Error\"),\"???\",IF(LEN(E259)=2,\"0\",IF(LEN(E259)=1,\"00\",\"\")))&'Web Links'!E259","v":"???"},{"$f":"IF(OR(LEFT('Web Links'!$C259,2)=\"In\",$C259=\"Error\"),\"?????\",IF(LEN(G259)=4,\"\",IF(LEN(G259)=3,\"\",IF(LEN(G259)=2,\"\",IF(LEN(G259)=1,\"\",\"\"))))&'Web Links'!G259)","v":"?????"},{"$f":"IF(OR(LEFT('Web Links'!$C259,2)=\"In\",$C259=\"Error\"),\"???????????????\",\"\"&F259)","v":"???????????????"}]
[{"$f":"IF('GL Template'!B274<>\"\",'GL Template'!B274,0)","v":0},{"$f":"IF('GL Template'!D274<>\"\",'GL Template'!D274,0)","v":0},"Error",null,null,null,null,null,null,null,null,null,null,{"$f":"IF(OR(LEFT('Web Links'!$C260,2)=\"In\",$C260=\"Error\"),\"?????\",\"\"&C260)","v":"?????"},{"$f":"IF(OR(LEFT('Web Links'!$C260,2)=\"In\",$C260=\"Error\"),\"??????????\",\"\"&D260)","v":"??????????"},{"$f":"IF(OR(LEFT('Web Links'!$C260,2)=\"In\",$C260=\"Error\"),\"???\",IF(LEN(E260)=2,\"0\",IF(LEN(E260)=1,\"00\",\"\")))&'Web Links'!E260","v":"???"},{"$f":"IF(OR(LEFT('Web Links'!$C260,2)=\"In\",$C260=\"Error\"),\"?????\",IF(LEN(G260)=4,\"\",IF(LEN(G260)=3,\"\",IF(LEN(G260)=2,\"\",IF(LEN(G260)=1,\"\",\"\"))))&'Web Links'!G260)","v":"?????"},{"$f":"IF(OR(LEFT('Web Links'!$C260,2)=\"In\",$C260=\"Error\"),\"???????????????\",\"\"&F260)","v":"???????????????"}]
[{"$f":"IF('GL Template'!B275<>\"\",'GL Template'!B275,0)","v":0},{"$f":"IF('GL Template'!D275<>\"\",'GL Template'!D275,0)","v":0},"Error",null,null,null,null,null,null,null,null,null,null,{"$f":"IF(OR(LEFT('Web Links'!$C261,2)=\"In\",$C261=\"Error\"),\"?????\",\"\"&C261)","v":"?????"},{"$f":"IF(OR(LEFT('Web Links'!$C261,2)=\"In\",$C261=\"Error\"),\"??????????\",\"\"&D261)","v":"??????????"},{"$f":"IF(OR(LEFT('Web Links'!$C261,2)=\"In\",$C261=\"Error\"),\"???\",IF(LEN(E261)=2,\"0\",IF(LEN(E261)=1,\"00\",\"\")))&'Web Links'!E261","v":"???"},{"$f":"IF(OR(LEFT('Web Links'!$C261,2)=\"In\",$C261=\"Error\"),\"?????\",IF(LEN(G261)=4,\"\",IF(LEN(G261)=3,\"\",IF(LEN(G261)=2,\"\",IF(LEN(G261)=1,\"\",\"\"))))&'Web Links'!G261)","v":"?????"},{"$f":"IF(OR(LEFT('Web Links'!$C261,2)=\"In\",$C261=\"Error\"),\"???????????????\",\"\"&F261)","v":"???????????????"}]
[{"$f":"IF('GL Template'!B276<>\"\",'GL Template'!B276,0)","v":0},{"$f":"IF('GL Template'!D276<>\"\",'GL Template'!D276,0)","v":0},"Error",null,null,null,null,null,null,null,null,null,null,{"$f":"IF(OR(LEFT('Web Links'!$C262,2)=\"In\",$C262=\"Error\"),\"?????\",\"\"&C262)","v":"?????"},{"$f":"IF(OR(LEFT('Web Links'!$C262,2)=\"In\",$C262=\"Error\"),\"??????????\",\"\"&D262)","v":"??????????"},{"$f":"IF(OR(LEFT('Web Links'!$C262,2)=\"In\",$C262=\"Error\"),\"???\",IF(LEN(E262)=2,\"0\",IF(LEN(E262)=1,\"00\",\"\")))&'Web Links'!E262","v":"???"},{"$f":"IF(OR(LEFT('Web Links'!$C262,2)=\"In\",$C262=\"Error\"),\"?????\",IF(LEN(G262)=4,\"\",IF(LEN(G262)=3,\"\",IF(LEN(G262)=2,\"\",IF(LEN(G262)=1,\"\",\"\"))))&'Web Links'!G262)","v":"?????"},{"$f":"IF(OR(LEFT('Web Links'!$C262,2)=\"In\",$C262=\"Error\"),\"???????????????\",\"\"&F262)","v":"???????????????"}]
[{"$f":"IF('GL Template'!B277<>\"\",'GL Template'!B277,0)","v":0},{"$f":"IF('GL Template'!D277<>\"\",'GL Template'!D277,0)","v":0},"Error",null,null,null,null,null,null,null,null,null,null,{"$f":"IF(OR(LEFT('Web Links'!$C263,2)=\"In\",$C263=\"Error\"),\"?????\",\"\"&C263)","v":"?????"},{"$f":"IF(OR(LEFT('Web Links'!$C263,2)=\"In\",$C263=\"Error\"),\"??????????\",\"\"&D263)","v":"??????????"},{"$f":"IF(OR(LEFT('Web Links'!$C263,2)=\"In\",$C263=\"Error\"),\"???\",IF(LEN(E263)=2,\"0\",IF(LEN(E263)=1,\"00\",\"\")))&'Web Links'!E263","v":"???"},{"$f":"IF(OR(LEFT('Web Links'!$C263,2)=\"In\",$C263=\"Error\"),\"?????\",IF(LEN(G263)=4,\"\",IF(LEN(G263)=3,\"\",IF(LEN(G263)=2,\"\",IF(LEN(G263)=1,\"\",\"\"))))&'Web Links'!G263)","v":"?????"},{"$f":"IF(OR(LEFT('Web Links'!$C263,2)=\"In\",$C263=\"Error\"),\"???????????????\",\"\"&F263)","v":"???????????????"}]
[{"$f":"IF('GL Template'!B278<>\"\",'GL Template'!B278,0)","v":0},{"$f":"IF('GL Template'!D278<>\"\",'GL Template'!D278,0)","v":0},"Error",null,null,null,null,null,null,null,null,null,null,{"$f":"IF(OR(LEFT('Web Links'!$C264,2)=\"In\",$C264=\"Error\"),\"?????\",\"\"&C264)","v":"?????"},{"$f":"IF(OR(LEFT('Web Links'!$C264,2)=\"In\",$C264=\"Error\"),\"??????????\",\"\"&D264)","v":"??????????"},{"$f":"IF(OR(LEFT('Web Links'!$C264,2)=\"In\",$C264=\"Error\"),\"???\",IF(LEN(E264)=2,\"0\",IF(LEN(E264)=1,\"00\",\"\")))&'Web Links'!E264","v":"???"},{"$f":"IF(OR(LEFT('Web Links'!$C264,2)=\"In\",$C264=\"Error\"),\"?????\",IF(LEN(G264)=4,\"\",IF(LEN(G264)=3,\"\",IF(LEN(G264)=2,\"\",IF(LEN(G264)=1,\"\",\"\"))))&'Web Links'!G264)","v":"?????"},{"$f":"IF(OR(LEFT('Web Links'!$C264,2)=\"In\",$C264=\"Error\"),\"???????????????\",\"\"&F264)","v":"???????????????"}]
[{"$f":"IF('GL Template'!B279<>\"\",'GL Template'!B279,0)","v":0},{"$f":"IF('GL Template'!D279<>\"\",'GL Template'!D279,0)","v":0},"Error",null,null,null,null,null,null,null,null,null,null,{"$f":"IF(OR(LEFT('Web Links'!$C265,2)=\"In\",$C265=\"Error\"),\"?????\",\"\"&C265)","v":"?????"},{"$f":"IF(OR(LEFT('Web Links'!$C265,2)=\"In\",$C265=\"Error\"),\"??????????\",\"\"&D265)","v":"??????????"},{"$f":"IF(OR(LEFT('Web Links'!$C265,2)=\"In\",$C265=\"Error\"),\"???\",IF(LEN(E265)=2,\"0\",IF(LEN(E265)=1,\"00\",\"\")))&'Web Links'!E265","v":"???"},{"$f":"IF(OR(LEFT('Web Links'!$C265,2)=\"In\",$C265=\"Error\"),\"?????\",IF(LEN(G265)=4,\"\",IF(LEN(G265)=3,\"\",IF(LEN(G265)=2,\"\",IF(LEN(G265)=1,\"\",\"\"))))&'Web Links'!G265)","v":"?????"},{"$f":"IF(OR(LEFT('Web Links'!$C265,2)=\"In\",$C265=\"Error\"),\"???????????????\",\"\"&F265)","v":"???????????????"}]
[{"$f":"IF('GL Template'!B280<>\"\",'GL Template'!B280,0)","v":0},{"$f":"IF('GL Template'!D280<>\"\",'GL Template'!D280,0)","v":0},"Error",null,null,null,null,null,null,null,null,null,null,{"$f":"IF(OR(LEFT('Web Links'!$C266,2)=\"In\",$C266=\"Error\"),\"?????\",\"\"&C266)","v":"?????"},{"$f":"IF(OR(LEFT('Web Links'!$C266,2)=\"In\",$C266=\"Error\"),\"??????????\",\"\"&D266)","v":"??????????"},{"$f":"IF(OR(LEFT('Web Links'!$C266,2)=\"In\",$C266=\"Error\"),\"???\",IF(LEN(E266)=2,\"0\",IF(LEN(E266)=1,\"00\",\"\")))&'Web Links'!E266","v":"???"},{"$f":"IF(OR(LEFT('Web Links'!$C266,2)=\"In\",$C266=\"Error\"),\"?????\",IF(LEN(G266)=4,\"\",IF(LEN(G266)=3,\"\",IF(LEN(G266)=2,\"\",IF(LEN(G266)=1,\"\",\"\"))))&'Web Links'!G266)","v":"?????"},{"$f":"IF(OR(LEFT('Web Links'!$C266,2)=\"In\",$C266=\"Error\"),\"???????????????\",\"\"&F266)","v":"???????????????"}]
[{"$f":"IF('GL Template'!B281<>\"\",'GL Template'!B281,0)","v":0},{"$f":"IF('GL Template'!D281<>\"\",'GL Template'!D281,0)","v":0},"Error",null,null,null,null,null,null,null,null,null,null,{"$f":"IF(OR(LEFT('Web Links'!$C267,2)=\"In\",$C267=\"Error\"),\"?????\",\"\"&C267)","v":"?????"},{"$f":"IF(OR(LEFT('Web Links'!$C267,2)=\"In\",$C267=\"Error\"),\"??????????\",\"\"&D267)","v":"??????????"},{"$f":"IF(OR(LEFT('Web Links'!$C267,2)=\"In\",$C267=\"Error\"),\"???\",IF(LEN(E267)=2,\"0\",IF(LEN(E267)=1,\"00\",\"\")))&'Web Links'!E267","v":"???"},{"$f":"IF(OR(LEFT('Web Links'!$C267,2)=\"In\",$C267=\"Error\"),\"?????\",IF(LEN(G267)=4,\"\",IF(LEN(G267)=3,\"\",IF(LEN(G267)=2,\"\",IF(LEN(G267)=1,\"\",\"\"))))&'Web Links'!G267)","v":"?????"},{"$f":"IF(OR(LEFT('Web Links'!$C267,2)=\"In\",$C267=\"Error\"),\"???????????????\",\"\"&F267)","v":"???????????????"}]
[{"$f":"IF('GL Template'!B282<>\"\",'GL Template'!B282,0)","v":0},{"$f":"IF('GL Template'!D282<>\"\",'GL Template'!D282,0)","v":0},"Error",null,null,null,null,null,null,null,null,null,null,{"$f":"IF(OR(LEFT('Web Links'!$C268,2)=\"In\",$C268=\"Error\"),\"?????\",\"\"&C268)","v":"?????"},{"$f":"IF(OR(LEFT('Web Links'!$C268,2)=\"In\",$C268=\"Error\"),\"??????????\",\"\"&D268)","v":"??????????"},{"$f":"IF(OR(LEFT('Web Links'!$C268,2)=\"In\",$C268=\"Error\"),\"???\",IF(LEN(E268)=2,\"0\",IF(LEN(E268)=1,\"00\",\"\")))&'Web Links'!E268","v":"???"},{"$f":"IF(OR(LEFT('Web Links'!$C268,2)=\"In\",$C268=\"Error\"),\"?????\",IF(LEN(G268)=4,\"\",IF(LEN(G268)=3,\"\",IF(LEN(G268)=2,\"\",IF(LEN(G268)=1,\"\",\"\"))))&'Web Links'!G268)","v":"?????"},{"$f":"IF(OR(LEFT('Web Links'!$C268,2)=\"In\",$C268=\"Error\"),\"???????????????\",\"\"&F268)","v":"???????????????"}]
[{"$f":"IF('GL Template'!B283<>\"\",'GL Template'!B283,0)","v":0},{"$f":"IF('GL Template'!D283<>\"\",'GL Template'!D283,0)","v":0},"Error",null,null,null,null,null,null,null,null,null,null,{"$f":"IF(OR(LEFT('Web Links'!$C269,2)=\"In\",$C269=\"Error\"),\"?????\",\"\"&C269)","v":"?????"},{"$f":"IF(OR(LEFT('Web Links'!$C269,2)=\"In\",$C269=\"Error\"),\"??????????\",\"\"&D269)","v":"??????????"},{"$f":"IF(OR(LEFT('Web Links'!$C269,2)=\"In\",$C269=\"Error\"),\"???\",IF(LEN(E269)=2,\"0\",IF(LEN(E269)=1,\"00\",\"\")))&'Web Links'!E269","v":"???"},{"$f":"IF(OR(LEFT('Web Links'!$C269,2)=\"In\",$C269=\"Error\"),\"?????\",IF(LEN(G269)=4,\"\",IF(LEN(G269)=3,\"\",IF(LEN(G269)=2,\"\",IF(LEN(G269)=1,\"\",\"\"))))&'Web Links'!G269)","v":"?????"},{"$f":"IF(OR(LEFT('Web Links'!$C269,2)=\"In\",$C269=\"Error\"),\"???????????????\",\"\"&F269)","v":"???????????????"}]
[{"$f":"IF('GL Template'!B284<>\"\",'GL Template'!B284,0)","v":0},{"$f":"IF('GL Template'!D284<>\"\",'GL Template'!D284,0)","v":0},"Error",null,null,null,null,null,null,null,null,null,null,{"$f":"IF(OR(LEFT('Web Links'!$C270,2)=\"In\",$C270=\"Error\"),\"?????\",\"\"&C270)","v":"?????"},{"$f":"IF(OR(LEFT('Web Links'!$C270,2)=\"In\",$C270=\"Error\"),\"??????????\",\"\"&D270)","v":"??????????"},{"$f":"IF(OR(LEFT('Web Links'!$C270,2)=\"In\",$C270=\"Error\"),\"???\",IF(LEN(E270)=2,\"0\",IF(LEN(E270)=1,\"00\",\"\")))&'Web Links'!E270","v":"???"},{"$f":"IF(OR(LEFT('Web Links'!$C270,2)=\"In\",$C270=\"Error\"),\"?????\",IF(LEN(G270)=4,\"\",IF(LEN(G270)=3,\"\",IF(LEN(G270)=2,\"\",IF(LEN(G270)=1,\"\",\"\"))))&'Web Links'!G270)","v":"?????"},{"$f":"IF(OR(LEFT('Web Links'!$C270,2)=\"In\",$C270=\"Error\"),\"???????????????\",\"\"&F270)","v":"???????????????"}]
[{"$f":"IF('GL Template'!B285<>\"\",'GL Template'!B285,0)","v":0},{"$f":"IF('GL Template'!D285<>\"\",'GL Template'!D285,0)","v":0},"Error",null,null,null,null,null,null,null,null,null,null,{"$f":"IF(OR(LEFT('Web Links'!$C271,2)=\"In\",$C271=\"Error\"),\"?????\",\"\"&C271)","v":"?????"},{"$f":"IF(OR(LEFT('Web Links'!$C271,2)=\"In\",$C271=\"Error\"),\"??????????\",\"\"&D271)","v":"??????????"},{"$f":"IF(OR(LEFT('Web Links'!$C271,2)=\"In\",$C271=\"Error\"),\"???\",IF(LEN(E271)=2,\"0\",IF(LEN(E271)=1,\"00\",\"\")))&'Web Links'!E271","v":"???"},{"$f":"IF(OR(LEFT('Web Links'!$C271,2)=\"In\",$C271=\"Error\"),\"?????\",IF(LEN(G271)=4,\"\",IF(LEN(G271)=3,\"\",IF(LEN(G271)=2,\"\",IF(LEN(G271)=1,\"\",\"\"))))&'Web Links'!G271)","v":"?????"},{"$f":"IF(OR(LEFT('Web Links'!$C271,2)=\"In\",$C271=\"Error\"),\"???????????????\",\"\"&F271)","v":"???????????????"}]
[{"$f":"IF('GL Template'!B286<>\"\",'GL Template'!B286,0)","v":0},{"$f":"IF('GL Template'!D286<>\"\",'GL Template'!D286,0)","v":0},"Error",null,null,null,null,null,null,null,null,null,null,{"$f":"IF(OR(LEFT('Web Links'!$C272,2)=\"In\",$C272=\"Error\"),\"?????\",\"\"&C272)","v":"?????"},{"$f":"IF(OR(LEFT('Web Links'!$C272,2)=\"In\",$C272=\"Error\"),\"??????????\",\"\"&D272)","v":"??????????"},{"$f":"IF(OR(LEFT('Web Links'!$C272,2)=\"In\",$C272=\"Error\"),\"???\",IF(LEN(E272)=2,\"0\",IF(LEN(E272)=1,\"00\",\"\")))&'Web Links'!E272","v":"???"},{"$f":"IF(OR(LEFT('Web Links'!$C272,2)=\"In\",$C272=\"Error\"),\"?????\",IF(LEN(G272)=4,\"\",IF(LEN(G272)=3,\"\",IF(LEN(G272)=2,\"\",IF(LEN(G272)=1,\"\",\"\"))))&'Web Links'!G272)","v":"?????"},{"$f":"IF(OR(LEFT('Web Links'!$C272,2)=\"In\",$C272=\"Error\"),\"???????????????\",\"\"&F272)","v":"???????????????"}]
[{"$f":"IF('GL Template'!B287<>\"\",'GL Template'!B287,0)","v":0},{"$f":"IF('GL Template'!D287<>\"\",'GL Template'!D287,0)","v":0},"Error",null,null,null,null,null,null,null,null,null,null,{"$f":"IF(OR(LEFT('Web Links'!$C273,2)=\"In\",$C273=\"Error\"),\"?????\",\"\"&C273)","v":"?????"},{"$f":"IF(OR(LEFT('Web Links'!$C273,2)=\"In\",$C273=\"Error\"),\"??????????\",\"\"&D273)","v":"??????????"},{"$f":"IF(OR(LEFT('Web Links'!$C273,2)=\"In\",$C273=\"Error\"),\"???\",IF(LEN(E273)=2,\"0\",IF(LEN(E273)=1,\"00\",\"\")))&'Web Links'!E273","v":"???"},{"$f":"IF(OR(LEFT('Web Links'!$C273,2)=\"In\",$C273=\"Error\"),\"?????\",IF(LEN(G273)=4,\"\",IF(LEN(G273)=3,\"\",IF(LEN(G273)=2,\"\",IF(LEN(G273)=1,\"\",\"\"))))&'Web Links'!G273)","v":"?????"},{"$f":"IF(OR(LEFT('Web Links'!$C273,2)=\"In\",$C273=\"Error\"),\"???????????????\",\"\"&F273)","v":"???????????????"}]
[{"$f":"IF('GL Template'!B288<>\"\",'GL Template'!B288,0)","v":0},{"$f":"IF('GL Template'!D288<>\"\",'GL Template'!D288,0)","v":0},"Error",null,null,null,null,null,null,null,null,null,null,{"$f":"IF(OR(LEFT('Web Links'!$C274,2)=\"In\",$C274=\"Error\"),\"?????\",\"\"&C274)","v":"?????"},{"$f":"IF(OR(LEFT('Web Links'!$C274,2)=\"In\",$C274=\"Error\"),\"??????????\",\"\"&D274)","v":"??????????"},{"$f":"IF(OR(LEFT('Web Links'!$C274,2)=\"In\",$C274=\"Error\"),\"???\",IF(LEN(E274)=2,\"0\",IF(LEN(E274)=1,\"00\",\"\")))&'Web Links'!E274","v":"???"},{"$f":"IF(OR(LEFT('Web Links'!$C274,2)=\"In\",$C274=\"Error\"),\"?????\",IF(LEN(G274)=4,\"\",IF(LEN(G274)=3,\"\",IF(LEN(G274)=2,\"\",IF(LEN(G274)=1,\"\",\"\"))))&'Web Links'!G274)","v":"?????"},{"$f":"IF(OR(LEFT('Web Links'!$C274,2)=\"In\",$C274=\"Error\"),\"???????????????\",\"\"&F274)","v":"???????????????"}]
[{"$f":"IF('GL Template'!B289<>\"\",'GL Template'!B289,0)","v":0},{"$f":"IF('GL Template'!D289<>\"\",'GL Template'!D289,0)","v":0},"Error",null,null,null,null,null,null,null,null,null,null,{"$f":"IF(OR(LEFT('Web Links'!$C275,2)=\"In\",$C275=\"Error\"),\"?????\",\"\"&C275)","v":"?????"},{"$f":"IF(OR(LEFT('Web Links'!$C275,2)=\"In\",$C275=\"Error\"),\"??????????\",\"\"&D275)","v":"??????????"},{"$f":"IF(OR(LEFT('Web Links'!$C275,2)=\"In\",$C275=\"Error\"),\"???\",IF(LEN(E275)=2,\"0\",IF(LEN(E275)=1,\"00\",\"\")))&'Web Links'!E275","v":"???"},{"$f":"IF(OR(LEFT('Web Links'!$C275,2)=\"In\",$C275=\"Error\"),\"?????\",IF(LEN(G275)=4,\"\",IF(LEN(G275)=3,\"\",IF(LEN(G275)=2,\"\",IF(LEN(G275)=1,\"\",\"\"))))&'Web Links'!G275)","v":"?????"},{"$f":"IF(OR(LEFT('Web Links'!$C275,2)=\"In\",$C275=\"Error\"),\"???????????????\",\"\"&F275)","v":"???????????????"}]
[{"$f":"IF('GL Template'!B290<>\"\",'GL Template'!B290,0)","v":0},{"$f":"IF('GL Template'!D290<>\"\",'GL Template'!D290,0)","v":0},"Error",null,null,null,null,null,null,null,null,null,null,{"$f":"IF(OR(LEFT('Web Links'!$C276,2)=\"In\",$C276=\"Error\"),\"?????\",\"\"&C276)","v":"?????"},{"$f":"IF(OR(LEFT('Web Links'!$C276,2)=\"In\",$C276=\"Error\"),\"??????????\",\"\"&D276)","v":"??????????"},{"$f":"IF(OR(LEFT('Web Links'!$C276,2)=\"In\",$C276=\"Error\"),\"???\",IF(LEN(E276)=2,\"0\",IF(LEN(E276)=1,\"00\",\"\")))&'Web Links'!E276","v":"???"},{"$f":"IF(OR(LEFT('Web Links'!$C276,2)=\"In\",$C276=\"Error\"),\"?????\",IF(LEN(G276)=4,\"\",IF(LEN(G276)=3,\"\",IF(LEN(G276)=2,\"\",IF(LEN(G276)=1,\"\",\"\"))))&'Web Links'!G276)","v":"?????"},{"$f":"IF(OR(LEFT('Web Links'!$C276,2)=\"In\",$C276=\"Error\"),\"???????????????\",\"\"&F276)","v":"???????????????"}]
[{"$f":"IF('GL Template'!B291<>\"\",'GL Template'!B291,0)","v":0},{"$f":"IF('GL Template'!D291<>\"\",'GL Template'!D291,0)","v":0},"Error",null,null,null,null,null,null,null,null,null,null,{"$f":"IF(OR(LEFT('Web Links'!$C277,2)=\"In\",$C277=\"Error\"),\"?????\",\"\"&C277)","v":"?????"},{"$f":"IF(OR(LEFT('Web Links'!$C277,2)=\"In\",$C277=\"Error\"),\"??????????\",\"\"&D277)","v":"??????????"},{"$f":"IF(OR(LEFT('Web Links'!$C277,2)=\"In\",$C277=\"Error\"),\"???\",IF(LEN(E277)=2,\"0\",IF(LEN(E277)=1,\"00\",\"\")))&'Web Links'!E277","v":"???"},{"$f":"IF(OR(LEFT('Web Links'!$C277,2)=\"In\",$C277=\"Error\"),\"?????\",IF(LEN(G277)=4,\"\",IF(LEN(G277)=3,\"\",IF(LEN(G277)=2,\"\",IF(LEN(G277)=1,\"\",\"\"))))&'Web Links'!G277)","v":"?????"},{"$f":"IF(OR(LEFT('Web Links'!$C277,2)=\"In\",$C277=\"Error\"),\"???????????????\",\"\"&F277)","v":"???????????????"}]
[{"$f":"IF('GL Template'!B292<>\"\",'GL Template'!B292,0)","v":0},{"$f":"IF('GL Template'!D292<>\"\",'GL Template'!D292,0)","v":0},"Error",null,null,null,null,null,null,null,null,null,null,{"$f":"IF(OR(LEFT('Web Links'!$C278,2)=\"In\",$C278=\"Error\"),\"?????\",\"\"&C278)","v":"?????"},{"$f":"IF(OR(LEFT('Web Links'!$C278,2)=\"In\",$C278=\"Error\"),\"??????????\",\"\"&D278)","v":"??????????"},{"$f":"IF(OR(LEFT('Web Links'!$C278,2)=\"In\",$C278=\"Error\"),\"???\",IF(LEN(E278)=2,\"0\",IF(LEN(E278)=1,\"00\",\"\")))&'Web Links'!E278","v":"???"},{"$f":"IF(OR(LEFT('Web Links'!$C278,2)=\"In\",$C278=\"Error\"),\"?????\",IF(LEN(G278)=4,\"\",IF(LEN(G278)=3,\"\",IF(LEN(G278)=2,\"\",IF(LEN(G278)=1,\"\",\"\"))))&'Web Links'!G278)","v":"?????"},{"$f":"IF(OR(LEFT('Web Links'!$C278,2)=\"In\",$C278=\"Error\"),\"???????????????\",\"\"&F278)","v":"???????????????"}]
[{"$f":"IF('GL Template'!B293<>\"\",'GL Template'!B293,0)","v":0},{"$f":"IF('GL Template'!D293<>\"\",'GL Template'!D293,0)","v":0},"Error",null,null,null,null,null,null,null,null,null,null,{"$f":"IF(OR(LEFT('Web Links'!$C279,2)=\"In\",$C279=\"Error\"),\"?????\",\"\"&C279)","v":"?????"},{"$f":"IF(OR(LEFT('Web Links'!$C279,2)=\"In\",$C279=\"Error\"),\"??????????\",\"\"&D279)","v":"??????????"},{"$f":"IF(OR(LEFT('Web Links'!$C279,2)=\"In\",$C279=\"Error\"),\"???\",IF(LEN(E279)=2,\"0\",IF(LEN(E279)=1,\"00\",\"\")))&'Web Links'!E279","v":"???"},{"$f":"IF(OR(LEFT('Web Links'!$C279,2)=\"In\",$C279=\"Error\"),\"?????\",IF(LEN(G279)=4,\"\",IF(LEN(G279)=3,\"\",IF(LEN(G279)=2,\"\",IF(LEN(G279)=1,\"\",\"\"))))&'Web Links'!G279)","v":"?????"},{"$f":"IF(OR(LEFT('Web Links'!$C279,2)=\"In\",$C279=\"Error\"),\"???????????????\",\"\"&F279)","v":"???????????????"}]
[{"$f":"IF('GL Template'!B294<>\"\",'GL Template'!B294,0)","v":0},{"$f":"IF('GL Template'!D294<>\"\",'GL Template'!D294,0)","v":0},"Error",null,null,null,null,null,null,null,null,null,null,{"$f":"IF(OR(LEFT('Web Links'!$C280,2)=\"In\",$C280=\"Error\"),\"?????\",\"\"&C280)","v":"?????"},{"$f":"IF(OR(LEFT('Web Links'!$C280,2)=\"In\",$C280=\"Error\"),\"??????????\",\"\"&D280)","v":"??????????"},{"$f":"IF(OR(LEFT('Web Links'!$C280,2)=\"In\",$C280=\"Error\"),\"???\",IF(LEN(E280)=2,\"0\",IF(LEN(E280)=1,\"00\",\"\")))&'Web Links'!E280","v":"???"},{"$f":"IF(OR(LEFT('Web Links'!$C280,2)=\"In\",$C280=\"Error\"),\"?????\",IF(LEN(G280)=4,\"\",IF(LEN(G280)=3,\"\",IF(LEN(G280)=2,\"\",IF(LEN(G280)=1,\"\",\"\"))))&'Web Links'!G280)","v":"?????"},{"$f":"IF(OR(LEFT('Web Links'!$C280,2)=\"In\",$C280=\"Error\"),\"???????????????\",\"\"&F280)","v":"???????????????"}]
[{"$f":"IF('GL Template'!B295<>\"\",'GL Template'!B295,0)","v":0},{"$f":"IF('GL Template'!D295<>\"\",'GL Template'!D295,0)","v":0},"Error",null,null,null,null,null,null,null,null,null,null,{"$f":"IF(OR(LEFT('Web Links'!$C281,2)=\"In\",$C281=\"Error\"),\"?????\",\"\"&C281)","v":"?????"},{"$f":"IF(OR(LEFT('Web Links'!$C281,2)=\"In\",$C281=\"Error\"),\"??????????\",\"\"&D281)","v":"??????????"},{"$f":"IF(OR(LEFT('Web Links'!$C281,2)=\"In\",$C281=\"Error\"),\"???\",IF(LEN(E281)=2,\"0\",IF(LEN(E281)=1,\"00\",\"\")))&'Web Links'!E281","v":"???"},{"$f":"IF(OR(LEFT('Web Links'!$C281,2)=\"In\",$C281=\"Error\"),\"?????\",IF(LEN(G281)=4,\"\",IF(LEN(G281)=3,\"\",IF(LEN(G281)=2,\"\",IF(LEN(G281)=1,\"\",\"\"))))&'Web Links'!G281)","v":"?????"},{"$f":"IF(OR(LEFT('Web Links'!$C281,2)=\"In\",$C281=\"Error\"),\"???????????????\",\"\"&F281)","v":"???????????????"}]
[{"$f":"IF('GL Template'!B296<>\"\",'GL Template'!B296,0)","v":0},{"$f":"IF('GL Template'!D296<>\"\",'GL Template'!D296,0)","v":0},"Error",null,null,null,null,null,null,null,null,null,null,{"$f":"IF(OR(LEFT('Web Links'!$C282,2)=\"In\",$C282=\"Error\"),\"?????\",\"\"&C282)","v":"?????"},{"$f":"IF(OR(LEFT('Web Links'!$C282,2)=\"In\",$C282=\"Error\"),\"??????????\",\"\"&D282)","v":"??????????"},{"$f":"IF(OR(LEFT('Web Links'!$C282,2)=\"In\",$C282=\"Error\"),\"???\",IF(LEN(E282)=2,\"0\",IF(LEN(E282)=1,\"00\",\"\")))&'Web Links'!E282","v":"???"},{"$f":"IF(OR(LEFT('Web Links'!$C282,2)=\"In\",$C282=\"Error\"),\"?????\",IF(LEN(G282)=4,\"\",IF(LEN(G282)=3,\"\",IF(LEN(G282)=2,\"\",IF(LEN(G282)=1,\"\",\"\"))))&'Web Links'!G282)","v":"?????"},{"$f":"IF(OR(LEFT('Web Links'!$C282,2)=\"In\",$C282=\"Error\"),\"???????????????\",\"\"&F282)","v":"???????????????"}]
[{"$f":"IF('GL Template'!B297<>\"\",'GL Template'!B297,0)","v":0},{"$f":"IF('GL Template'!D297<>\"\",'GL Template'!D297,0)","v":0},"Error",null,null,null,null,null,null,null,null,null,null,{"$f":"IF(OR(LEFT('Web Links'!$C283,2)=\"In\",$C283=\"Error\"),\"?????\",\"\"&C283)","v":"?????"},{"$f":"IF(OR(LEFT('Web Links'!$C283,2)=\"In\",$C283=\"Error\"),\"??????????\",\"\"&D283)","v":"??????????"},{"$f":"IF(OR(LEFT('Web Links'!$C283,2)=\"In\",$C283=\"Error\"),\"???\",IF(LEN(E283)=2,\"0\",IF(LEN(E283)=1,\"00\",\"\")))&'Web Links'!E283","v":"???"},{"$f":"IF(OR(LEFT('Web Links'!$C283,2)=\"In\",$C283=\"Error\"),\"?????\",IF(LEN(G283)=4,\"\",IF(LEN(G283)=3,\"\",IF(LEN(G283)=2,\"\",IF(LEN(G283)=1,\"\",\"\"))))&'Web Links'!G283)","v":"?????"},{"$f":"IF(OR(LEFT('Web Links'!$C283,2)=\"In\",$C283=\"Error\"),\"???????????????\",\"\"&F283)","v":"???????????????"}]
[{"$f":"IF('GL Template'!B298<>\"\",'GL Template'!B298,0)","v":0},{"$f":"IF('GL Template'!D298<>\"\",'GL Template'!D298,0)","v":0},"Error",null,null,null,null,null,null,null,null,null,null,{"$f":"IF(OR(LEFT('Web Links'!$C284,2)=\"In\",$C284=\"Error\"),\"?????\",\"\"&C284)","v":"?????"},{"$f":"IF(OR(LEFT('Web Links'!$C284,2)=\"In\",$C284=\"Error\"),\"??????????\",\"\"&D284)","v":"??????????"},{"$f":"IF(OR(LEFT('Web Links'!$C284,2)=\"In\",$C284=\"Error\"),\"???\",IF(LEN(E284)=2,\"0\",IF(LEN(E284)=1,\"00\",\"\")))&'Web Links'!E284","v":"???"},{"$f":"IF(OR(LEFT('Web Links'!$C284,2)=\"In\",$C284=\"Error\"),\"?????\",IF(LEN(G284)=4,\"\",IF(LEN(G284)=3,\"\",IF(LEN(G284)=2,\"\",IF(LEN(G284)=1,\"\",\"\"))))&'Web Links'!G284)","v":"?????"},{"$f":"IF(OR(LEFT('Web Links'!$C284,2)=\"In\",$C284=\"Error\"),\"???????????????\",\"\"&F284)","v":"???????????????"}]
[{"$f":"IF('GL Template'!B299<>\"\",'GL Template'!B299,0)","v":0},{"$f":"IF('GL Template'!D299<>\"\",'GL Template'!D299,0)","v":0},"Error",null,null,null,null,null,null,null,null,null,null,{"$f":"IF(OR(LEFT('Web Links'!$C285,2)=\"In\",$C285=\"Error\"),\"?????\",\"\"&C285)","v":"?????"},{"$f":"IF(OR(LEFT('Web Links'!$C285,2)=\"In\",$C285=\"Error\"),\"??????????\",\"\"&D285)","v":"??????????"},{"$f":"IF(OR(LEFT('Web Links'!$C285,2)=\"In\",$C285=\"Error\"),\"???\",IF(LEN(E285)=2,\"0\",IF(LEN(E285)=1,\"00\",\"\")))&'Web Links'!E285","v":"???"},{"$f":"IF(OR(LEFT('Web Links'!$C285,2)=\"In\",$C285=\"Error\"),\"?????\",IF(LEN(G285)=4,\"\",IF(LEN(G285)=3,\"\",IF(LEN(G285)=2,\"\",IF(LEN(G285)=1,\"\",\"\"))))&'Web Links'!G285)","v":"?????"},{"$f":"IF(OR(LEFT('Web Links'!$C285,2)=\"In\",$C285=\"Error\"),\"???????????????\",\"\"&F285)","v":"???????????????"}]
[{"$f":"IF('GL Template'!B300<>\"\",'GL Template'!B300,0)","v":0},{"$f":"IF('GL Template'!D300<>\"\",'GL Template'!D300,0)","v":0},"Error",null,null,null,null,null,null,null,null,null,null,{"$f":"IF(OR(LEFT('Web Links'!$C286,2)=\"In\",$C286=\"Error\"),\"?????\",\"\"&C286)","v":"?????"},{"$f":"IF(OR(LEFT('Web Links'!$C286,2)=\"In\",$C286=\"Error\"),\"??????????\",\"\"&D286)","v":"??????????"},{"$f":"IF(OR(LEFT('Web Links'!$C286,2)=\"In\",$C286=\"Error\"),\"???\",IF(LEN(E286)=2,\"0\",IF(LEN(E286)=1,\"00\",\"\")))&'Web Links'!E286","v":"???"},{"$f":"IF(OR(LEFT('Web Links'!$C286,2)=\"In\",$C286=\"Error\"),\"?????\",IF(LEN(G286)=4,\"\",IF(LEN(G286)=3,\"\",IF(LEN(G286)=2,\"\",IF(LEN(G286)=1,\"\",\"\"))))&'Web Links'!G286)","v":"?????"},{"$f":"IF(OR(LEFT('Web Links'!$C286,2)=\"In\",$C286=\"Error\"),\"???????????????\",\"\"&F286)","v":"???????????????"}]
[{"$f":"IF('GL Template'!B301<>\"\",'GL Template'!B301,0)","v":0},{"$f":"IF('GL Template'!D301<>\"\",'GL Template'!D301,0)","v":0},"Error",null,null,null,null,null,null,null,null,null,null,{"$f":"IF(OR(LEFT('Web Links'!$C287,2)=\"In\",$C287=\"Error\"),\"?????\",\"\"&C287)","v":"?????"},{"$f":"IF(OR(LEFT('Web Links'!$C287,2)=\"In\",$C287=\"Error\"),\"??????????\",\"\"&D287)","v":"??????????"},{"$f":"IF(OR(LEFT('Web Links'!$C287,2)=\"In\",$C287=\"Error\"),\"???\",IF(LEN(E287)=2,\"0\",IF(LEN(E287)=1,\"00\",\"\")))&'Web Links'!E287","v":"???"},{"$f":"IF(OR(LEFT('Web Links'!$C287,2)=\"In\",$C287=\"Error\"),\"?????\",IF(LEN(G287)=4,\"\",IF(LEN(G287)=3,\"\",IF(LEN(G287)=2,\"\",IF(LEN(G287)=1,\"\",\"\"))))&'Web Links'!G287)","v":"?????"},{"$f":"IF(OR(LEFT('Web Links'!$C287,2)=\"In\",$C287=\"Error\"),\"???????????????\",\"\"&F287)","v":"???????????????"}]
[{"$f":"IF('GL Template'!B302<>\"\",'GL Template'!B302,0)","v":0},{"$f":"IF('GL Template'!D302<>\"\",'GL Template'!D302,0)","v":0},"Error",null,null,null,null,null,null,null,null,null,null,{"$f":"IF(OR(LEFT('Web Links'!$C288,2)=\"In\",$C288=\"Error\"),\"?????\",\"\"&C288)","v":"?????"},{"$f":"IF(OR(LEFT('Web Links'!$C288,2)=\"In\",$C288=\"Error\"),\"??????????\",\"\"&D288)","v":"??????????"},{"$f":"IF(OR(LEFT('Web Links'!$C288,2)=\"In\",$C288=\"Error\"),\"???\",IF(LEN(E288)=2,\"0\",IF(LEN(E288)=1,\"00\",\"\")))&'Web Links'!E288","v":"???"},{"$f":"IF(OR(LEFT('Web Links'!$C288,2)=\"In\",$C288=\"Error\"),\"?????\",IF(LEN(G288)=4,\"\",IF(LEN(G288)=3,\"\",IF(LEN(G288)=2,\"\",IF(LEN(G288)=1,\"\",\"\"))))&'Web Links'!G288)","v":"?????"},{"$f":"IF(OR(LEFT('Web Links'!$C288,2)=\"In\",$C288=\"Error\"),\"???????????????\",\"\"&F288)","v":"???????????????"}]
[{"$f":"IF('GL Template'!B303<>\"\",'GL Template'!B303,0)","v":0},{"$f":"IF('GL Template'!D303<>\"\",'GL Template'!D303,0)","v":0},"Error",null,null,null,null,null,null,null,null,null,null,{"$f":"IF(OR(LEFT('Web Links'!$C289,2)=\"In\",$C289=\"Error\"),\"?????\",\"\"&C289)","v":"?????"},{"$f":"IF(OR(LEFT('Web Links'!$C289,2)=\"In\",$C289=\"Error\"),\"??????????\",\"\"&D289)","v":"??????????"},{"$f":"IF(OR(LEFT('Web Links'!$C289,2)=\"In\",$C289=\"Error\"),\"???\",IF(LEN(E289)=2,\"0\",IF(LEN(E289)=1,\"00\",\"\")))&'Web Links'!E289","v":"???"},{"$f":"IF(OR(LEFT('Web Links'!$C289,2)=\"In\",$C289=\"Error\"),\"?????\",IF(LEN(G289)=4,\"\",IF(LEN(G289)=3,\"\",IF(LEN(G289)=2,\"\",IF(LEN(G289)=1,\"\",\"\"))))&'Web Links'!G289)","v":"?????"},{"$f":"IF(OR(LEFT('Web Links'!$C289,2)=\"In\",$C289=\"Error\"),\"???????????????\",\"\"&F289)","v":"???????????????"}]
[{"$f":"IF('GL Template'!B304<>\"\",'GL Template'!B304,0)","v":0},{"$f":"IF('GL Template'!D304<>\"\",'GL Template'!D304,0)","v":0},"Error",null,null,null,null,null,null,null,null,null,null,{"$f":"IF(OR(LEFT('Web Links'!$C290,2)=\"In\",$C290=\"Error\"),\"?????\",\"\"&C290)","v":"?????"},{"$f":"IF(OR(LEFT('Web Links'!$C290,2)=\"In\",$C290=\"Error\"),\"??????????\",\"\"&D290)","v":"??????????"},{"$f":"IF(OR(LEFT('Web Links'!$C290,2)=\"In\",$C290=\"Error\"),\"???\",IF(LEN(E290)=2,\"0\",IF(LEN(E290)=1,\"00\",\"\")))&'Web Links'!E290","v":"???"},{"$f":"IF(OR(LEFT('Web Links'!$C290,2)=\"In\",$C290=\"Error\"),\"?????\",IF(LEN(G290)=4,\"\",IF(LEN(G290)=3,\"\",IF(LEN(G290)=2,\"\",IF(LEN(G290)=1,\"\",\"\"))))&'Web Links'!G290)","v":"?????"},{"$f":"IF(OR(LEFT('Web Links'!$C290,2)=\"In\",$C290=\"Error\"),\"???????????????\",\"\"&F290)","v":"???????????????"}]
[{"$f":"IF('GL Template'!B305<>\"\",'GL Template'!B305,0)","v":0},{"$f":"IF('GL Template'!D305<>\"\",'GL Template'!D305,0)","v":0},"Error",null,null,null,null,null,null,null,null,null,null,{"$f":"IF(OR(LEFT('Web Links'!$C291,2)=\"In\",$C291=\"Error\"),\"?????\",\"\"&C291)","v":"?????"},{"$f":"IF(OR(LEFT('Web Links'!$C291,2)=\"In\",$C291=\"Error\"),\"??????????\",\"\"&D291)","v":"??????????"},{"$f":"IF(OR(LEFT('Web Links'!$C291,2)=\"In\",$C291=\"Error\"),\"???\",IF(LEN(E291)=2,\"0\",IF(LEN(E291)=1,\"00\",\"\")))&'Web Links'!E291","v":"???"},{"$f":"IF(OR(LEFT('Web Links'!$C291,2)=\"In\",$C291=\"Error\"),\"?????\",IF(LEN(G291)=4,\"\",IF(LEN(G291)=3,\"\",IF(LEN(G291)=2,\"\",IF(LEN(G291)=1,\"\",\"\"))))&'Web Links'!G291)","v":"?????"},{"$f":"IF(OR(LEFT('Web Links'!$C291,2)=\"In\",$C291=\"Error\"),\"???????????????\",\"\"&F291)","v":"???????????????"}]
[{"$f":"IF('GL Template'!B306<>\"\",'GL Template'!B306,0)","v":0},{"$f":"IF('GL Template'!D306<>\"\",'GL Template'!D306,0)","v":0},"Error",null,null,null,null,null,null,null,null,null,null,{"$f":"IF(OR(LEFT('Web Links'!$C292,2)=\"In\",$C292=\"Error\"),\"?????\",\"\"&C292)","v":"?????"},{"$f":"IF(OR(LEFT('Web Links'!$C292,2)=\"In\",$C292=\"Error\"),\"??????????\",\"\"&D292)","v":"??????????"},{"$f":"IF(OR(LEFT('Web Links'!$C292,2)=\"In\",$C292=\"Error\"),\"???\",IF(LEN(E292)=2,\"0\",IF(LEN(E292)=1,\"00\",\"\")))&'Web Links'!E292","v":"???"},{"$f":"IF(OR(LEFT('Web Links'!$C292,2)=\"In\",$C292=\"Error\"),\"?????\",IF(LEN(G292)=4,\"\",IF(LEN(G292)=3,\"\",IF(LEN(G292)=2,\"\",IF(LEN(G292)=1,\"\",\"\"))))&'Web Links'!G292)","v":"?????"},{"$f":"IF(OR(LEFT('Web Links'!$C292,2)=\"In\",$C292=\"Error\"),\"???????????????\",\"\"&F292)","v":"???????????????"}]
[{"$f":"IF('GL Template'!B307<>\"\",'GL Template'!B307,0)","v":0},{"$f":"IF('GL Template'!D307<>\"\",'GL Template'!D307,0)","v":0},"Error",null,null,null,null,null,null,null,null,null,null,{"$f":"IF(OR(LEFT('Web Links'!$C293,2)=\"In\",$C293=\"Error\"),\"?????\",\"\"&C293)","v":"?????"},{"$f":"IF(OR(LEFT('Web Links'!$C293,2)=\"In\",$C293=\"Error\"),\"??????????\",\"\"&D293)","v":"??????????"},{"$f":"IF(OR(LEFT('Web Links'!$C293,2)=\"In\",$C293=\"Error\"),\"???\",IF(LEN(E293)=2,\"0\",IF(LEN(E293)=1,\"00\",\"\")))&'Web Links'!E293","v":"???"},{"$f":"IF(OR(LEFT('Web Links'!$C293,2)=\"In\",$C293=\"Error\"),\"?????\",IF(LEN(G293)=4,\"\",IF(LEN(G293)=3,\"\",IF(LEN(G293)=2,\"\",IF(LEN(G293)=1,\"\",\"\"))))&'Web Links'!G293)","v":"?????"},{"$f":"IF(OR(LEFT('Web Links'!$C293,2)=\"In\",$C293=\"Error\"),\"???????????????\",\"\"&F293)","v":"???????????????"}]
[{"$f":"IF('GL Template'!B308<>\"\",'GL Template'!B308,0)","v":0},{"$f":"IF('GL Template'!D308<>\"\",'GL Template'!D308,0)","v":0},"Error",null,null,null,null,null,null,null,null,null,null,{"$f":"IF(OR(LEFT('Web Links'!$C294,2)=\"In\",$C294=\"Error\"),\"?????\",\"\"&C294)","v":"?????"},{"$f":"IF(OR(LEFT('Web Links'!$C294,2)=\"In\",$C294=\"Error\"),\"??????????\",\"\"&D294)","v":"??????????"},{"$f":"IF(OR(LEFT('Web Links'!$C294,2)=\"In\",$C294=\"Error\"),\"???\",IF(LEN(E294)=2,\"0\",IF(LEN(E294)=1,\"00\",\"\")))&'Web Links'!E294","v":"???"},{"$f":"IF(OR(LEFT('Web Links'!$C294,2)=\"In\",$C294=\"Error\"),\"?????\",IF(LEN(G294)=4,\"\",IF(LEN(G294)=3,\"\",IF(LEN(G294)=2,\"\",IF(LEN(G294)=1,\"\",\"\"))))&'Web Links'!G294)","v":"?????"},{"$f":"IF(OR(LEFT('Web Links'!$C294,2)=\"In\",$C294=\"Error\"),\"???????????????\",\"\"&F294)","v":"???????????????"}]
[{"$f":"IF('GL Template'!B309<>\"\",'GL Template'!B309,0)","v":0},{"$f":"IF('GL Template'!D309<>\"\",'GL Template'!D309,0)","v":0},"Error",null,null,null,null,null,null,null,null,null,null,{"$f":"IF(OR(LEFT('Web Links'!$C295,2)=\"In\",$C295=\"Error\"),\"?????\",\"\"&C295)","v":"?????"},{"$f":"IF(OR(LEFT('Web Links'!$C295,2)=\"In\",$C295=\"Error\"),\"??????????\",\"\"&D295)","v":"??????????"},{"$f":"IF(OR(LEFT('Web Links'!$C295,2)=\"In\",$C295=\"Error\"),\"???\",IF(LEN(E295)=2,\"0\",IF(LEN(E295)=1,\"00\",\"\")))&'Web Links'!E295","v":"???"},{"$f":"IF(OR(LEFT('Web Links'!$C295,2)=\"In\",$C295=\"Error\"),\"?????\",IF(LEN(G295)=4,\"\",IF(LEN(G295)=3,\"\",IF(LEN(G295)=2,\"\",IF(LEN(G295)=1,\"\",\"\"))))&'Web Links'!G295)","v":"?????"},{"$f":"IF(OR(LEFT('Web Links'!$C295,2)=\"In\",$C295=\"Error\"),\"???????????????\",\"\"&F295)","v":"???????????????"}]
[{"$f":"IF('GL Template'!B310<>\"\",'GL Template'!B310,0)","v":0},{"$f":"IF('GL Template'!D310<>\"\",'GL Template'!D310,0)","v":0},"Error",null,null,null,null,null,null,null,null,null,null,{"$f":"IF(OR(LEFT('Web Links'!$C296,2)=\"In\",$C296=\"Error\"),\"?????\",\"\"&C296)","v":"?????"},{"$f":"IF(OR(LEFT('Web Links'!$C296,2)=\"In\",$C296=\"Error\"),\"??????????\",\"\"&D296)","v":"??????????"},{"$f":"IF(OR(LEFT('Web Links'!$C296,2)=\"In\",$C296=\"Error\"),\"???\",IF(LEN(E296)=2,\"0\",IF(LEN(E296)=1,\"00\",\"\")))&'Web Links'!E296","v":"???"},{"$f":"IF(OR(LEFT('Web Links'!$C296,2)=\"In\",$C296=\"Error\"),\"?????\",IF(LEN(G296)=4,\"\",IF(LEN(G296)=3,\"\",IF(LEN(G296)=2,\"\",IF(LEN(G296)=1,\"\",\"\"))))&'Web Links'!G296)","v":"?????"},{"$f":"IF(OR(LEFT('Web Links'!$C296,2)=\"In\",$C296=\"Error\"),\"???????????????\",\"\"&F296)","v":"???????????????"}]
[{"$f":"IF('GL Template'!B311<>\"\",'GL Template'!B311,0)","v":0},{"$f":"IF('GL Template'!D311<>\"\",'GL Template'!D311,0)","v":0},"Error",null,null,null,null,null,null,null,null,null,null,{"$f":"IF(OR(LEFT('Web Links'!$C297,2)=\"In\",$C297=\"Error\"),\"?????\",\"\"&C297)","v":"?????"},{"$f":"IF(OR(LEFT('Web Links'!$C297,2)=\"In\",$C297=\"Error\"),\"??????????\",\"\"&D297)","v":"??????????"},{"$f":"IF(OR(LEFT('Web Links'!$C297,2)=\"In\",$C297=\"Error\"),\"???\",IF(LEN(E297)=2,\"0\",IF(LEN(E297)=1,\"00\",\"\")))&'Web Links'!E297","v":"???"},{"$f":"IF(OR(LEFT('Web Links'!$C297,2)=\"In\",$C297=\"Error\"),\"?????\",IF(LEN(G297)=4,\"\",IF(LEN(G297)=3,\"\",IF(LEN(G297)=2,\"\",IF(LEN(G297)=1,\"\",\"\"))))&'Web Links'!G297)","v":"?????"},{"$f":"IF(OR(LEFT('Web Links'!$C297,2)=\"In\",$C297=\"Error\"),\"???????????????\",\"\"&F297)","v":"???????????????"}]
[{"$f":"IF('GL Template'!B312<>\"\",'GL Template'!B312,0)","v":0},{"$f":"IF('GL Template'!D312<>\"\",'GL Template'!D312,0)","v":0},"Error",null,null,null,null,null,null,null,null,null,null,{"$f":"IF(OR(LEFT('Web Links'!$C298,2)=\"In\",$C298=\"Error\"),\"?????\",\"\"&C298)","v":"?????"},{"$f":"IF(OR(LEFT('Web Links'!$C298,2)=\"In\",$C298=\"Error\"),\"??????????\",\"\"&D298)","v":"??????????"},{"$f":"IF(OR(LEFT('Web Links'!$C298,2)=\"In\",$C298=\"Error\"),\"???\",IF(LEN(E298)=2,\"0\",IF(LEN(E298)=1,\"00\",\"\")))&'Web Links'!E298","v":"???"},{"$f":"IF(OR(LEFT('Web Links'!$C298,2)=\"In\",$C298=\"Error\"),\"?????\",IF(LEN(G298)=4,\"\",IF(LEN(G298)=3,\"\",IF(LEN(G298)=2,\"\",IF(LEN(G298)=1,\"\",\"\"))))&'Web Links'!G298)","v":"?????"},{"$f":"IF(OR(LEFT('Web Links'!$C298,2)=\"In\",$C298=\"Error\"),\"???????????????\",\"\"&F298)","v":"???????????????"}]
[{"$f":"IF('GL Template'!B313<>\"\",'GL Template'!B313,0)","v":0},{"$f":"IF('GL Template'!D313<>\"\",'GL Template'!D313,0)","v":0},"Error",null,null,null,null,null,null,null,null,null,null,{"$f":"IF(OR(LEFT('Web Links'!$C299,2)=\"In\",$C299=\"Error\"),\"?????\",\"\"&C299)","v":"?????"},{"$f":"IF(OR(LEFT('Web Links'!$C299,2)=\"In\",$C299=\"Error\"),\"??????????\",\"\"&D299)","v":"??????????"},{"$f":"IF(OR(LEFT('Web Links'!$C299,2)=\"In\",$C299=\"Error\"),\"???\",IF(LEN(E299)=2,\"0\",IF(LEN(E299)=1,\"00\",\"\")))&'Web Links'!E299","v":"???"},{"$f":"IF(OR(LEFT('Web Links'!$C299,2)=\"In\",$C299=\"Error\"),\"?????\",IF(LEN(G299)=4,\"\",IF(LEN(G299)=3,\"\",IF(LEN(G299)=2,\"\",IF(LEN(G299)=1,\"\",\"\"))))&'Web Links'!G299)","v":"?????"},{"$f":"IF(OR(LEFT('Web Links'!$C299,2)=\"In\",$C299=\"Error\"),\"???????????????\",\"\"&F299)","v":"???????????????"}]
[{"$f":"IF('GL Template'!B314<>\"\",'GL Template'!B314,0)","v":0},{"$f":"IF('GL Template'!D314<>\"\",'GL Template'!D314,0)","v":0},"Error",null,null,null,null,null,null,null,null,null,null,{"$f":"IF(OR(LEFT('Web Links'!$C300,2)=\"In\",$C300=\"Error\"),\"?????\",\"\"&C300)","v":"?????"},{"$f":"IF(OR(LEFT('Web Links'!$C300,2)=\"In\",$C300=\"Error\"),\"??????????\",\"\"&D300)","v":"??????????"},{"$f":"IF(OR(LEFT('Web Links'!$C300,2)=\"In\",$C300=\"Error\"),\"???\",IF(LEN(E300)=2,\"0\",IF(LEN(E300)=1,\"00\",\"\")))&'Web Links'!E300","v":"???"},{"$f":"IF(OR(LEFT('Web Links'!$C300,2)=\"In\",$C300=\"Error\"),\"?????\",IF(LEN(G300)=4,\"\",IF(LEN(G300)=3,\"\",IF(LEN(G300)=2,\"\",IF(LEN(G300)=1,\"\",\"\"))))&'Web Links'!G300)","v":"?????"},{"$f":"IF(OR(LEFT('Web Links'!$C300,2)=\"In\",$C300=\"Error\"),\"???????????????\",\"\"&F300)","v":"???????????????"}]
[{"$f":"IF('GL Template'!B315<>\"\",'GL Template'!B315,0)","v":0},{"$f":"IF('GL Template'!D315<>\"\",'GL Template'!D315,0)","v":0},"Error",null,null,null,null,null,null,null,null,null,null,{"$f":"IF(OR(LEFT('Web Links'!$C301,2)=\"In\",$C301=\"Error\"),\"?????\",\"\"&C301)","v":"?????"},{"$f":"IF(OR(LEFT('Web Links'!$C301,2)=\"In\",$C301=\"Error\"),\"??????????\",\"\"&D301)","v":"??????????"},{"$f":"IF(OR(LEFT('Web Links'!$C301,2)=\"In\",$C301=\"Error\"),\"???\",IF(LEN(E301)=2,\"0\",IF(LEN(E301)=1,\"00\",\"\")))&'Web Links'!E301","v":"???"},{"$f":"IF(OR(LEFT('Web Links'!$C301,2)=\"In\",$C301=\"Error\"),\"?????\",IF(LEN(G301)=4,\"\",IF(LEN(G301)=3,\"\",IF(LEN(G301)=2,\"\",IF(LEN(G301)=1,\"\",\"\"))))&'Web Links'!G301)","v":"?????"},{"$f":"IF(OR(LEFT('Web Links'!$C301,2)=\"In\",$C301=\"Error\"),\"???????????????\",\"\"&F301)","v":"???????????????"}]
[{"$f":"IF('GL Template'!B316<>\"\",'GL Template'!B316,0)","v":0},{"$f":"IF('GL Template'!D316<>\"\",'GL Template'!D316,0)","v":0},"Error",null,null,null,null,null,null,null,null,null,null,{"$f":"IF(OR(LEFT('Web Links'!$C302,2)=\"In\",$C302=\"Error\"),\"?????\",\"\"&C302)","v":"?????"},{"$f":"IF(OR(LEFT('Web Links'!$C302,2)=\"In\",$C302=\"Error\"),\"??????????\",\"\"&D302)","v":"??????????"},{"$f":"IF(OR(LEFT('Web Links'!$C302,2)=\"In\",$C302=\"Error\"),\"???\",IF(LEN(E302)=2,\"0\",IF(LEN(E302)=1,\"00\",\"\")))&'Web Links'!E302","v":"???"},{"$f":"IF(OR(LEFT('Web Links'!$C302,2)=\"In\",$C302=\"Error\"),\"?????\",IF(LEN(G302)=4,\"\",IF(LEN(G302)=3,\"\",IF(LEN(G302)=2,\"\",IF(LEN(G302)=1,\"\",\"\"))))&'Web Links'!G302)","v":"?????"},{"$f":"IF(OR(LEFT('Web Links'!$C302,2)=\"In\",$C302=\"Error\"),\"???????????????\",\"\"&F302)","v":"???????????????"}]
[{"$f":"IF('GL Template'!B317<>\"\",'GL Template'!B317,0)","v":0},{"$f":"IF('GL Template'!D317<>\"\",'GL Template'!D317,0)","v":0},"Error",null,null,null,null,null,null,null,null,null,null,{"$f":"IF(OR(LEFT('Web Links'!$C303,2)=\"In\",$C303=\"Error\"),\"?????\",\"\"&C303)","v":"?????"},{"$f":"IF(OR(LEFT('Web Links'!$C303,2)=\"In\",$C303=\"Error\"),\"??????????\",\"\"&D303)","v":"??????????"},{"$f":"IF(OR(LEFT('Web Links'!$C303,2)=\"In\",$C303=\"Error\"),\"???\",IF(LEN(E303)=2,\"0\",IF(LEN(E303)=1,\"00\",\"\")))&'Web Links'!E303","v":"???"},{"$f":"IF(OR(LEFT('Web Links'!$C303,2)=\"In\",$C303=\"Error\"),\"?????\",IF(LEN(G303)=4,\"\",IF(LEN(G303)=3,\"\",IF(LEN(G303)=2,\"\",IF(LEN(G303)=1,\"\",\"\"))))&'Web Links'!G303)","v":"?????"},{"$f":"IF(OR(LEFT('Web Links'!$C303,2)=\"In\",$C303=\"Error\"),\"???????????????\",\"\"&F303)","v":"???????????????"}]
[{"$f":"IF('GL Template'!B318<>\"\",'GL Template'!B318,0)","v":0},{"$f":"IF('GL Template'!D318<>\"\",'GL Template'!D318,0)","v":0},"Error",null,null,null,null,null,null,null,null,null,null,{"$f":"IF(OR(LEFT('Web Links'!$C304,2)=\"In\",$C304=\"Error\"),\"?????\",\"\"&C304)","v":"?????"},{"$f":"IF(OR(LEFT('Web Links'!$C304,2)=\"In\",$C304=\"Error\"),\"??????????\",\"\"&D304)","v":"??????????"},{"$f":"IF(OR(LEFT('Web Links'!$C304,2)=\"In\",$C304=\"Error\"),\"???\",IF(LEN(E304)=2,\"0\",IF(LEN(E304)=1,\"00\",\"\")))&'Web Links'!E304","v":"???"},{"$f":"IF(OR(LEFT('Web Links'!$C304,2)=\"In\",$C304=\"Error\"),\"?????\",IF(LEN(G304)=4,\"\",IF(LEN(G304)=3,\"\",IF(LEN(G304)=2,\"\",IF(LEN(G304)=1,\"\",\"\"))))&'Web Links'!G304)","v":"?????"},{"$f":"IF(OR(LEFT('Web Links'!$C304,2)=\"In\",$C304=\"Error\"),\"???????????????\",\"\"&F304)","v":"???????????????"}]
[{"$f":"IF('GL Template'!B319<>\"\",'GL Template'!B319,0)","v":0},{"$f":"IF('GL Template'!D319<>\"\",'GL Template'!D319,0)","v":0},"Error",null,null,null,null,null,null,null,null,null,null,{"$f":"IF(OR(LEFT('Web Links'!$C305,2)=\"In\",$C305=\"Error\"),\"?????\",\"\"&C305)","v":"?????"},{"$f":"IF(OR(LEFT('Web Links'!$C305,2)=\"In\",$C305=\"Error\"),\"??????????\",\"\"&D305)","v":"??????????"},{"$f":"IF(OR(LEFT('Web Links'!$C305,2)=\"In\",$C305=\"Error\"),\"???\",IF(LEN(E305)=2,\"0\",IF(LEN(E305)=1,\"00\",\"\")))&'Web Links'!E305","v":"???"},{"$f":"IF(OR(LEFT('Web Links'!$C305,2)=\"In\",$C305=\"Error\"),\"?????\",IF(LEN(G305)=4,\"\",IF(LEN(G305)=3,\"\",IF(LEN(G305)=2,\"\",IF(LEN(G305)=1,\"\",\"\"))))&'Web Links'!G305)","v":"?????"},{"$f":"IF(OR(LEFT('Web Links'!$C305,2)=\"In\",$C305=\"Error\"),\"???????????????\",\"\"&F305)","v":"???????????????"}]
[{"$f":"IF('GL Template'!B320<>\"\",'GL Template'!B320,0)","v":0},{"$f":"IF('GL Template'!D320<>\"\",'GL Template'!D320,0)","v":0},"Error",null,null,null,null,null,null,null,null,null,null,{"$f":"IF(OR(LEFT('Web Links'!$C306,2)=\"In\",$C306=\"Error\"),\"?????\",\"\"&C306)","v":"?????"},{"$f":"IF(OR(LEFT('Web Links'!$C306,2)=\"In\",$C306=\"Error\"),\"??????????\",\"\"&D306)","v":"??????????"},{"$f":"IF(OR(LEFT('Web Links'!$C306,2)=\"In\",$C306=\"Error\"),\"???\",IF(LEN(E306)=2,\"0\",IF(LEN(E306)=1,\"00\",\"\")))&'Web Links'!E306","v":"???"},{"$f":"IF(OR(LEFT('Web Links'!$C306,2)=\"In\",$C306=\"Error\"),\"?????\",IF(LEN(G306)=4,\"\",IF(LEN(G306)=3,\"\",IF(LEN(G306)=2,\"\",IF(LEN(G306)=1,\"\",\"\"))))&'Web Links'!G306)","v":"?????"},{"$f":"IF(OR(LEFT('Web Links'!$C306,2)=\"In\",$C306=\"Error\"),\"???????????????\",\"\"&F306)","v":"???????????????"}]
[{"$f":"IF('GL Template'!B321<>\"\",'GL Template'!B321,0)","v":0},{"$f":"IF('GL Template'!D321<>\"\",'GL Template'!D321,0)","v":0},"Error",null,null,null,null,null,null,null,null,null,null,{"$f":"IF(OR(LEFT('Web Links'!$C307,2)=\"In\",$C307=\"Error\"),\"?????\",\"\"&C307)","v":"?????"},{"$f":"IF(OR(LEFT('Web Links'!$C307,2)=\"In\",$C307=\"Error\"),\"??????????\",\"\"&D307)","v":"??????????"},{"$f":"IF(OR(LEFT('Web Links'!$C307,2)=\"In\",$C307=\"Error\"),\"???\",IF(LEN(E307)=2,\"0\",IF(LEN(E307)=1,\"00\",\"\")))&'Web Links'!E307","v":"???"},{"$f":"IF(OR(LEFT('Web Links'!$C307,2)=\"In\",$C307=\"Error\"),\"?????\",IF(LEN(G307)=4,\"\",IF(LEN(G307)=3,\"\",IF(LEN(G307)=2,\"\",IF(LEN(G307)=1,\"\",\"\"))))&'Web Links'!G307)","v":"?????"},{"$f":"IF(OR(LEFT('Web Links'!$C307,2)=\"In\",$C307=\"Error\"),\"???????????????\",\"\"&F307)","v":"???????????????"}]
[{"$f":"IF('GL Template'!B322<>\"\",'GL Template'!B322,0)","v":0},{"$f":"IF('GL Template'!D322<>\"\",'GL Template'!D322,0)","v":0},"Error",null,null,null,null,null,null,null,null,null,null,{"$f":"IF(OR(LEFT('Web Links'!$C308,2)=\"In\",$C308=\"Error\"),\"?????\",\"\"&C308)","v":"?????"},{"$f":"IF(OR(LEFT('Web Links'!$C308,2)=\"In\",$C308=\"Error\"),\"??????????\",\"\"&D308)","v":"??????????"},{"$f":"IF(OR(LEFT('Web Links'!$C308,2)=\"In\",$C308=\"Error\"),\"???\",IF(LEN(E308)=2,\"0\",IF(LEN(E308)=1,\"00\",\"\")))&'Web Links'!E308","v":"???"},{"$f":"IF(OR(LEFT('Web Links'!$C308,2)=\"In\",$C308=\"Error\"),\"?????\",IF(LEN(G308)=4,\"\",IF(LEN(G308)=3,\"\",IF(LEN(G308)=2,\"\",IF(LEN(G308)=1,\"\",\"\"))))&'Web Links'!G308)","v":"?????"},{"$f":"IF(OR(LEFT('Web Links'!$C308,2)=\"In\",$C308=\"Error\"),\"???????????????\",\"\"&F308)","v":"???????????????"}]
[{"$f":"IF('GL Template'!B323<>\"\",'GL Template'!B323,0)","v":0},{"$f":"IF('GL Template'!D323<>\"\",'GL Template'!D323,0)","v":0},"Error",null,null,null,null,null,null,null,null,null,null,{"$f":"IF(OR(LEFT('Web Links'!$C309,2)=\"In\",$C309=\"Error\"),\"?????\",\"\"&C309)","v":"?????"},{"$f":"IF(OR(LEFT('Web Links'!$C309,2)=\"In\",$C309=\"Error\"),\"??????????\",\"\"&D309)","v":"??????????"},{"$f":"IF(OR(LEFT('Web Links'!$C309,2)=\"In\",$C309=\"Error\"),\"???\",IF(LEN(E309)=2,\"0\",IF(LEN(E309)=1,\"00\",\"\")))&'Web Links'!E309","v":"???"},{"$f":"IF(OR(LEFT('Web Links'!$C309,2)=\"In\",$C309=\"Error\"),\"?????\",IF(LEN(G309)=4,\"\",IF(LEN(G309)=3,\"\",IF(LEN(G309)=2,\"\",IF(LEN(G309)=1,\"\",\"\"))))&'Web Links'!G309)","v":"?????"},{"$f":"IF(OR(LEFT('Web Links'!$C309,2)=\"In\",$C309=\"Error\"),\"???????????????\",\"\"&F309)","v":"???????????????"}]
[{"$f":"IF('GL Template'!B324<>\"\",'GL Template'!B324,0)","v":0},{"$f":"IF('GL Template'!D324<>\"\",'GL Template'!D324,0)","v":0},"Error",null,null,null,null,null,null,null,null,null,null,{"$f":"IF(OR(LEFT('Web Links'!$C310,2)=\"In\",$C310=\"Error\"),\"?????\",\"\"&C310)","v":"?????"},{"$f":"IF(OR(LEFT('Web Links'!$C310,2)=\"In\",$C310=\"Error\"),\"??????????\",\"\"&D310)","v":"??????????"},{"$f":"IF(OR(LEFT('Web Links'!$C310,2)=\"In\",$C310=\"Error\"),\"???\",IF(LEN(E310)=2,\"0\",IF(LEN(E310)=1,\"00\",\"\")))&'Web Links'!E310","v":"???"},{"$f":"IF(OR(LEFT('Web Links'!$C310,2)=\"In\",$C310=\"Error\"),\"?????\",IF(LEN(G310)=4,\"\",IF(LEN(G310)=3,\"\",IF(LEN(G310)=2,\"\",IF(LEN(G310)=1,\"\",\"\"))))&'Web Links'!G310)","v":"?????"},{"$f":"IF(OR(LEFT('Web Links'!$C310,2)=\"In\",$C310=\"Error\"),\"???????????????\",\"\"&F310)","v":"???????????????"}]
[{"$f":"IF('GL Template'!B325<>\"\",'GL Template'!B325,0)","v":0},{"$f":"IF('GL Template'!D325<>\"\",'GL Template'!D325,0)","v":0},"Error",null,null,null,null,null,null,null,null,null,null,{"$f":"IF(OR(LEFT('Web Links'!$C311,2)=\"In\",$C311=\"Error\"),\"?????\",\"\"&C311)","v":"?????"},{"$f":"IF(OR(LEFT('Web Links'!$C311,2)=\"In\",$C311=\"Error\"),\"??????????\",\"\"&D311)","v":"??????????"},{"$f":"IF(OR(LEFT('Web Links'!$C311,2)=\"In\",$C311=\"Error\"),\"???\",IF(LEN(E311)=2,\"0\",IF(LEN(E311)=1,\"00\",\"\")))&'Web Links'!E311","v":"???"},{"$f":"IF(OR(LEFT('Web Links'!$C311,2)=\"In\",$C311=\"Error\"),\"?????\",IF(LEN(G311)=4,\"\",IF(LEN(G311)=3,\"\",IF(LEN(G311)=2,\"\",IF(LEN(G311)=1,\"\",\"\"))))&'Web Links'!G311)","v":"?????"},{"$f":"IF(OR(LEFT('Web Links'!$C311,2)=\"In\",$C311=\"Error\"),\"???????????????\",\"\"&F311)","v":"???????????????"}]
[{"$f":"IF('GL Template'!B326<>\"\",'GL Template'!B326,0)","v":0},{"$f":"IF('GL Template'!D326<>\"\",'GL Template'!D326,0)","v":0},"Error",null,null,null,null,null,null,null,null,null,null,{"$f":"IF(OR(LEFT('Web Links'!$C312,2)=\"In\",$C312=\"Error\"),\"?????\",\"\"&C312)","v":"?????"},{"$f":"IF(OR(LEFT('Web Links'!$C312,2)=\"In\",$C312=\"Error\"),\"??????????\",\"\"&D312)","v":"??????????"},{"$f":"IF(OR(LEFT('Web Links'!$C312,2)=\"In\",$C312=\"Error\"),\"???\",IF(LEN(E312)=2,\"0\",IF(LEN(E312)=1,\"00\",\"\")))&'Web Links'!E312","v":"???"},{"$f":"IF(OR(LEFT('Web Links'!$C312,2)=\"In\",$C312=\"Error\"),\"?????\",IF(LEN(G312)=4,\"\",IF(LEN(G312)=3,\"\",IF(LEN(G312)=2,\"\",IF(LEN(G312)=1,\"\",\"\"))))&'Web Links'!G312)","v":"?????"},{"$f":"IF(OR(LEFT('Web Links'!$C312,2)=\"In\",$C312=\"Error\"),\"???????????????\",\"\"&F312)","v":"???????????????"}]
[{"$f":"IF('GL Template'!B327<>\"\",'GL Template'!B327,0)","v":0},{"$f":"IF('GL Template'!D327<>\"\",'GL Template'!D327,0)","v":0},"Error",null,null,null,null,null,null,null,null,null,null,{"$f":"IF(OR(LEFT('Web Links'!$C313,2)=\"In\",$C313=\"Error\"),\"?????\",\"\"&C313)","v":"?????"},{"$f":"IF(OR(LEFT('Web Links'!$C313,2)=\"In\",$C313=\"Error\"),\"??????????\",\"\"&D313)","v":"??????????"},{"$f":"IF(OR(LEFT('Web Links'!$C313,2)=\"In\",$C313=\"Error\"),\"???\",IF(LEN(E313)=2,\"0\",IF(LEN(E313)=1,\"00\",\"\")))&'Web Links'!E313","v":"???"},{"$f":"IF(OR(LEFT('Web Links'!$C313,2)=\"In\",$C313=\"Error\"),\"?????\",IF(LEN(G313)=4,\"\",IF(LEN(G313)=3,\"\",IF(LEN(G313)=2,\"\",IF(LEN(G313)=1,\"\",\"\"))))&'Web Links'!G313)","v":"?????"},{"$f":"IF(OR(LEFT('Web Links'!$C313,2)=\"In\",$C313=\"Error\"),\"???????????????\",\"\"&F313)","v":"???????????????"}]
[{"$f":"IF('GL Template'!B328<>\"\",'GL Template'!B328,0)","v":0},{"$f":"IF('GL Template'!D328<>\"\",'GL Template'!D328,0)","v":0},"Error",null,null,null,null,null,null,null,null,null,null,{"$f":"IF(OR(LEFT('Web Links'!$C314,2)=\"In\",$C314=\"Error\"),\"?????\",\"\"&C314)","v":"?????"},{"$f":"IF(OR(LEFT('Web Links'!$C314,2)=\"In\",$C314=\"Error\"),\"??????????\",\"\"&D314)","v":"??????????"},{"$f":"IF(OR(LEFT('Web Links'!$C314,2)=\"In\",$C314=\"Error\"),\"???\",IF(LEN(E314)=2,\"0\",IF(LEN(E314)=1,\"00\",\"\")))&'Web Links'!E314","v":"???"},{"$f":"IF(OR(LEFT('Web Links'!$C314,2)=\"In\",$C314=\"Error\"),\"?????\",IF(LEN(G314)=4,\"\",IF(LEN(G314)=3,\"\",IF(LEN(G314)=2,\"\",IF(LEN(G314)=1,\"\",\"\"))))&'Web Links'!G314)","v":"?????"},{"$f":"IF(OR(LEFT('Web Links'!$C314,2)=\"In\",$C314=\"Error\"),\"???????????????\",\"\"&F314)","v":"???????????????"}]
[{"$f":"IF('GL Template'!B329<>\"\",'GL Template'!B329,0)","v":0},{"$f":"IF('GL Template'!D329<>\"\",'GL Template'!D329,0)","v":0},"Error",null,null,null,null,null,null,null,null,null,null,{"$f":"IF(OR(LEFT('Web Links'!$C315,2)=\"In\",$C315=\"Error\"),\"?????\",\"\"&C315)","v":"?????"},{"$f":"IF(OR(LEFT('Web Links'!$C315,2)=\"In\",$C315=\"Error\"),\"??????????\",\"\"&D315)","v":"??????????"},{"$f":"IF(OR(LEFT('Web Links'!$C315,2)=\"In\",$C315=\"Error\"),\"???\",IF(LEN(E315)=2,\"0\",IF(LEN(E315)=1,\"00\",\"\")))&'Web Links'!E315","v":"???"},{"$f":"IF(OR(LEFT('Web Links'!$C315,2)=\"In\",$C315=\"Error\"),\"?????\",IF(LEN(G315)=4,\"\",IF(LEN(G315)=3,\"\",IF(LEN(G315)=2,\"\",IF(LEN(G315)=1,\"\",\"\"))))&'Web Links'!G315)","v":"?????"},{"$f":"IF(OR(LEFT('Web Links'!$C315,2)=\"In\",$C315=\"Error\"),\"???????????????\",\"\"&F315)","v":"???????????????"}]
[{"$f":"IF('GL Template'!B330<>\"\",'GL Template'!B330,0)","v":0},{"$f":"IF('GL Template'!D330<>\"\",'GL Template'!D330,0)","v":0},"Error",null,null,null,null,null,null,null,null,null,null,{"$f":"IF(OR(LEFT('Web Links'!$C316,2)=\"In\",$C316=\"Error\"),\"?????\",\"\"&C316)","v":"?????"},{"$f":"IF(OR(LEFT('Web Links'!$C316,2)=\"In\",$C316=\"Error\"),\"??????????\",\"\"&D316)","v":"??????????"},{"$f":"IF(OR(LEFT('Web Links'!$C316,2)=\"In\",$C316=\"Error\"),\"???\",IF(LEN(E316)=2,\"0\",IF(LEN(E316)=1,\"00\",\"\")))&'Web Links'!E316","v":"???"},{"$f":"IF(OR(LEFT('Web Links'!$C316,2)=\"In\",$C316=\"Error\"),\"?????\",IF(LEN(G316)=4,\"\",IF(LEN(G316)=3,\"\",IF(LEN(G316)=2,\"\",IF(LEN(G316)=1,\"\",\"\"))))&'Web Links'!G316)","v":"?????"},{"$f":"IF(OR(LEFT('Web Links'!$C316,2)=\"In\",$C316=\"Error\"),\"???????????????\",\"\"&F316)","v":"???????????????"}]
[{"$f":"IF('GL Template'!B331<>\"\",'GL Template'!B331,0)","v":0},{"$f":"IF('GL Template'!D331<>\"\",'GL Template'!D331,0)","v":0},"Error",null,null,null,null,null,null,null,null,null,null,{"$f":"IF(OR(LEFT('Web Links'!$C317,2)=\"In\",$C317=\"Error\"),\"?????\",\"\"&C317)","v":"?????"},{"$f":"IF(OR(LEFT('Web Links'!$C317,2)=\"In\",$C317=\"Error\"),\"??????????\",\"\"&D317)","v":"??????????"},{"$f":"IF(OR(LEFT('Web Links'!$C317,2)=\"In\",$C317=\"Error\"),\"???\",IF(LEN(E317)=2,\"0\",IF(LEN(E317)=1,\"00\",\"\")))&'Web Links'!E317","v":"???"},{"$f":"IF(OR(LEFT('Web Links'!$C317,2)=\"In\",$C317=\"Error\"),\"?????\",IF(LEN(G317)=4,\"\",IF(LEN(G317)=3,\"\",IF(LEN(G317)=2,\"\",IF(LEN(G317)=1,\"\",\"\"))))&'Web Links'!G317)","v":"?????"},{"$f":"IF(OR(LEFT('Web Links'!$C317,2)=\"In\",$C317=\"Error\"),\"???????????????\",\"\"&F317)","v":"???????????????"}]
[{"$f":"IF('GL Template'!B332<>\"\",'GL Template'!B332,0)","v":0},{"$f":"IF('GL Template'!D332<>\"\",'GL Template'!D332,0)","v":0},"Error",null,null,null,null,null,null,null,null,null,null,{"$f":"IF(OR(LEFT('Web Links'!$C318,2)=\"In\",$C318=\"Error\"),\"?????\",\"\"&C318)","v":"?????"},{"$f":"IF(OR(LEFT('Web Links'!$C318,2)=\"In\",$C318=\"Error\"),\"??????????\",\"\"&D318)","v":"??????????"},{"$f":"IF(OR(LEFT('Web Links'!$C318,2)=\"In\",$C318=\"Error\"),\"???\",IF(LEN(E318)=2,\"0\",IF(LEN(E318)=1,\"00\",\"\")))&'Web Links'!E318","v":"???"},{"$f":"IF(OR(LEFT('Web Links'!$C318,2)=\"In\",$C318=\"Error\"),\"?????\",IF(LEN(G318)=4,\"\",IF(LEN(G318)=3,\"\",IF(LEN(G318)=2,\"\",IF(LEN(G318)=1,\"\",\"\"))))&'Web Links'!G318)","v":"?????"},{"$f":"IF(OR(LEFT('Web Links'!$C318,2)=\"In\",$C318=\"Error\"),\"???????????????\",\"\"&F318)","v":"???????????????"}]
[{"$f":"IF('GL Template'!B333<>\"\",'GL Template'!B333,0)","v":0},{"$f":"IF('GL Template'!D333<>\"\",'GL Template'!D333,0)","v":0},"Error",null,null,null,null,null,null,null,null,null,null,{"$f":"IF(OR(LEFT('Web Links'!$C319,2)=\"In\",$C319=\"Error\"),\"?????\",\"\"&C319)","v":"?????"},{"$f":"IF(OR(LEFT('Web Links'!$C319,2)=\"In\",$C319=\"Error\"),\"??????????\",\"\"&D319)","v":"??????????"},{"$f":"IF(OR(LEFT('Web Links'!$C319,2)=\"In\",$C319=\"Error\"),\"???\",IF(LEN(E319)=2,\"0\",IF(LEN(E319)=1,\"00\",\"\")))&'Web Links'!E319","v":"???"},{"$f":"IF(OR(LEFT('Web Links'!$C319,2)=\"In\",$C319=\"Error\"),\"?????\",IF(LEN(G319)=4,\"\",IF(LEN(G319)=3,\"\",IF(LEN(G319)=2,\"\",IF(LEN(G319)=1,\"\",\"\"))))&'Web Links'!G319)","v":"?????"},{"$f":"IF(OR(LEFT('Web Links'!$C319,2)=\"In\",$C319=\"Error\"),\"???????????????\",\"\"&F319)","v":"???????????????"}]
[{"$f":"IF('GL Template'!B334<>\"\",'GL Template'!B334,0)","v":0},{"$f":"IF('GL Template'!D334<>\"\",'GL Template'!D334,0)","v":0},"Error",null,null,null,null,null,null,null,null,null,null,{"$f":"IF(OR(LEFT('Web Links'!$C320,2)=\"In\",$C320=\"Error\"),\"?????\",\"\"&C320)","v":"?????"},{"$f":"IF(OR(LEFT('Web Links'!$C320,2)=\"In\",$C320=\"Error\"),\"??????????\",\"\"&D320)","v":"??????????"},{"$f":"IF(OR(LEFT('Web Links'!$C320,2)=\"In\",$C320=\"Error\"),\"???\",IF(LEN(E320)=2,\"0\",IF(LEN(E320)=1,\"00\",\"\")))&'Web Links'!E320","v":"???"},{"$f":"IF(OR(LEFT('Web Links'!$C320,2)=\"In\",$C320=\"Error\"),\"?????\",IF(LEN(G320)=4,\"\",IF(LEN(G320)=3,\"\",IF(LEN(G320)=2,\"\",IF(LEN(G320)=1,\"\",\"\"))))&'Web Links'!G320)","v":"?????"},{"$f":"IF(OR(LEFT('Web Links'!$C320,2)=\"In\",$C320=\"Error\"),\"???????????????\",\"\"&F320)","v":"???????????????"}]
[{"$f":"IF('GL Template'!B335<>\"\",'GL Template'!B335,0)","v":0},{"$f":"IF('GL Template'!D335<>\"\",'GL Template'!D335,0)","v":0},"Error",null,null,null,null,null,null,null,null,null,null,{"$f":"IF(OR(LEFT('Web Links'!$C321,2)=\"In\",$C321=\"Error\"),\"?????\",\"\"&C321)","v":"?????"},{"$f":"IF(OR(LEFT('Web Links'!$C321,2)=\"In\",$C321=\"Error\"),\"??????????\",\"\"&D321)","v":"??????????"},{"$f":"IF(OR(LEFT('Web Links'!$C321,2)=\"In\",$C321=\"Error\"),\"???\",IF(LEN(E321)=2,\"0\",IF(LEN(E321)=1,\"00\",\"\")))&'Web Links'!E321","v":"???"},{"$f":"IF(OR(LEFT('Web Links'!$C321,2)=\"In\",$C321=\"Error\"),\"?????\",IF(LEN(G321)=4,\"\",IF(LEN(G321)=3,\"\",IF(LEN(G321)=2,\"\",IF(LEN(G321)=1,\"\",\"\"))))&'Web Links'!G321)","v":"?????"},{"$f":"IF(OR(LEFT('Web Links'!$C321,2)=\"In\",$C321=\"Error\"),\"???????????????\",\"\"&F321)","v":"???????????????"}]
[{"$f":"IF('GL Template'!B336<>\"\",'GL Template'!B336,0)","v":0},{"$f":"IF('GL Template'!D336<>\"\",'GL Template'!D336,0)","v":0},"Error",null,null,null,null,null,null,null,null,null,null,{"$f":"IF(OR(LEFT('Web Links'!$C322,2)=\"In\",$C322=\"Error\"),\"?????\",\"\"&C322)","v":"?????"},{"$f":"IF(OR(LEFT('Web Links'!$C322,2)=\"In\",$C322=\"Error\"),\"??????????\",\"\"&D322)","v":"??????????"},{"$f":"IF(OR(LEFT('Web Links'!$C322,2)=\"In\",$C322=\"Error\"),\"???\",IF(LEN(E322)=2,\"0\",IF(LEN(E322)=1,\"00\",\"\")))&'Web Links'!E322","v":"???"},{"$f":"IF(OR(LEFT('Web Links'!$C322,2)=\"In\",$C322=\"Error\"),\"?????\",IF(LEN(G322)=4,\"\",IF(LEN(G322)=3,\"\",IF(LEN(G322)=2,\"\",IF(LEN(G322)=1,\"\",\"\"))))&'Web Links'!G322)","v":"?????"},{"$f":"IF(OR(LEFT('Web Links'!$C322,2)=\"In\",$C322=\"Error\"),\"???????????????\",\"\"&F322)","v":"???????????????"}]
[{"$f":"IF('GL Template'!B337<>\"\",'GL Template'!B337,0)","v":0},{"$f":"IF('GL Template'!D337<>\"\",'GL Template'!D337,0)","v":0},"Error",null,null,null,null,null,null,null,null,null,null,{"$f":"IF(OR(LEFT('Web Links'!$C323,2)=\"In\",$C323=\"Error\"),\"?????\",\"\"&C323)","v":"?????"},{"$f":"IF(OR(LEFT('Web Links'!$C323,2)=\"In\",$C323=\"Error\"),\"??????????\",\"\"&D323)","v":"??????????"},{"$f":"IF(OR(LEFT('Web Links'!$C323,2)=\"In\",$C323=\"Error\"),\"???\",IF(LEN(E323)=2,\"0\",IF(LEN(E323)=1,\"00\",\"\")))&'Web Links'!E323","v":"???"},{"$f":"IF(OR(LEFT('Web Links'!$C323,2)=\"In\",$C323=\"Error\"),\"?????\",IF(LEN(G323)=4,\"\",IF(LEN(G323)=3,\"\",IF(LEN(G323)=2,\"\",IF(LEN(G323)=1,\"\",\"\"))))&'Web Links'!G323)","v":"?????"},{"$f":"IF(OR(LEFT('Web Links'!$C323,2)=\"In\",$C323=\"Error\"),\"???????????????\",\"\"&F323)","v":"???????????????"}]
[{"$f":"IF('GL Template'!B338<>\"\",'GL Template'!B338,0)","v":0},{"$f":"IF('GL Template'!D338<>\"\",'GL Template'!D338,0)","v":0},"Error",null,null,null,null,null,null,null,null,null,null,{"$f":"IF(OR(LEFT('Web Links'!$C324,2)=\"In\",$C324=\"Error\"),\"?????\",\"\"&C324)","v":"?????"},{"$f":"IF(OR(LEFT('Web Links'!$C324,2)=\"In\",$C324=\"Error\"),\"??????????\",\"\"&D324)","v":"??????????"},{"$f":"IF(OR(LEFT('Web Links'!$C324,2)=\"In\",$C324=\"Error\"),\"???\",IF(LEN(E324)=2,\"0\",IF(LEN(E324)=1,\"00\",\"\")))&'Web Links'!E324","v":"???"},{"$f":"IF(OR(LEFT('Web Links'!$C324,2)=\"In\",$C324=\"Error\"),\"?????\",IF(LEN(G324)=4,\"\",IF(LEN(G324)=3,\"\",IF(LEN(G324)=2,\"\",IF(LEN(G324)=1,\"\",\"\"))))&'Web Links'!G324)","v":"?????"},{"$f":"IF(OR(LEFT('Web Links'!$C324,2)=\"In\",$C324=\"Error\"),\"???????????????\",\"\"&F324)","v":"???????????????"}]
[{"$f":"IF('GL Template'!B339<>\"\",'GL Template'!B339,0)","v":0},{"$f":"IF('GL Template'!D339<>\"\",'GL Template'!D339,0)","v":0},"Error",null,null,null,null,null,null,null,null,null,null,{"$f":"IF(OR(LEFT('Web Links'!$C325,2)=\"In\",$C325=\"Error\"),\"?????\",\"\"&C325)","v":"?????"},{"$f":"IF(OR(LEFT('Web Links'!$C325,2)=\"In\",$C325=\"Error\"),\"??????????\",\"\"&D325)","v":"??????????"},{"$f":"IF(OR(LEFT('Web Links'!$C325,2)=\"In\",$C325=\"Error\"),\"???\",IF(LEN(E325)=2,\"0\",IF(LEN(E325)=1,\"00\",\"\")))&'Web Links'!E325","v":"???"},{"$f":"IF(OR(LEFT('Web Links'!$C325,2)=\"In\",$C325=\"Error\"),\"?????\",IF(LEN(G325)=4,\"\",IF(LEN(G325)=3,\"\",IF(LEN(G325)=2,\"\",IF(LEN(G325)=1,\"\",\"\"))))&'Web Links'!G325)","v":"?????"},{"$f":"IF(OR(LEFT('Web Links'!$C325,2)=\"In\",$C325=\"Error\"),\"???????????????\",\"\"&F325)","v":"???????????????"}]
[{"$f":"IF('GL Template'!B340<>\"\",'GL Template'!B340,0)","v":0},{"$f":"IF('GL Template'!D340<>\"\",'GL Template'!D340,0)","v":0},"Error",null,null,null,null,null,null,null,null,null,null,{"$f":"IF(OR(LEFT('Web Links'!$C326,2)=\"In\",$C326=\"Error\"),\"?????\",\"\"&C326)","v":"?????"},{"$f":"IF(OR(LEFT('Web Links'!$C326,2)=\"In\",$C326=\"Error\"),\"??????????\",\"\"&D326)","v":"??????????"},{"$f":"IF(OR(LEFT('Web Links'!$C326,2)=\"In\",$C326=\"Error\"),\"???\",IF(LEN(E326)=2,\"0\",IF(LEN(E326)=1,\"00\",\"\")))&'Web Links'!E326","v":"???"},{"$f":"IF(OR(LEFT('Web Links'!$C326,2)=\"In\",$C326=\"Error\"),\"?????\",IF(LEN(G326)=4,\"\",IF(LEN(G326)=3,\"\",IF(LEN(G326)=2,\"\",IF(LEN(G326)=1,\"\",\"\"))))&'Web Links'!G326)","v":"?????"},{"$f":"IF(OR(LEFT('Web Links'!$C326,2)=\"In\",$C326=\"Error\"),\"???????????????\",\"\"&F326)","v":"???????????????"}]
[{"$f":"IF('GL Template'!B341<>\"\",'GL Template'!B341,0)","v":0},{"$f":"IF('GL Template'!D341<>\"\",'GL Template'!D341,0)","v":0},"Error",null,null,null,null,null,null,null,null,null,null,{"$f":"IF(OR(LEFT('Web Links'!$C327,2)=\"In\",$C327=\"Error\"),\"?????\",\"\"&C327)","v":"?????"},{"$f":"IF(OR(LEFT('Web Links'!$C327,2)=\"In\",$C327=\"Error\"),\"??????????\",\"\"&D327)","v":"??????????"},{"$f":"IF(OR(LEFT('Web Links'!$C327,2)=\"In\",$C327=\"Error\"),\"???\",IF(LEN(E327)=2,\"0\",IF(LEN(E327)=1,\"00\",\"\")))&'Web Links'!E327","v":"???"},{"$f":"IF(OR(LEFT('Web Links'!$C327,2)=\"In\",$C327=\"Error\"),\"?????\",IF(LEN(G327)=4,\"\",IF(LEN(G327)=3,\"\",IF(LEN(G327)=2,\"\",IF(LEN(G327)=1,\"\",\"\"))))&'Web Links'!G327)","v":"?????"},{"$f":"IF(OR(LEFT('Web Links'!$C327,2)=\"In\",$C327=\"Error\"),\"???????????????\",\"\"&F327)","v":"???????????????"}]
[{"$f":"IF('GL Template'!B342<>\"\",'GL Template'!B342,0)","v":0},{"$f":"IF('GL Template'!D342<>\"\",'GL Template'!D342,0)","v":0},"Error",null,null,null,null,null,null,null,null,null,null,{"$f":"IF(OR(LEFT('Web Links'!$C328,2)=\"In\",$C328=\"Error\"),\"?????\",\"\"&C328)","v":"?????"},{"$f":"IF(OR(LEFT('Web Links'!$C328,2)=\"In\",$C328=\"Error\"),\"??????????\",\"\"&D328)","v":"??????????"},{"$f":"IF(OR(LEFT('Web Links'!$C328,2)=\"In\",$C328=\"Error\"),\"???\",IF(LEN(E328)=2,\"0\",IF(LEN(E328)=1,\"00\",\"\")))&'Web Links'!E328","v":"???"},{"$f":"IF(OR(LEFT('Web Links'!$C328,2)=\"In\",$C328=\"Error\"),\"?????\",IF(LEN(G328)=4,\"\",IF(LEN(G328)=3,\"\",IF(LEN(G328)=2,\"\",IF(LEN(G328)=1,\"\",\"\"))))&'Web Links'!G328)","v":"?????"},{"$f":"IF(OR(LEFT('Web Links'!$C328,2)=\"In\",$C328=\"Error\"),\"???????????????\",\"\"&F328)","v":"???????????????"}]
[{"$f":"IF('GL Template'!B343<>\"\",'GL Template'!B343,0)","v":0},{"$f":"IF('GL Template'!D343<>\"\",'GL Template'!D343,0)","v":0},"Error",null,null,null,null,null,null,null,null,null,null,{"$f":"IF(OR(LEFT('Web Links'!$C329,2)=\"In\",$C329=\"Error\"),\"?????\",\"\"&C329)","v":"?????"},{"$f":"IF(OR(LEFT('Web Links'!$C329,2)=\"In\",$C329=\"Error\"),\"??????????\",\"\"&D329)","v":"??????????"},{"$f":"IF(OR(LEFT('Web Links'!$C329,2)=\"In\",$C329=\"Error\"),\"???\",IF(LEN(E329)=2,\"0\",IF(LEN(E329)=1,\"00\",\"\")))&'Web Links'!E329","v":"???"},{"$f":"IF(OR(LEFT('Web Links'!$C329,2)=\"In\",$C329=\"Error\"),\"?????\",IF(LEN(G329)=4,\"\",IF(LEN(G329)=3,\"\",IF(LEN(G329)=2,\"\",IF(LEN(G329)=1,\"\",\"\"))))&'Web Links'!G329)","v":"?????"},{"$f":"IF(OR(LEFT('Web Links'!$C329,2)=\"In\",$C329=\"Error\"),\"???????????????\",\"\"&F329)","v":"???????????????"}]
[{"$f":"IF('GL Template'!B344<>\"\",'GL Template'!B344,0)","v":0},{"$f":"IF('GL Template'!D344<>\"\",'GL Template'!D344,0)","v":0},"Error",null,null,null,null,null,null,null,null,null,null,{"$f":"IF(OR(LEFT('Web Links'!$C330,2)=\"In\",$C330=\"Error\"),\"?????\",\"\"&C330)","v":"?????"},{"$f":"IF(OR(LEFT('Web Links'!$C330,2)=\"In\",$C330=\"Error\"),\"??????????\",\"\"&D330)","v":"??????????"},{"$f":"IF(OR(LEFT('Web Links'!$C330,2)=\"In\",$C330=\"Error\"),\"???\",IF(LEN(E330)=2,\"0\",IF(LEN(E330)=1,\"00\",\"\")))&'Web Links'!E330","v":"???"},{"$f":"IF(OR(LEFT('Web Links'!$C330,2)=\"In\",$C330=\"Error\"),\"?????\",IF(LEN(G330)=4,\"\",IF(LEN(G330)=3,\"\",IF(LEN(G330)=2,\"\",IF(LEN(G330)=1,\"\",\"\"))))&'Web Links'!G330)","v":"?????"},{"$f":"IF(OR(LEFT('Web Links'!$C330,2)=\"In\",$C330=\"Error\"),\"???????????????\",\"\"&F330)","v":"???????????????"}]
[{"$f":"IF('GL Template'!B345<>\"\",'GL Template'!B345,0)","v":0},{"$f":"IF('GL Template'!D345<>\"\",'GL Template'!D345,0)","v":0},"Error",null,null,null,null,null,null,null,null,null,null,{"$f":"IF(OR(LEFT('Web Links'!$C331,2)=\"In\",$C331=\"Error\"),\"?????\",\"\"&C331)","v":"?????"},{"$f":"IF(OR(LEFT('Web Links'!$C331,2)=\"In\",$C331=\"Error\"),\"??????????\",\"\"&D331)","v":"??????????"},{"$f":"IF(OR(LEFT('Web Links'!$C331,2)=\"In\",$C331=\"Error\"),\"???\",IF(LEN(E331)=2,\"0\",IF(LEN(E331)=1,\"00\",\"\")))&'Web Links'!E331","v":"???"},{"$f":"IF(OR(LEFT('Web Links'!$C331,2)=\"In\",$C331=\"Error\"),\"?????\",IF(LEN(G331)=4,\"\",IF(LEN(G331)=3,\"\",IF(LEN(G331)=2,\"\",IF(LEN(G331)=1,\"\",\"\"))))&'Web Links'!G331)","v":"?????"},{"$f":"IF(OR(LEFT('Web Links'!$C331,2)=\"In\",$C331=\"Error\"),\"???????????????\",\"\"&F331)","v":"???????????????"}]
[{"$f":"IF('GL Template'!B346<>\"\",'GL Template'!B346,0)","v":0},{"$f":"IF('GL Template'!D346<>\"\",'GL Template'!D346,0)","v":0},"Error",null,null,null,null,null,null,null,null,null,null,{"$f":"IF(OR(LEFT('Web Links'!$C332,2)=\"In\",$C332=\"Error\"),\"?????\",\"\"&C332)","v":"?????"},{"$f":"IF(OR(LEFT('Web Links'!$C332,2)=\"In\",$C332=\"Error\"),\"??????????\",\"\"&D332)","v":"??????????"},{"$f":"IF(OR(LEFT('Web Links'!$C332,2)=\"In\",$C332=\"Error\"),\"???\",IF(LEN(E332)=2,\"0\",IF(LEN(E332)=1,\"00\",\"\")))&'Web Links'!E332","v":"???"},{"$f":"IF(OR(LEFT('Web Links'!$C332,2)=\"In\",$C332=\"Error\"),\"?????\",IF(LEN(G332)=4,\"\",IF(LEN(G332)=3,\"\",IF(LEN(G332)=2,\"\",IF(LEN(G332)=1,\"\",\"\"))))&'Web Links'!G332)","v":"?????"},{"$f":"IF(OR(LEFT('Web Links'!$C332,2)=\"In\",$C332=\"Error\"),\"???????????????\",\"\"&F332)","v":"???????????????"}]
[{"$f":"IF('GL Template'!B347<>\"\",'GL Template'!B347,0)","v":0},{"$f":"IF('GL Template'!D347<>\"\",'GL Template'!D347,0)","v":0},"Error",null,null,null,null,null,null,null,null,null,null,{"$f":"IF(OR(LEFT('Web Links'!$C333,2)=\"In\",$C333=\"Error\"),\"?????\",\"\"&C333)","v":"?????"},{"$f":"IF(OR(LEFT('Web Links'!$C333,2)=\"In\",$C333=\"Error\"),\"??????????\",\"\"&D333)","v":"??????????"},{"$f":"IF(OR(LEFT('Web Links'!$C333,2)=\"In\",$C333=\"Error\"),\"???\",IF(LEN(E333)=2,\"0\",IF(LEN(E333)=1,\"00\",\"\")))&'Web Links'!E333","v":"???"},{"$f":"IF(OR(LEFT('Web Links'!$C333,2)=\"In\",$C333=\"Error\"),\"?????\",IF(LEN(G333)=4,\"\",IF(LEN(G333)=3,\"\",IF(LEN(G333)=2,\"\",IF(LEN(G333)=1,\"\",\"\"))))&'Web Links'!G333)","v":"?????"},{"$f":"IF(OR(LEFT('Web Links'!$C333,2)=\"In\",$C333=\"Error\"),\"???????????????\",\"\"&F333)","v":"???????????????"}]
[{"$f":"IF('GL Template'!B348<>\"\",'GL Template'!B348,0)","v":0},{"$f":"IF('GL Template'!D348<>\"\",'GL Template'!D348,0)","v":0},"Error",null,null,null,null,null,null,null,null,null,null,{"$f":"IF(OR(LEFT('Web Links'!$C334,2)=\"In\",$C334=\"Error\"),\"?????\",\"\"&C334)","v":"?????"},{"$f":"IF(OR(LEFT('Web Links'!$C334,2)=\"In\",$C334=\"Error\"),\"??????????\",\"\"&D334)","v":"??????????"},{"$f":"IF(OR(LEFT('Web Links'!$C334,2)=\"In\",$C334=\"Error\"),\"???\",IF(LEN(E334)=2,\"0\",IF(LEN(E334)=1,\"00\",\"\")))&'Web Links'!E334","v":"???"},{"$f":"IF(OR(LEFT('Web Links'!$C334,2)=\"In\",$C334=\"Error\"),\"?????\",IF(LEN(G334)=4,\"\",IF(LEN(G334)=3,\"\",IF(LEN(G334)=2,\"\",IF(LEN(G334)=1,\"\",\"\"))))&'Web Links'!G334)","v":"?????"},{"$f":"IF(OR(LEFT('Web Links'!$C334,2)=\"In\",$C334=\"Error\"),\"???????????????\",\"\"&F334)","v":"???????????????"}]
[{"$f":"IF('GL Template'!B349<>\"\",'GL Template'!B349,0)","v":0},{"$f":"IF('GL Template'!D349<>\"\",'GL Template'!D349,0)","v":0},"Error",null,null,null,null,null,null,null,null,null,null,{"$f":"IF(OR(LEFT('Web Links'!$C335,2)=\"In\",$C335=\"Error\"),\"?????\",\"\"&C335)","v":"?????"},{"$f":"IF(OR(LEFT('Web Links'!$C335,2)=\"In\",$C335=\"Error\"),\"??????????\",\"\"&D335)","v":"??????????"},{"$f":"IF(OR(LEFT('Web Links'!$C335,2)=\"In\",$C335=\"Error\"),\"???\",IF(LEN(E335)=2,\"0\",IF(LEN(E335)=1,\"00\",\"\")))&'Web Links'!E335","v":"???"},{"$f":"IF(OR(LEFT('Web Links'!$C335,2)=\"In\",$C335=\"Error\"),\"?????\",IF(LEN(G335)=4,\"\",IF(LEN(G335)=3,\"\",IF(LEN(G335)=2,\"\",IF(LEN(G335)=1,\"\",\"\"))))&'Web Links'!G335)","v":"?????"},{"$f":"IF(OR(LEFT('Web Links'!$C335,2)=\"In\",$C335=\"Error\"),\"???????????????\",\"\"&F335)","v":"???????????????"}]
[{"$f":"IF('GL Template'!B350<>\"\",'GL Template'!B350,0)","v":0},{"$f":"IF('GL Template'!D350<>\"\",'GL Template'!D350,0)","v":0},"Error",null,null,null,null,null,null,null,null,null,null,{"$f":"IF(OR(LEFT('Web Links'!$C336,2)=\"In\",$C336=\"Error\"),\"?????\",\"\"&C336)","v":"?????"},{"$f":"IF(OR(LEFT('Web Links'!$C336,2)=\"In\",$C336=\"Error\"),\"??????????\",\"\"&D336)","v":"??????????"},{"$f":"IF(OR(LEFT('Web Links'!$C336,2)=\"In\",$C336=\"Error\"),\"???\",IF(LEN(E336)=2,\"0\",IF(LEN(E336)=1,\"00\",\"\")))&'Web Links'!E336","v":"???"},{"$f":"IF(OR(LEFT('Web Links'!$C336,2)=\"In\",$C336=\"Error\"),\"?????\",IF(LEN(G336)=4,\"\",IF(LEN(G336)=3,\"\",IF(LEN(G336)=2,\"\",IF(LEN(G336)=1,\"\",\"\"))))&'Web Links'!G336)","v":"?????"},{"$f":"IF(OR(LEFT('Web Links'!$C336,2)=\"In\",$C336=\"Error\"),\"???????????????\",\"\"&F336)","v":"???????????????"}]
[{"$f":"IF('GL Template'!B351<>\"\",'GL Template'!B351,0)","v":0},{"$f":"IF('GL Template'!D351<>\"\",'GL Template'!D351,0)","v":0},"Error",null,null,null,null,null,null,null,null,null,null,{"$f":"IF(OR(LEFT('Web Links'!$C337,2)=\"In\",$C337=\"Error\"),\"?????\",\"\"&C337)","v":"?????"},{"$f":"IF(OR(LEFT('Web Links'!$C337,2)=\"In\",$C337=\"Error\"),\"??????????\",\"\"&D337)","v":"??????????"},{"$f":"IF(OR(LEFT('Web Links'!$C337,2)=\"In\",$C337=\"Error\"),\"???\",IF(LEN(E337)=2,\"0\",IF(LEN(E337)=1,\"00\",\"\")))&'Web Links'!E337","v":"???"},{"$f":"IF(OR(LEFT('Web Links'!$C337,2)=\"In\",$C337=\"Error\"),\"?????\",IF(LEN(G337)=4,\"\",IF(LEN(G337)=3,\"\",IF(LEN(G337)=2,\"\",IF(LEN(G337)=1,\"\",\"\"))))&'Web Links'!G337)","v":"?????"},{"$f":"IF(OR(LEFT('Web Links'!$C337,2)=\"In\",$C337=\"Error\"),\"???????????????\",\"\"&F337)","v":"???????????????"}]
[{"$f":"IF('GL Template'!B352<>\"\",'GL Template'!B352,0)","v":0},{"$f":"IF('GL Template'!D352<>\"\",'GL Template'!D352,0)","v":0},"Error",null,null,null,null,null,null,null,null,null,null,{"$f":"IF(OR(LEFT('Web Links'!$C338,2)=\"In\",$C338=\"Error\"),\"?????\",\"\"&C338)","v":"?????"},{"$f":"IF(OR(LEFT('Web Links'!$C338,2)=\"In\",$C338=\"Error\"),\"??????????\",\"\"&D338)","v":"??????????"},{"$f":"IF(OR(LEFT('Web Links'!$C338,2)=\"In\",$C338=\"Error\"),\"???\",IF(LEN(E338)=2,\"0\",IF(LEN(E338)=1,\"00\",\"\")))&'Web Links'!E338","v":"???"},{"$f":"IF(OR(LEFT('Web Links'!$C338,2)=\"In\",$C338=\"Error\"),\"?????\",IF(LEN(G338)=4,\"\",IF(LEN(G338)=3,\"\",IF(LEN(G338)=2,\"\",IF(LEN(G338)=1,\"\",\"\"))))&'Web Links'!G338)","v":"?????"},{"$f":"IF(OR(LEFT('Web Links'!$C338,2)=\"In\",$C338=\"Error\"),\"???????????????\",\"\"&F338)","v":"???????????????"}]
[{"$f":"IF('GL Template'!B353<>\"\",'GL Template'!B353,0)","v":0},{"$f":"IF('GL Template'!D353<>\"\",'GL Template'!D353,0)","v":0},"Error",null,null,null,null,null,null,null,null,null,null,{"$f":"IF(OR(LEFT('Web Links'!$C339,2)=\"In\",$C339=\"Error\"),\"?????\",\"\"&C339)","v":"?????"},{"$f":"IF(OR(LEFT('Web Links'!$C339,2)=\"In\",$C339=\"Error\"),\"??????????\",\"\"&D339)","v":"??????????"},{"$f":"IF(OR(LEFT('Web Links'!$C339,2)=\"In\",$C339=\"Error\"),\"???\",IF(LEN(E339)=2,\"0\",IF(LEN(E339)=1,\"00\",\"\")))&'Web Links'!E339","v":"???"},{"$f":"IF(OR(LEFT('Web Links'!$C339,2)=\"In\",$C339=\"Error\"),\"?????\",IF(LEN(G339)=4,\"\",IF(LEN(G339)=3,\"\",IF(LEN(G339)=2,\"\",IF(LEN(G339)=1,\"\",\"\"))))&'Web Links'!G339)","v":"?????"},{"$f":"IF(OR(LEFT('Web Links'!$C339,2)=\"In\",$C339=\"Error\"),\"???????????????\",\"\"&F339)","v":"???????????????"}]
[{"$f":"IF('GL Template'!B354<>\"\",'GL Template'!B354,0)","v":0},{"$f":"IF('GL Template'!D354<>\"\",'GL Template'!D354,0)","v":0},"Error",null,null,null,null,null,null,null,null,null,null,{"$f":"IF(OR(LEFT('Web Links'!$C340,2)=\"In\",$C340=\"Error\"),\"?????\",\"\"&C340)","v":"?????"},{"$f":"IF(OR(LEFT('Web Links'!$C340,2)=\"In\",$C340=\"Error\"),\"??????????\",\"\"&D340)","v":"??????????"},{"$f":"IF(OR(LEFT('Web Links'!$C340,2)=\"In\",$C340=\"Error\"),\"???\",IF(LEN(E340)=2,\"0\",IF(LEN(E340)=1,\"00\",\"\")))&'Web Links'!E340","v":"???"},{"$f":"IF(OR(LEFT('Web Links'!$C340,2)=\"In\",$C340=\"Error\"),\"?????\",IF(LEN(G340)=4,\"\",IF(LEN(G340)=3,\"\",IF(LEN(G340)=2,\"\",IF(LEN(G340)=1,\"\",\"\"))))&'Web Links'!G340)","v":"?????"},{"$f":"IF(OR(LEFT('Web Links'!$C340,2)=\"In\",$C340=\"Error\"),\"???????????????\",\"\"&F340)","v":"???????????????"}]
[{"$f":"IF('GL Template'!B355<>\"\",'GL Template'!B355,0)","v":0},{"$f":"IF('GL Template'!D355<>\"\",'GL Template'!D355,0)","v":0},"Error",null,null,null,null,null,null,null,null,null,null,{"$f":"IF(OR(LEFT('Web Links'!$C341,2)=\"In\",$C341=\"Error\"),\"?????\",\"\"&C341)","v":"?????"},{"$f":"IF(OR(LEFT('Web Links'!$C341,2)=\"In\",$C341=\"Error\"),\"??????????\",\"\"&D341)","v":"??????????"},{"$f":"IF(OR(LEFT('Web Links'!$C341,2)=\"In\",$C341=\"Error\"),\"???\",IF(LEN(E341)=2,\"0\",IF(LEN(E341)=1,\"00\",\"\")))&'Web Links'!E341","v":"???"},{"$f":"IF(OR(LEFT('Web Links'!$C341,2)=\"In\",$C341=\"Error\"),\"?????\",IF(LEN(G341)=4,\"\",IF(LEN(G341)=3,\"\",IF(LEN(G341)=2,\"\",IF(LEN(G341)=1,\"\",\"\"))))&'Web Links'!G341)","v":"?????"},{"$f":"IF(OR(LEFT('Web Links'!$C341,2)=\"In\",$C341=\"Error\"),\"???????????????\",\"\"&F341)","v":"???????????????"}]
[{"$f":"IF('GL Template'!B356<>\"\",'GL Template'!B356,0)","v":0},{"$f":"IF('GL Template'!D356<>\"\",'GL Template'!D356,0)","v":0},"Error",null,null,null,null,null,null,null,null,null,null,{"$f":"IF(OR(LEFT('Web Links'!$C342,2)=\"In\",$C342=\"Error\"),\"?????\",\"\"&C342)","v":"?????"},{"$f":"IF(OR(LEFT('Web Links'!$C342,2)=\"In\",$C342=\"Error\"),\"??????????\",\"\"&D342)","v":"??????????"},{"$f":"IF(OR(LEFT('Web Links'!$C342,2)=\"In\",$C342=\"Error\"),\"???\",IF(LEN(E342)=2,\"0\",IF(LEN(E342)=1,\"00\",\"\")))&'Web Links'!E342","v":"???"},{"$f":"IF(OR(LEFT('Web Links'!$C342,2)=\"In\",$C342=\"Error\"),\"?????\",IF(LEN(G342)=4,\"\",IF(LEN(G342)=3,\"\",IF(LEN(G342)=2,\"\",IF(LEN(G342)=1,\"\",\"\"))))&'Web Links'!G342)","v":"?????"},{"$f":"IF(OR(LEFT('Web Links'!$C342,2)=\"In\",$C342=\"Error\"),\"???????????????\",\"\"&F342)","v":"???????????????"}]
[{"$f":"IF('GL Template'!B357<>\"\",'GL Template'!B357,0)","v":0},{"$f":"IF('GL Template'!D357<>\"\",'GL Template'!D357,0)","v":0},"Error",null,null,null,null,null,null,null,null,null,null,{"$f":"IF(OR(LEFT('Web Links'!$C343,2)=\"In\",$C343=\"Error\"),\"?????\",\"\"&C343)","v":"?????"},{"$f":"IF(OR(LEFT('Web Links'!$C343,2)=\"In\",$C343=\"Error\"),\"??????????\",\"\"&D343)","v":"??????????"},{"$f":"IF(OR(LEFT('Web Links'!$C343,2)=\"In\",$C343=\"Error\"),\"???\",IF(LEN(E343)=2,\"0\",IF(LEN(E343)=1,\"00\",\"\")))&'Web Links'!E343","v":"???"},{"$f":"IF(OR(LEFT('Web Links'!$C343,2)=\"In\",$C343=\"Error\"),\"?????\",IF(LEN(G343)=4,\"\",IF(LEN(G343)=3,\"\",IF(LEN(G343)=2,\"\",IF(LEN(G343)=1,\"\",\"\"))))&'Web Links'!G343)","v":"?????"},{"$f":"IF(OR(LEFT('Web Links'!$C343,2)=\"In\",$C343=\"Error\"),\"???????????????\",\"\"&F343)","v":"???????????????"}]
[{"$f":"IF('GL Template'!B358<>\"\",'GL Template'!B358,0)","v":0},{"$f":"IF('GL Template'!D358<>\"\",'GL Template'!D358,0)","v":0},"Error",null,null,null,null,null,null,null,null,null,null,{"$f":"IF(OR(LEFT('Web Links'!$C344,2)=\"In\",$C344=\"Error\"),\"?????\",\"\"&C344)","v":"?????"},{"$f":"IF(OR(LEFT('Web Links'!$C344,2)=\"In\",$C344=\"Error\"),\"??????????\",\"\"&D344)","v":"??????????"},{"$f":"IF(OR(LEFT('Web Links'!$C344,2)=\"In\",$C344=\"Error\"),\"???\",IF(LEN(E344)=2,\"0\",IF(LEN(E344)=1,\"00\",\"\")))&'Web Links'!E344","v":"???"},{"$f":"IF(OR(LEFT('Web Links'!$C344,2)=\"In\",$C344=\"Error\"),\"?????\",IF(LEN(G344)=4,\"\",IF(LEN(G344)=3,\"\",IF(LEN(G344)=2,\"\",IF(LEN(G344)=1,\"\",\"\"))))&'Web Links'!G344)","v":"?????"},{"$f":"IF(OR(LEFT('Web Links'!$C344,2)=\"In\",$C344=\"Error\"),\"???????????????\",\"\"&F344)","v":"???????????????"}]
[{"$f":"IF('GL Template'!B359<>\"\",'GL Template'!B359,0)","v":0},{"$f":"IF('GL Template'!D359<>\"\",'GL Template'!D359,0)","v":0},"Error",null,null,null,null,null,null,null,null,null,null,{"$f":"IF(OR(LEFT('Web Links'!$C345,2)=\"In\",$C345=\"Error\"),\"?????\",\"\"&C345)","v":"?????"},{"$f":"IF(OR(LEFT('Web Links'!$C345,2)=\"In\",$C345=\"Error\"),\"??????????\",\"\"&D345)","v":"??????????"},{"$f":"IF(OR(LEFT('Web Links'!$C345,2)=\"In\",$C345=\"Error\"),\"???\",IF(LEN(E345)=2,\"0\",IF(LEN(E345)=1,\"00\",\"\")))&'Web Links'!E345","v":"???"},{"$f":"IF(OR(LEFT('Web Links'!$C345,2)=\"In\",$C345=\"Error\"),\"?????\",IF(LEN(G345)=4,\"\",IF(LEN(G345)=3,\"\",IF(LEN(G345)=2,\"\",IF(LEN(G345)=1,\"\",\"\"))))&'Web Links'!G345)","v":"?????"},{"$f":"IF(OR(LEFT('Web Links'!$C345,2)=\"In\",$C345=\"Error\"),\"???????????????\",\"\"&F345)","v":"???????????????"}]
[{"$f":"IF('GL Template'!B360<>\"\",'GL Template'!B360,0)","v":0},{"$f":"IF('GL Template'!D360<>\"\",'GL Template'!D360,0)","v":0},"Error",null,null,null,null,null,null,null,null,null,null,{"$f":"IF(OR(LEFT('Web Links'!$C346,2)=\"In\",$C346=\"Error\"),\"?????\",\"\"&C346)","v":"?????"},{"$f":"IF(OR(LEFT('Web Links'!$C346,2)=\"In\",$C346=\"Error\"),\"??????????\",\"\"&D346)","v":"??????????"},{"$f":"IF(OR(LEFT('Web Links'!$C346,2)=\"In\",$C346=\"Error\"),\"???\",IF(LEN(E346)=2,\"0\",IF(LEN(E346)=1,\"00\",\"\")))&'Web Links'!E346","v":"???"},{"$f":"IF(OR(LEFT('Web Links'!$C346,2)=\"In\",$C346=\"Error\"),\"?????\",IF(LEN(G346)=4,\"\",IF(LEN(G346)=3,\"\",IF(LEN(G346)=2,\"\",IF(LEN(G346)=1,\"\",\"\"))))&'Web Links'!G346)","v":"?????"},{"$f":"IF(OR(LEFT('Web Links'!$C346,2)=\"In\",$C346=\"Error\"),\"???????????????\",\"\"&F346)","v":"???????????????"}]
[{"$f":"IF('GL Template'!B361<>\"\",'GL Template'!B361,0)","v":0},{"$f":"IF('GL Template'!D361<>\"\",'GL Template'!D361,0)","v":0},"Error",null,null,null,null,null,null,null,null,null,null,{"$f":"IF(OR(LEFT('Web Links'!$C347,2)=\"In\",$C347=\"Error\"),\"?????\",\"\"&C347)","v":"?????"},{"$f":"IF(OR(LEFT('Web Links'!$C347,2)=\"In\",$C347=\"Error\"),\"??????????\",\"\"&D347)","v":"??????????"},{"$f":"IF(OR(LEFT('Web Links'!$C347,2)=\"In\",$C347=\"Error\"),\"???\",IF(LEN(E347)=2,\"0\",IF(LEN(E347)=1,\"00\",\"\")))&'Web Links'!E347","v":"???"},{"$f":"IF(OR(LEFT('Web Links'!$C347,2)=\"In\",$C347=\"Error\"),\"?????\",IF(LEN(G347)=4,\"\",IF(LEN(G347)=3,\"\",IF(LEN(G347)=2,\"\",IF(LEN(G347)=1,\"\",\"\"))))&'Web Links'!G347)","v":"?????"},{"$f":"IF(OR(LEFT('Web Links'!$C347,2)=\"In\",$C347=\"Error\"),\"???????????????\",\"\"&F347)","v":"???????????????"}]
[{"$f":"IF('GL Template'!B362<>\"\",'GL Template'!B362,0)","v":0},{"$f":"IF('GL Template'!D362<>\"\",'GL Template'!D362,0)","v":0},"Error",null,null,null,null,null,null,null,null,null,null,{"$f":"IF(OR(LEFT('Web Links'!$C348,2)=\"In\",$C348=\"Error\"),\"?????\",\"\"&C348)","v":"?????"},{"$f":"IF(OR(LEFT('Web Links'!$C348,2)=\"In\",$C348=\"Error\"),\"??????????\",\"\"&D348)","v":"??????????"},{"$f":"IF(OR(LEFT('Web Links'!$C348,2)=\"In\",$C348=\"Error\"),\"???\",IF(LEN(E348)=2,\"0\",IF(LEN(E348)=1,\"00\",\"\")))&'Web Links'!E348","v":"???"},{"$f":"IF(OR(LEFT('Web Links'!$C348,2)=\"In\",$C348=\"Error\"),\"?????\",IF(LEN(G348)=4,\"\",IF(LEN(G348)=3,\"\",IF(LEN(G348)=2,\"\",IF(LEN(G348)=1,\"\",\"\"))))&'Web Links'!G348)","v":"?????"},{"$f":"IF(OR(LEFT('Web Links'!$C348,2)=\"In\",$C348=\"Error\"),\"???????????????\",\"\"&F348)","v":"???????????????"}]
[{"$f":"IF('GL Template'!B363<>\"\",'GL Template'!B363,0)","v":0},{"$f":"IF('GL Template'!D363<>\"\",'GL Template'!D363,0)","v":0},"Error",null,null,null,null,null,null,null,null,null,null,{"$f":"IF(OR(LEFT('Web Links'!$C349,2)=\"In\",$C349=\"Error\"),\"?????\",\"\"&C349)","v":"?????"},{"$f":"IF(OR(LEFT('Web Links'!$C349,2)=\"In\",$C349=\"Error\"),\"??????????\",\"\"&D349)","v":"??????????"},{"$f":"IF(OR(LEFT('Web Links'!$C349,2)=\"In\",$C349=\"Error\"),\"???\",IF(LEN(E349)=2,\"0\",IF(LEN(E349)=1,\"00\",\"\")))&'Web Links'!E349","v":"???"},{"$f":"IF(OR(LEFT('Web Links'!$C349,2)=\"In\",$C349=\"Error\"),\"?????\",IF(LEN(G349)=4,\"\",IF(LEN(G349)=3,\"\",IF(LEN(G349)=2,\"\",IF(LEN(G349)=1,\"\",\"\"))))&'Web Links'!G349)","v":"?????"},{"$f":"IF(OR(LEFT('Web Links'!$C349,2)=\"In\",$C349=\"Error\"),\"???????????????\",\"\"&F349)","v":"???????????????"}]
[{"$f":"IF('GL Template'!B364<>\"\",'GL Template'!B364,0)","v":0},{"$f":"IF('GL Template'!D364<>\"\",'GL Template'!D364,0)","v":0},"Error",null,null,null,null,null,null,null,null,null,null,{"$f":"IF(OR(LEFT('Web Links'!$C350,2)=\"In\",$C350=\"Error\"),\"?????\",\"\"&C350)","v":"?????"},{"$f":"IF(OR(LEFT('Web Links'!$C350,2)=\"In\",$C350=\"Error\"),\"??????????\",\"\"&D350)","v":"??????????"},{"$f":"IF(OR(LEFT('Web Links'!$C350,2)=\"In\",$C350=\"Error\"),\"???\",IF(LEN(E350)=2,\"0\",IF(LEN(E350)=1,\"00\",\"\")))&'Web Links'!E350","v":"???"},{"$f":"IF(OR(LEFT('Web Links'!$C350,2)=\"In\",$C350=\"Error\"),\"?????\",IF(LEN(G350)=4,\"\",IF(LEN(G350)=3,\"\",IF(LEN(G350)=2,\"\",IF(LEN(G350)=1,\"\",\"\"))))&'Web Links'!G350)","v":"?????"},{"$f":"IF(OR(LEFT('Web Links'!$C350,2)=\"In\",$C350=\"Error\"),\"???????????????\",\"\"&F350)","v":"???????????????"}]
[{"$f":"IF('GL Template'!B365<>\"\",'GL Template'!B365,0)","v":0},{"$f":"IF('GL Template'!D365<>\"\",'GL Template'!D365,0)","v":0},"Error",null,null,null,null,null,null,null,null,null,null,{"$f":"IF(OR(LEFT('Web Links'!$C351,2)=\"In\",$C351=\"Error\"),\"?????\",\"\"&C351)","v":"?????"},{"$f":"IF(OR(LEFT('Web Links'!$C351,2)=\"In\",$C351=\"Error\"),\"??????????\",\"\"&D351)","v":"??????????"},{"$f":"IF(OR(LEFT('Web Links'!$C351,2)=\"In\",$C351=\"Error\"),\"???\",IF(LEN(E351)=2,\"0\",IF(LEN(E351)=1,\"00\",\"\")))&'Web Links'!E351","v":"???"},{"$f":"IF(OR(LEFT('Web Links'!$C351,2)=\"In\",$C351=\"Error\"),\"?????\",IF(LEN(G351)=4,\"\",IF(LEN(G351)=3,\"\",IF(LEN(G351)=2,\"\",IF(LEN(G351)=1,\"\",\"\"))))&'Web Links'!G351)","v":"?????"},{"$f":"IF(OR(LEFT('Web Links'!$C351,2)=\"In\",$C351=\"Error\"),\"???????????????\",\"\"&F351)","v":"???????????????"}]
[{"$f":"IF('GL Template'!B366<>\"\",'GL Template'!B366,0)","v":0},{"$f":"IF('GL Template'!D366<>\"\",'GL Template'!D366,0)","v":0},"Error",null,null,null,null,null,null,null,null,null,null,{"$f":"IF(OR(LEFT('Web Links'!$C352,2)=\"In\",$C352=\"Error\"),\"?????\",\"\"&C352)","v":"?????"},{"$f":"IF(OR(LEFT('Web Links'!$C352,2)=\"In\",$C352=\"Error\"),\"??????????\",\"\"&D352)","v":"??????????"},{"$f":"IF(OR(LEFT('Web Links'!$C352,2)=\"In\",$C352=\"Error\"),\"???\",IF(LEN(E352)=2,\"0\",IF(LEN(E352)=1,\"00\",\"\")))&'Web Links'!E352","v":"???"},{"$f":"IF(OR(LEFT('Web Links'!$C352,2)=\"In\",$C352=\"Error\"),\"?????\",IF(LEN(G352)=4,\"\",IF(LEN(G352)=3,\"\",IF(LEN(G352)=2,\"\",IF(LEN(G352)=1,\"\",\"\"))))&'Web Links'!G352)","v":"?????"},{"$f":"IF(OR(LEFT('Web Links'!$C352,2)=\"In\",$C352=\"Error\"),\"???????????????\",\"\"&F352)","v":"???????????????"}]
[{"$f":"IF('GL Template'!B367<>\"\",'GL Template'!B367,0)","v":0},{"$f":"IF('GL Template'!D367<>\"\",'GL Template'!D367,0)","v":0},"Error",null,null,null,null,null,null,null,null,null,null,{"$f":"IF(OR(LEFT('Web Links'!$C353,2)=\"In\",$C353=\"Error\"),\"?????\",\"\"&C353)","v":"?????"},{"$f":"IF(OR(LEFT('Web Links'!$C353,2)=\"In\",$C353=\"Error\"),\"??????????\",\"\"&D353)","v":"??????????"},{"$f":"IF(OR(LEFT('Web Links'!$C353,2)=\"In\",$C353=\"Error\"),\"???\",IF(LEN(E353)=2,\"0\",IF(LEN(E353)=1,\"00\",\"\")))&'Web Links'!E353","v":"???"},{"$f":"IF(OR(LEFT('Web Links'!$C353,2)=\"In\",$C353=\"Error\"),\"?????\",IF(LEN(G353)=4,\"\",IF(LEN(G353)=3,\"\",IF(LEN(G353)=2,\"\",IF(LEN(G353)=1,\"\",\"\"))))&'Web Links'!G353)","v":"?????"},{"$f":"IF(OR(LEFT('Web Links'!$C353,2)=\"In\",$C353=\"Error\"),\"???????????????\",\"\"&F353)","v":"???????????????"}]
[{"$f":"IF('GL Template'!B368<>\"\",'GL Template'!B368,0)","v":0},{"$f":"IF('GL Template'!D368<>\"\",'GL Template'!D368,0)","v":0},"Error",null,null,null,null,null,null,null,null,null,null,{"$f":"IF(OR(LEFT('Web Links'!$C354,2)=\"In\",$C354=\"Error\"),\"?????\",\"\"&C354)","v":"?????"},{"$f":"IF(OR(LEFT('Web Links'!$C354,2)=\"In\",$C354=\"Error\"),\"??????????\",\"\"&D354)","v":"??????????"},{"$f":"IF(OR(LEFT('Web Links'!$C354,2)=\"In\",$C354=\"Error\"),\"???\",IF(LEN(E354)=2,\"0\",IF(LEN(E354)=1,\"00\",\"\")))&'Web Links'!E354","v":"???"},{"$f":"IF(OR(LEFT('Web Links'!$C354,2)=\"In\",$C354=\"Error\"),\"?????\",IF(LEN(G354)=4,\"\",IF(LEN(G354)=3,\"\",IF(LEN(G354)=2,\"\",IF(LEN(G354)=1,\"\",\"\"))))&'Web Links'!G354)","v":"?????"},{"$f":"IF(OR(LEFT('Web Links'!$C354,2)=\"In\",$C354=\"Error\"),\"???????????????\",\"\"&F354)","v":"???????????????"}]
[{"$f":"IF('GL Template'!B369<>\"\",'GL Template'!B369,0)","v":0},{"$f":"IF('GL Template'!D369<>\"\",'GL Template'!D369,0)","v":0},"Error",null,null,null,null,null,null,null,null,null,null,{"$f":"IF(OR(LEFT('Web Links'!$C355,2)=\"In\",$C355=\"Error\"),\"?????\",\"\"&C355)","v":"?????"},{"$f":"IF(OR(LEFT('Web Links'!$C355,2)=\"In\",$C355=\"Error\"),\"??????????\",\"\"&D355)","v":"??????????"},{"$f":"IF(OR(LEFT('Web Links'!$C355,2)=\"In\",$C355=\"Error\"),\"???\",IF(LEN(E355)=2,\"0\",IF(LEN(E355)=1,\"00\",\"\")))&'Web Links'!E355","v":"???"},{"$f":"IF(OR(LEFT('Web Links'!$C355,2)=\"In\",$C355=\"Error\"),\"?????\",IF(LEN(G355)=4,\"\",IF(LEN(G355)=3,\"\",IF(LEN(G355)=2,\"\",IF(LEN(G355)=1,\"\",\"\"))))&'Web Links'!G355)","v":"?????"},{"$f":"IF(OR(LEFT('Web Links'!$C355,2)=\"In\",$C355=\"Error\"),\"???????????????\",\"\"&F355)","v":"???????????????"}]
[{"$f":"IF('GL Template'!B370<>\"\",'GL Template'!B370,0)","v":0},{"$f":"IF('GL Template'!D370<>\"\",'GL Template'!D370,0)","v":0},"Error",null,null,null,null,null,null,null,null,null,null,{"$f":"IF(OR(LEFT('Web Links'!$C356,2)=\"In\",$C356=\"Error\"),\"?????\",\"\"&C356)","v":"?????"},{"$f":"IF(OR(LEFT('Web Links'!$C356,2)=\"In\",$C356=\"Error\"),\"??????????\",\"\"&D356)","v":"??????????"},{"$f":"IF(OR(LEFT('Web Links'!$C356,2)=\"In\",$C356=\"Error\"),\"???\",IF(LEN(E356)=2,\"0\",IF(LEN(E356)=1,\"00\",\"\")))&'Web Links'!E356","v":"???"},{"$f":"IF(OR(LEFT('Web Links'!$C356,2)=\"In\",$C356=\"Error\"),\"?????\",IF(LEN(G356)=4,\"\",IF(LEN(G356)=3,\"\",IF(LEN(G356)=2,\"\",IF(LEN(G356)=1,\"\",\"\"))))&'Web Links'!G356)","v":"?????"},{"$f":"IF(OR(LEFT('Web Links'!$C356,2)=\"In\",$C356=\"Error\"),\"???????????????\",\"\"&F356)","v":"???????????????"}]
[{"$f":"IF('GL Template'!B371<>\"\",'GL Template'!B371,0)","v":0},{"$f":"IF('GL Template'!D371<>\"\",'GL Template'!D371,0)","v":0},"Error",null,null,null,null,null,null,null,null,null,null,{"$f":"IF(OR(LEFT('Web Links'!$C357,2)=\"In\",$C357=\"Error\"),\"?????\",\"\"&C357)","v":"?????"},{"$f":"IF(OR(LEFT('Web Links'!$C357,2)=\"In\",$C357=\"Error\"),\"??????????\",\"\"&D357)","v":"??????????"},{"$f":"IF(OR(LEFT('Web Links'!$C357,2)=\"In\",$C357=\"Error\"),\"???\",IF(LEN(E357)=2,\"0\",IF(LEN(E357)=1,\"00\",\"\")))&'Web Links'!E357","v":"???"},{"$f":"IF(OR(LEFT('Web Links'!$C357,2)=\"In\",$C357=\"Error\"),\"?????\",IF(LEN(G357)=4,\"\",IF(LEN(G357)=3,\"\",IF(LEN(G357)=2,\"\",IF(LEN(G357)=1,\"\",\"\"))))&'Web Links'!G357)","v":"?????"},{"$f":"IF(OR(LEFT('Web Links'!$C357,2)=\"In\",$C357=\"Error\"),\"???????????????\",\"\"&F357)","v":"???????????????"}]
[{"$f":"IF('GL Template'!B372<>\"\",'GL Template'!B372,0)","v":0},{"$f":"IF('GL Template'!D372<>\"\",'GL Template'!D372,0)","v":0},"Error",null,null,null,null,null,null,null,null,null,null,{"$f":"IF(OR(LEFT('Web Links'!$C358,2)=\"In\",$C358=\"Error\"),\"?????\",\"\"&C358)","v":"?????"},{"$f":"IF(OR(LEFT('Web Links'!$C358,2)=\"In\",$C358=\"Error\"),\"??????????\",\"\"&D358)","v":"??????????"},{"$f":"IF(OR(LEFT('Web Links'!$C358,2)=\"In\",$C358=\"Error\"),\"???\",IF(LEN(E358)=2,\"0\",IF(LEN(E358)=1,\"00\",\"\")))&'Web Links'!E358","v":"???"},{"$f":"IF(OR(LEFT('Web Links'!$C358,2)=\"In\",$C358=\"Error\"),\"?????\",IF(LEN(G358)=4,\"\",IF(LEN(G358)=3,\"\",IF(LEN(G358)=2,\"\",IF(LEN(G358)=1,\"\",\"\"))))&'Web Links'!G358)","v":"?????"},{"$f":"IF(OR(LEFT('Web Links'!$C358,2)=\"In\",$C358=\"Error\"),\"???????????????\",\"\"&F358)","v":"???????????????"}]
[{"$f":"IF('GL Template'!B373<>\"\",'GL Template'!B373,0)","v":0},{"$f":"IF('GL Template'!D373<>\"\",'GL Template'!D373,0)","v":0},"Error",null,null,null,null,null,null,null,null,null,null,{"$f":"IF(OR(LEFT('Web Links'!$C359,2)=\"In\",$C359=\"Error\"),\"?????\",\"\"&C359)","v":"?????"},{"$f":"IF(OR(LEFT('Web Links'!$C359,2)=\"In\",$C359=\"Error\"),\"??????????\",\"\"&D359)","v":"??????????"},{"$f":"IF(OR(LEFT('Web Links'!$C359,2)=\"In\",$C359=\"Error\"),\"???\",IF(LEN(E359)=2,\"0\",IF(LEN(E359)=1,\"00\",\"\")))&'Web Links'!E359","v":"???"},{"$f":"IF(OR(LEFT('Web Links'!$C359,2)=\"In\",$C359=\"Error\"),\"?????\",IF(LEN(G359)=4,\"\",IF(LEN(G359)=3,\"\",IF(LEN(G359)=2,\"\",IF(LEN(G359)=1,\"\",\"\"))))&'Web Links'!G359)","v":"?????"},{"$f":"IF(OR(LEFT('Web Links'!$C359,2)=\"In\",$C359=\"Error\"),\"???????????????\",\"\"&F359)","v":"???????????????"}]
[{"$f":"IF('GL Template'!B374<>\"\",'GL Template'!B374,0)","v":0},{"$f":"IF('GL Template'!D374<>\"\",'GL Template'!D374,0)","v":0},"Error",null,null,null,null,null,null,null,null,null,null,{"$f":"IF(OR(LEFT('Web Links'!$C360,2)=\"In\",$C360=\"Error\"),\"?????\",\"\"&C360)","v":"?????"},{"$f":"IF(OR(LEFT('Web Links'!$C360,2)=\"In\",$C360=\"Error\"),\"??????????\",\"\"&D360)","v":"??????????"},{"$f":"IF(OR(LEFT('Web Links'!$C360,2)=\"In\",$C360=\"Error\"),\"???\",IF(LEN(E360)=2,\"0\",IF(LEN(E360)=1,\"00\",\"\")))&'Web Links'!E360","v":"???"},{"$f":"IF(OR(LEFT('Web Links'!$C360,2)=\"In\",$C360=\"Error\"),\"?????\",IF(LEN(G360)=4,\"\",IF(LEN(G360)=3,\"\",IF(LEN(G360)=2,\"\",IF(LEN(G360)=1,\"\",\"\"))))&'Web Links'!G360)","v":"?????"},{"$f":"IF(OR(LEFT('Web Links'!$C360,2)=\"In\",$C360=\"Error\"),\"???????????????\",\"\"&F360)","v":"???????????????"}]
[{"$f":"IF('GL Template'!B375<>\"\",'GL Template'!B375,0)","v":0},{"$f":"IF('GL Template'!D375<>\"\",'GL Template'!D375,0)","v":0},"Error",null,null,null,null,null,null,null,null,null,null,{"$f":"IF(OR(LEFT('Web Links'!$C361,2)=\"In\",$C361=\"Error\"),\"?????\",\"\"&C361)","v":"?????"},{"$f":"IF(OR(LEFT('Web Links'!$C361,2)=\"In\",$C361=\"Error\"),\"??????????\",\"\"&D361)","v":"??????????"},{"$f":"IF(OR(LEFT('Web Links'!$C361,2)=\"In\",$C361=\"Error\"),\"???\",IF(LEN(E361)=2,\"0\",IF(LEN(E361)=1,\"00\",\"\")))&'Web Links'!E361","v":"???"},{"$f":"IF(OR(LEFT('Web Links'!$C361,2)=\"In\",$C361=\"Error\"),\"?????\",IF(LEN(G361)=4,\"\",IF(LEN(G361)=3,\"\",IF(LEN(G361)=2,\"\",IF(LEN(G361)=1,\"\",\"\"))))&'Web Links'!G361)","v":"?????"},{"$f":"IF(OR(LEFT('Web Links'!$C361,2)=\"In\",$C361=\"Error\"),\"???????????????\",\"\"&F361)","v":"???????????????"}]
[{"$f":"IF('GL Template'!B376<>\"\",'GL Template'!B376,0)","v":0},{"$f":"IF('GL Template'!D376<>\"\",'GL Template'!D376,0)","v":0},"Error",null,null,null,null,null,null,null,null,null,null,{"$f":"IF(OR(LEFT('Web Links'!$C362,2)=\"In\",$C362=\"Error\"),\"?????\",\"\"&C362)","v":"?????"},{"$f":"IF(OR(LEFT('Web Links'!$C362,2)=\"In\",$C362=\"Error\"),\"??????????\",\"\"&D362)","v":"??????????"},{"$f":"IF(OR(LEFT('Web Links'!$C362,2)=\"In\",$C362=\"Error\"),\"???\",IF(LEN(E362)=2,\"0\",IF(LEN(E362)=1,\"00\",\"\")))&'Web Links'!E362","v":"???"},{"$f":"IF(OR(LEFT('Web Links'!$C362,2)=\"In\",$C362=\"Error\"),\"?????\",IF(LEN(G362)=4,\"\",IF(LEN(G362)=3,\"\",IF(LEN(G362)=2,\"\",IF(LEN(G362)=1,\"\",\"\"))))&'Web Links'!G362)","v":"?????"},{"$f":"IF(OR(LEFT('Web Links'!$C362,2)=\"In\",$C362=\"Error\"),\"???????????????\",\"\"&F362)","v":"???????????????"}]
[{"$f":"IF('GL Template'!B377<>\"\",'GL Template'!B377,0)","v":0},{"$f":"IF('GL Template'!D377<>\"\",'GL Template'!D377,0)","v":0},"Error",null,null,null,null,null,null,null,null,null,null,{"$f":"IF(OR(LEFT('Web Links'!$C363,2)=\"In\",$C363=\"Error\"),\"?????\",\"\"&C363)","v":"?????"},{"$f":"IF(OR(LEFT('Web Links'!$C363,2)=\"In\",$C363=\"Error\"),\"??????????\",\"\"&D363)","v":"??????????"},{"$f":"IF(OR(LEFT('Web Links'!$C363,2)=\"In\",$C363=\"Error\"),\"???\",IF(LEN(E363)=2,\"0\",IF(LEN(E363)=1,\"00\",\"\")))&'Web Links'!E363","v":"???"},{"$f":"IF(OR(LEFT('Web Links'!$C363,2)=\"In\",$C363=\"Error\"),\"?????\",IF(LEN(G363)=4,\"\",IF(LEN(G363)=3,\"\",IF(LEN(G363)=2,\"\",IF(LEN(G363)=1,\"\",\"\"))))&'Web Links'!G363)","v":"?????"},{"$f":"IF(OR(LEFT('Web Links'!$C363,2)=\"In\",$C363=\"Error\"),\"???????????????\",\"\"&F363)","v":"???????????????"}]
[{"$f":"IF('GL Template'!B378<>\"\",'GL Template'!B378,0)","v":0},{"$f":"IF('GL Template'!D378<>\"\",'GL Template'!D378,0)","v":0},"Error",null,null,null,null,null,null,null,null,null,null,{"$f":"IF(OR(LEFT('Web Links'!$C364,2)=\"In\",$C364=\"Error\"),\"?????\",\"\"&C364)","v":"?????"},{"$f":"IF(OR(LEFT('Web Links'!$C364,2)=\"In\",$C364=\"Error\"),\"??????????\",\"\"&D364)","v":"??????????"},{"$f":"IF(OR(LEFT('Web Links'!$C364,2)=\"In\",$C364=\"Error\"),\"???\",IF(LEN(E364)=2,\"0\",IF(LEN(E364)=1,\"00\",\"\")))&'Web Links'!E364","v":"???"},{"$f":"IF(OR(LEFT('Web Links'!$C364,2)=\"In\",$C364=\"Error\"),\"?????\",IF(LEN(G364)=4,\"\",IF(LEN(G364)=3,\"\",IF(LEN(G364)=2,\"\",IF(LEN(G364)=1,\"\",\"\"))))&'Web Links'!G364)","v":"?????"},{"$f":"IF(OR(LEFT('Web Links'!$C364,2)=\"In\",$C364=\"Error\"),\"???????????????\",\"\"&F364)","v":"???????????????"}]
[{"$f":"IF('GL Template'!B379<>\"\",'GL Template'!B379,0)","v":0},{"$f":"IF('GL Template'!D379<>\"\",'GL Template'!D379,0)","v":0},"Error",null,null,null,null,null,null,null,null,null,null,{"$f":"IF(OR(LEFT('Web Links'!$C365,2)=\"In\",$C365=\"Error\"),\"?????\",\"\"&C365)","v":"?????"},{"$f":"IF(OR(LEFT('Web Links'!$C365,2)=\"In\",$C365=\"Error\"),\"??????????\",\"\"&D365)","v":"??????????"},{"$f":"IF(OR(LEFT('Web Links'!$C365,2)=\"In\",$C365=\"Error\"),\"???\",IF(LEN(E365)=2,\"0\",IF(LEN(E365)=1,\"00\",\"\")))&'Web Links'!E365","v":"???"},{"$f":"IF(OR(LEFT('Web Links'!$C365,2)=\"In\",$C365=\"Error\"),\"?????\",IF(LEN(G365)=4,\"\",IF(LEN(G365)=3,\"\",IF(LEN(G365)=2,\"\",IF(LEN(G365)=1,\"\",\"\"))))&'Web Links'!G365)","v":"?????"},{"$f":"IF(OR(LEFT('Web Links'!$C365,2)=\"In\",$C365=\"Error\"),\"???????????????\",\"\"&F365)","v":"???????????????"}]
[{"$f":"IF('GL Template'!B380<>\"\",'GL Template'!B380,0)","v":0},{"$f":"IF('GL Template'!D380<>\"\",'GL Template'!D380,0)","v":0},"Error",null,null,null,null,null,null,null,null,null,null,{"$f":"IF(OR(LEFT('Web Links'!$C366,2)=\"In\",$C366=\"Error\"),\"?????\",\"\"&C366)","v":"?????"},{"$f":"IF(OR(LEFT('Web Links'!$C366,2)=\"In\",$C366=\"Error\"),\"??????????\",\"\"&D366)","v":"??????????"},{"$f":"IF(OR(LEFT('Web Links'!$C366,2)=\"In\",$C366=\"Error\"),\"???\",IF(LEN(E366)=2,\"0\",IF(LEN(E366)=1,\"00\",\"\")))&'Web Links'!E366","v":"???"},{"$f":"IF(OR(LEFT('Web Links'!$C366,2)=\"In\",$C366=\"Error\"),\"?????\",IF(LEN(G366)=4,\"\",IF(LEN(G366)=3,\"\",IF(LEN(G366)=2,\"\",IF(LEN(G366)=1,\"\",\"\"))))&'Web Links'!G366)","v":"?????"},{"$f":"IF(OR(LEFT('Web Links'!$C366,2)=\"In\",$C366=\"Error\"),\"???????????????\",\"\"&F366)","v":"???????????????"}]
[{"$f":"IF('GL Template'!B381<>\"\",'GL Template'!B381,0)","v":0},{"$f":"IF('GL Template'!D381<>\"\",'GL Template'!D381,0)","v":0},"Error",null,null,null,null,null,null,null,null,null,null,{"$f":"IF(OR(LEFT('Web Links'!$C367,2)=\"In\",$C367=\"Error\"),\"?????\",\"\"&C367)","v":"?????"},{"$f":"IF(OR(LEFT('Web Links'!$C367,2)=\"In\",$C367=\"Error\"),\"??????????\",\"\"&D367)","v":"??????????"},{"$f":"IF(OR(LEFT('Web Links'!$C367,2)=\"In\",$C367=\"Error\"),\"???\",IF(LEN(E367)=2,\"0\",IF(LEN(E367)=1,\"00\",\"\")))&'Web Links'!E367","v":"???"},{"$f":"IF(OR(LEFT('Web Links'!$C367,2)=\"In\",$C367=\"Error\"),\"?????\",IF(LEN(G367)=4,\"\",IF(LEN(G367)=3,\"\",IF(LEN(G367)=2,\"\",IF(LEN(G367)=1,\"\",\"\"))))&'Web Links'!G367)","v":"?????"},{"$f":"IF(OR(LEFT('Web Links'!$C367,2)=\"In\",$C367=\"Error\"),\"???????????????\",\"\"&F367)","v":"???????????????"}]
[{"$f":"IF('GL Template'!B382<>\"\",'GL Template'!B382,0)","v":0},{"$f":"IF('GL Template'!D382<>\"\",'GL Template'!D382,0)","v":0},"Error",null,null,null,null,null,null,null,null,null,null,{"$f":"IF(OR(LEFT('Web Links'!$C368,2)=\"In\",$C368=\"Error\"),\"?????\",\"\"&C368)","v":"?????"},{"$f":"IF(OR(LEFT('Web Links'!$C368,2)=\"In\",$C368=\"Error\"),\"??????????\",\"\"&D368)","v":"??????????"},{"$f":"IF(OR(LEFT('Web Links'!$C368,2)=\"In\",$C368=\"Error\"),\"???\",IF(LEN(E368)=2,\"0\",IF(LEN(E368)=1,\"00\",\"\")))&'Web Links'!E368","v":"???"},{"$f":"IF(OR(LEFT('Web Links'!$C368,2)=\"In\",$C368=\"Error\"),\"?????\",IF(LEN(G368)=4,\"\",IF(LEN(G368)=3,\"\",IF(LEN(G368)=2,\"\",IF(LEN(G368)=1,\"\",\"\"))))&'Web Links'!G368)","v":"?????"},{"$f":"IF(OR(LEFT('Web Links'!$C368,2)=\"In\",$C368=\"Error\"),\"???????????????\",\"\"&F368)","v":"???????????????"}]
[{"$f":"IF('GL Template'!B383<>\"\",'GL Template'!B383,0)","v":0},{"$f":"IF('GL Template'!D383<>\"\",'GL Template'!D383,0)","v":0},"Error",null,null,null,null,null,null,null,null,null,null,{"$f":"IF(OR(LEFT('Web Links'!$C369,2)=\"In\",$C369=\"Error\"),\"?????\",\"\"&C369)","v":"?????"},{"$f":"IF(OR(LEFT('Web Links'!$C369,2)=\"In\",$C369=\"Error\"),\"??????????\",\"\"&D369)","v":"??????????"},{"$f":"IF(OR(LEFT('Web Links'!$C369,2)=\"In\",$C369=\"Error\"),\"???\",IF(LEN(E369)=2,\"0\",IF(LEN(E369)=1,\"00\",\"\")))&'Web Links'!E369","v":"???"},{"$f":"IF(OR(LEFT('Web Links'!$C369,2)=\"In\",$C369=\"Error\"),\"?????\",IF(LEN(G369)=4,\"\",IF(LEN(G369)=3,\"\",IF(LEN(G369)=2,\"\",IF(LEN(G369)=1,\"\",\"\"))))&'Web Links'!G369)","v":"?????"},{"$f":"IF(OR(LEFT('Web Links'!$C369,2)=\"In\",$C369=\"Error\"),\"???????????????\",\"\"&F369)","v":"???????????????"}]
[{"$f":"IF('GL Template'!B384<>\"\",'GL Template'!B384,0)","v":0},{"$f":"IF('GL Template'!D384<>\"\",'GL Template'!D384,0)","v":0},"Error",null,null,null,null,null,null,null,null,null,null,{"$f":"IF(OR(LEFT('Web Links'!$C370,2)=\"In\",$C370=\"Error\"),\"?????\",\"\"&C370)","v":"?????"},{"$f":"IF(OR(LEFT('Web Links'!$C370,2)=\"In\",$C370=\"Error\"),\"??????????\",\"\"&D370)","v":"??????????"},{"$f":"IF(OR(LEFT('Web Links'!$C370,2)=\"In\",$C370=\"Error\"),\"???\",IF(LEN(E370)=2,\"0\",IF(LEN(E370)=1,\"00\",\"\")))&'Web Links'!E370","v":"???"},{"$f":"IF(OR(LEFT('Web Links'!$C370,2)=\"In\",$C370=\"Error\"),\"?????\",IF(LEN(G370)=4,\"\",IF(LEN(G370)=3,\"\",IF(LEN(G370)=2,\"\",IF(LEN(G370)=1,\"\",\"\"))))&'Web Links'!G370)","v":"?????"},{"$f":"IF(OR(LEFT('Web Links'!$C370,2)=\"In\",$C370=\"Error\"),\"???????????????\",\"\"&F370)","v":"???????????????"}]
[{"$f":"IF('GL Template'!B385<>\"\",'GL Template'!B385,0)","v":0},{"$f":"IF('GL Template'!D385<>\"\",'GL Template'!D385,0)","v":0},"Error",null,null,null,null,null,null,null,null,null,null,{"$f":"IF(OR(LEFT('Web Links'!$C371,2)=\"In\",$C371=\"Error\"),\"?????\",\"\"&C371)","v":"?????"},{"$f":"IF(OR(LEFT('Web Links'!$C371,2)=\"In\",$C371=\"Error\"),\"??????????\",\"\"&D371)","v":"??????????"},{"$f":"IF(OR(LEFT('Web Links'!$C371,2)=\"In\",$C371=\"Error\"),\"???\",IF(LEN(E371)=2,\"0\",IF(LEN(E371)=1,\"00\",\"\")))&'Web Links'!E371","v":"???"},{"$f":"IF(OR(LEFT('Web Links'!$C371,2)=\"In\",$C371=\"Error\"),\"?????\",IF(LEN(G371)=4,\"\",IF(LEN(G371)=3,\"\",IF(LEN(G371)=2,\"\",IF(LEN(G371)=1,\"\",\"\"))))&'Web Links'!G371)","v":"?????"},{"$f":"IF(OR(LEFT('Web Links'!$C371,2)=\"In\",$C371=\"Error\"),\"???????????????\",\"\"&F371)","v":"???????????????"}]
[{"$f":"IF('GL Template'!B386<>\"\",'GL Template'!B386,0)","v":0},{"$f":"IF('GL Template'!D386<>\"\",'GL Template'!D386,0)","v":0},"Error",null,null,null,null,null,null,null,null,null,null,{"$f":"IF(OR(LEFT('Web Links'!$C372,2)=\"In\",$C372=\"Error\"),\"?????\",\"\"&C372)","v":"?????"},{"$f":"IF(OR(LEFT('Web Links'!$C372,2)=\"In\",$C372=\"Error\"),\"??????????\",\"\"&D372)","v":"??????????"},{"$f":"IF(OR(LEFT('Web Links'!$C372,2)=\"In\",$C372=\"Error\"),\"???\",IF(LEN(E372)=2,\"0\",IF(LEN(E372)=1,\"00\",\"\")))&'Web Links'!E372","v":"???"},{"$f":"IF(OR(LEFT('Web Links'!$C372,2)=\"In\",$C372=\"Error\"),\"?????\",IF(LEN(G372)=4,\"\",IF(LEN(G372)=3,\"\",IF(LEN(G372)=2,\"\",IF(LEN(G372)=1,\"\",\"\"))))&'Web Links'!G372)","v":"?????"},{"$f":"IF(OR(LEFT('Web Links'!$C372,2)=\"In\",$C372=\"Error\"),\"???????????????\",\"\"&F372)","v":"???????????????"}]
[{"$f":"IF('GL Template'!B387<>\"\",'GL Template'!B387,0)","v":0},{"$f":"IF('GL Template'!D387<>\"\",'GL Template'!D387,0)","v":0},"Error",null,null,null,null,null,null,null,null,null,null,{"$f":"IF(OR(LEFT('Web Links'!$C373,2)=\"In\",$C373=\"Error\"),\"?????\",\"\"&C373)","v":"?????"},{"$f":"IF(OR(LEFT('Web Links'!$C373,2)=\"In\",$C373=\"Error\"),\"??????????\",\"\"&D373)","v":"??????????"},{"$f":"IF(OR(LEFT('Web Links'!$C373,2)=\"In\",$C373=\"Error\"),\"???\",IF(LEN(E373)=2,\"0\",IF(LEN(E373)=1,\"00\",\"\")))&'Web Links'!E373","v":"???"},{"$f":"IF(OR(LEFT('Web Links'!$C373,2)=\"In\",$C373=\"Error\"),\"?????\",IF(LEN(G373)=4,\"\",IF(LEN(G373)=3,\"\",IF(LEN(G373)=2,\"\",IF(LEN(G373)=1,\"\",\"\"))))&'Web Links'!G373)","v":"?????"},{"$f":"IF(OR(LEFT('Web Links'!$C373,2)=\"In\",$C373=\"Error\"),\"???????????????\",\"\"&F373)","v":"???????????????"}]
[{"$f":"IF('GL Template'!B388<>\"\",'GL Template'!B388,0)","v":0},{"$f":"IF('GL Template'!D388<>\"\",'GL Template'!D388,0)","v":0},"Error",null,null,null,null,null,null,null,null,null,null,{"$f":"IF(OR(LEFT('Web Links'!$C374,2)=\"In\",$C374=\"Error\"),\"?????\",\"\"&C374)","v":"?????"},{"$f":"IF(OR(LEFT('Web Links'!$C374,2)=\"In\",$C374=\"Error\"),\"??????????\",\"\"&D374)","v":"??????????"},{"$f":"IF(OR(LEFT('Web Links'!$C374,2)=\"In\",$C374=\"Error\"),\"???\",IF(LEN(E374)=2,\"0\",IF(LEN(E374)=1,\"00\",\"\")))&'Web Links'!E374","v":"???"},{"$f":"IF(OR(LEFT('Web Links'!$C374,2)=\"In\",$C374=\"Error\"),\"?????\",IF(LEN(G374)=4,\"\",IF(LEN(G374)=3,\"\",IF(LEN(G374)=2,\"\",IF(LEN(G374)=1,\"\",\"\"))))&'Web Links'!G374)","v":"?????"},{"$f":"IF(OR(LEFT('Web Links'!$C374,2)=\"In\",$C374=\"Error\"),\"???????????????\",\"\"&F374)","v":"???????????????"}]
[{"$f":"IF('GL Template'!B389<>\"\",'GL Template'!B389,0)","v":0},{"$f":"IF('GL Template'!D389<>\"\",'GL Template'!D389,0)","v":0},"Error",null,null,null,null,null,null,null,null,null,null,{"$f":"IF(OR(LEFT('Web Links'!$C375,2)=\"In\",$C375=\"Error\"),\"?????\",\"\"&C375)","v":"?????"},{"$f":"IF(OR(LEFT('Web Links'!$C375,2)=\"In\",$C375=\"Error\"),\"??????????\",\"\"&D375)","v":"??????????"},{"$f":"IF(OR(LEFT('Web Links'!$C375,2)=\"In\",$C375=\"Error\"),\"???\",IF(LEN(E375)=2,\"0\",IF(LEN(E375)=1,\"00\",\"\")))&'Web Links'!E375","v":"???"},{"$f":"IF(OR(LEFT('Web Links'!$C375,2)=\"In\",$C375=\"Error\"),\"?????\",IF(LEN(G375)=4,\"\",IF(LEN(G375)=3,\"\",IF(LEN(G375)=2,\"\",IF(LEN(G375)=1,\"\",\"\"))))&'Web Links'!G375)","v":"?????"},{"$f":"IF(OR(LEFT('Web Links'!$C375,2)=\"In\",$C375=\"Error\"),\"???????????????\",\"\"&F375)","v":"???????????????"}]
[{"$f":"IF('GL Template'!B390<>\"\",'GL Template'!B390,0)","v":0},{"$f":"IF('GL Template'!D390<>\"\",'GL Template'!D390,0)","v":0},"Error",null,null,null,null,null,null,null,null,null,null,{"$f":"IF(OR(LEFT('Web Links'!$C376,2)=\"In\",$C376=\"Error\"),\"?????\",\"\"&C376)","v":"?????"},{"$f":"IF(OR(LEFT('Web Links'!$C376,2)=\"In\",$C376=\"Error\"),\"??????????\",\"\"&D376)","v":"??????????"},{"$f":"IF(OR(LEFT('Web Links'!$C376,2)=\"In\",$C376=\"Error\"),\"???\",IF(LEN(E376)=2,\"0\",IF(LEN(E376)=1,\"00\",\"\")))&'Web Links'!E376","v":"???"},{"$f":"IF(OR(LEFT('Web Links'!$C376,2)=\"In\",$C376=\"Error\"),\"?????\",IF(LEN(G376)=4,\"\",IF(LEN(G376)=3,\"\",IF(LEN(G376)=2,\"\",IF(LEN(G376)=1,\"\",\"\"))))&'Web Links'!G376)","v":"?????"},{"$f":"IF(OR(LEFT('Web Links'!$C376,2)=\"In\",$C376=\"Error\"),\"???????????????\",\"\"&F376)","v":"???????????????"}]
[{"$f":"IF('GL Template'!B391<>\"\",'GL Template'!B391,0)","v":0},{"$f":"IF('GL Template'!D391<>\"\",'GL Template'!D391,0)","v":0},"Error",null,null,null,null,null,null,null,null,null,null,{"$f":"IF(OR(LEFT('Web Links'!$C377,2)=\"In\",$C377=\"Error\"),\"?????\",\"\"&C377)","v":"?????"},{"$f":"IF(OR(LEFT('Web Links'!$C377,2)=\"In\",$C377=\"Error\"),\"??????????\",\"\"&D377)","v":"??????????"},{"$f":"IF(OR(LEFT('Web Links'!$C377,2)=\"In\",$C377=\"Error\"),\"???\",IF(LEN(E377)=2,\"0\",IF(LEN(E377)=1,\"00\",\"\")))&'Web Links'!E377","v":"???"},{"$f":"IF(OR(LEFT('Web Links'!$C377,2)=\"In\",$C377=\"Error\"),\"?????\",IF(LEN(G377)=4,\"\",IF(LEN(G377)=3,\"\",IF(LEN(G377)=2,\"\",IF(LEN(G377)=1,\"\",\"\"))))&'Web Links'!G377)","v":"?????"},{"$f":"IF(OR(LEFT('Web Links'!$C377,2)=\"In\",$C377=\"Error\"),\"???????????????\",\"\"&F377)","v":"???????????????"}]
[{"$f":"IF('GL Template'!B392<>\"\",'GL Template'!B392,0)","v":0},{"$f":"IF('GL Template'!D392<>\"\",'GL Template'!D392,0)","v":0},"Error",null,null,null,null,null,null,null,null,null,null,{"$f":"IF(OR(LEFT('Web Links'!$C378,2)=\"In\",$C378=\"Error\"),\"?????\",\"\"&C378)","v":"?????"},{"$f":"IF(OR(LEFT('Web Links'!$C378,2)=\"In\",$C378=\"Error\"),\"??????????\",\"\"&D378)","v":"??????????"},{"$f":"IF(OR(LEFT('Web Links'!$C378,2)=\"In\",$C378=\"Error\"),\"???\",IF(LEN(E378)=2,\"0\",IF(LEN(E378)=1,\"00\",\"\")))&'Web Links'!E378","v":"???"},{"$f":"IF(OR(LEFT('Web Links'!$C378,2)=\"In\",$C378=\"Error\"),\"?????\",IF(LEN(G378)=4,\"\",IF(LEN(G378)=3,\"\",IF(LEN(G378)=2,\"\",IF(LEN(G378)=1,\"\",\"\"))))&'Web Links'!G378)","v":"?????"},{"$f":"IF(OR(LEFT('Web Links'!$C378,2)=\"In\",$C378=\"Error\"),\"???????????????\",\"\"&F378)","v":"???????????????"}]
[{"$f":"IF('GL Template'!B393<>\"\",'GL Template'!B393,0)","v":0},{"$f":"IF('GL Template'!D393<>\"\",'GL Template'!D393,0)","v":0},"Error",null,null,null,null,null,null,null,null,null,null,{"$f":"IF(OR(LEFT('Web Links'!$C379,2)=\"In\",$C379=\"Error\"),\"?????\",\"\"&C379)","v":"?????"},{"$f":"IF(OR(LEFT('Web Links'!$C379,2)=\"In\",$C379=\"Error\"),\"??????????\",\"\"&D379)","v":"??????????"},{"$f":"IF(OR(LEFT('Web Links'!$C379,2)=\"In\",$C379=\"Error\"),\"???\",IF(LEN(E379)=2,\"0\",IF(LEN(E379)=1,\"00\",\"\")))&'Web Links'!E379","v":"???"},{"$f":"IF(OR(LEFT('Web Links'!$C379,2)=\"In\",$C379=\"Error\"),\"?????\",IF(LEN(G379)=4,\"\",IF(LEN(G379)=3,\"\",IF(LEN(G379)=2,\"\",IF(LEN(G379)=1,\"\",\"\"))))&'Web Links'!G379)","v":"?????"},{"$f":"IF(OR(LEFT('Web Links'!$C379,2)=\"In\",$C379=\"Error\"),\"???????????????\",\"\"&F379)","v":"???????????????"}]
[{"$f":"IF('GL Template'!B394<>\"\",'GL Template'!B394,0)","v":0},{"$f":"IF('GL Template'!D394<>\"\",'GL Template'!D394,0)","v":0},"Error",null,null,null,null,null,null,null,null,null,null,{"$f":"IF(OR(LEFT('Web Links'!$C380,2)=\"In\",$C380=\"Error\"),\"?????\",\"\"&C380)","v":"?????"},{"$f":"IF(OR(LEFT('Web Links'!$C380,2)=\"In\",$C380=\"Error\"),\"??????????\",\"\"&D380)","v":"??????????"},{"$f":"IF(OR(LEFT('Web Links'!$C380,2)=\"In\",$C380=\"Error\"),\"???\",IF(LEN(E380)=2,\"0\",IF(LEN(E380)=1,\"00\",\"\")))&'Web Links'!E380","v":"???"},{"$f":"IF(OR(LEFT('Web Links'!$C380,2)=\"In\",$C380=\"Error\"),\"?????\",IF(LEN(G380)=4,\"\",IF(LEN(G380)=3,\"\",IF(LEN(G380)=2,\"\",IF(LEN(G380)=1,\"\",\"\"))))&'Web Links'!G380)","v":"?????"},{"$f":"IF(OR(LEFT('Web Links'!$C380,2)=\"In\",$C380=\"Error\"),\"???????????????\",\"\"&F380)","v":"???????????????"}]
[{"$f":"IF('GL Template'!B395<>\"\",'GL Template'!B395,0)","v":0},{"$f":"IF('GL Template'!D395<>\"\",'GL Template'!D395,0)","v":0},"Error",null,null,null,null,null,null,null,null,null,null,{"$f":"IF(OR(LEFT('Web Links'!$C381,2)=\"In\",$C381=\"Error\"),\"?????\",\"\"&C381)","v":"?????"},{"$f":"IF(OR(LEFT('Web Links'!$C381,2)=\"In\",$C381=\"Error\"),\"??????????\",\"\"&D381)","v":"??????????"},{"$f":"IF(OR(LEFT('Web Links'!$C381,2)=\"In\",$C381=\"Error\"),\"???\",IF(LEN(E381)=2,\"0\",IF(LEN(E381)=1,\"00\",\"\")))&'Web Links'!E381","v":"???"},{"$f":"IF(OR(LEFT('Web Links'!$C381,2)=\"In\",$C381=\"Error\"),\"?????\",IF(LEN(G381)=4,\"\",IF(LEN(G381)=3,\"\",IF(LEN(G381)=2,\"\",IF(LEN(G381)=1,\"\",\"\"))))&'Web Links'!G381)","v":"?????"},{"$f":"IF(OR(LEFT('Web Links'!$C381,2)=\"In\",$C381=\"Error\"),\"???????????????\",\"\"&F381)","v":"???????????????"}]
[{"$f":"IF('GL Template'!B396<>\"\",'GL Template'!B396,0)","v":0},{"$f":"IF('GL Template'!D396<>\"\",'GL Template'!D396,0)","v":0},"Error",null,null,null,null,null,null,null,null,null,null,{"$f":"IF(OR(LEFT('Web Links'!$C382,2)=\"In\",$C382=\"Error\"),\"?????\",\"\"&C382)","v":"?????"},{"$f":"IF(OR(LEFT('Web Links'!$C382,2)=\"In\",$C382=\"Error\"),\"??????????\",\"\"&D382)","v":"??????????"},{"$f":"IF(OR(LEFT('Web Links'!$C382,2)=\"In\",$C382=\"Error\"),\"???\",IF(LEN(E382)=2,\"0\",IF(LEN(E382)=1,\"00\",\"\")))&'Web Links'!E382","v":"???"},{"$f":"IF(OR(LEFT('Web Links'!$C382,2)=\"In\",$C382=\"Error\"),\"?????\",IF(LEN(G382)=4,\"\",IF(LEN(G382)=3,\"\",IF(LEN(G382)=2,\"\",IF(LEN(G382)=1,\"\",\"\"))))&'Web Links'!G382)","v":"?????"},{"$f":"IF(OR(LEFT('Web Links'!$C382,2)=\"In\",$C382=\"Error\"),\"???????????????\",\"\"&F382)","v":"???????????????"}]
[{"$f":"IF('GL Template'!B397<>\"\",'GL Template'!B397,0)","v":0},{"$f":"IF('GL Template'!D397<>\"\",'GL Template'!D397,0)","v":0},"Error",null,null,null,null,null,null,null,null,null,null,{"$f":"IF(OR(LEFT('Web Links'!$C383,2)=\"In\",$C383=\"Error\"),\"?????\",\"\"&C383)","v":"?????"},{"$f":"IF(OR(LEFT('Web Links'!$C383,2)=\"In\",$C383=\"Error\"),\"??????????\",\"\"&D383)","v":"??????????"},{"$f":"IF(OR(LEFT('Web Links'!$C383,2)=\"In\",$C383=\"Error\"),\"???\",IF(LEN(E383)=2,\"0\",IF(LEN(E383)=1,\"00\",\"\")))&'Web Links'!E383","v":"???"},{"$f":"IF(OR(LEFT('Web Links'!$C383,2)=\"In\",$C383=\"Error\"),\"?????\",IF(LEN(G383)=4,\"\",IF(LEN(G383)=3,\"\",IF(LEN(G383)=2,\"\",IF(LEN(G383)=1,\"\",\"\"))))&'Web Links'!G383)","v":"?????"},{"$f":"IF(OR(LEFT('Web Links'!$C383,2)=\"In\",$C383=\"Error\"),\"???????????????\",\"\"&F383)","v":"???????????????"}]
[{"$f":"IF('GL Template'!B398<>\"\",'GL Template'!B398,0)","v":0},{"$f":"IF('GL Template'!D398<>\"\",'GL Template'!D398,0)","v":0},"Error",null,null,null,null,null,null,null,null,null,null,{"$f":"IF(OR(LEFT('Web Links'!$C384,2)=\"In\",$C384=\"Error\"),\"?????\",\"\"&C384)","v":"?????"},{"$f":"IF(OR(LEFT('Web Links'!$C384,2)=\"In\",$C384=\"Error\"),\"??????????\",\"\"&D384)","v":"??????????"},{"$f":"IF(OR(LEFT('Web Links'!$C384,2)=\"In\",$C384=\"Error\"),\"???\",IF(LEN(E384)=2,\"0\",IF(LEN(E384)=1,\"00\",\"\")))&'Web Links'!E384","v":"???"},{"$f":"IF(OR(LEFT('Web Links'!$C384,2)=\"In\",$C384=\"Error\"),\"?????\",IF(LEN(G384)=4,\"\",IF(LEN(G384)=3,\"\",IF(LEN(G384)=2,\"\",IF(LEN(G384)=1,\"\",\"\"))))&'Web Links'!G384)","v":"?????"},{"$f":"IF(OR(LEFT('Web Links'!$C384,2)=\"In\",$C384=\"Error\"),\"???????????????\",\"\"&F384)","v":"???????????????"}]
[{"$f":"IF('GL Template'!B399<>\"\",'GL Template'!B399,0)","v":0},{"$f":"IF('GL Template'!D399<>\"\",'GL Template'!D399,0)","v":0},"Error",null,null,null,null,null,null,null,null,null,null,{"$f":"IF(OR(LEFT('Web Links'!$C385,2)=\"In\",$C385=\"Error\"),\"?????\",\"\"&C385)","v":"?????"},{"$f":"IF(OR(LEFT('Web Links'!$C385,2)=\"In\",$C385=\"Error\"),\"??????????\",\"\"&D385)","v":"??????????"},{"$f":"IF(OR(LEFT('Web Links'!$C385,2)=\"In\",$C385=\"Error\"),\"???\",IF(LEN(E385)=2,\"0\",IF(LEN(E385)=1,\"00\",\"\")))&'Web Links'!E385","v":"???"},{"$f":"IF(OR(LEFT('Web Links'!$C385,2)=\"In\",$C385=\"Error\"),\"?????\",IF(LEN(G385)=4,\"\",IF(LEN(G385)=3,\"\",IF(LEN(G385)=2,\"\",IF(LEN(G385)=1,\"\",\"\"))))&'Web Links'!G385)","v":"?????"},{"$f":"IF(OR(LEFT('Web Links'!$C385,2)=\"In\",$C385=\"Error\"),\"???????????????\",\"\"&F385)","v":"???????????????"}]
[{"$f":"IF('GL Template'!B400<>\"\",'GL Template'!B400,0)","v":0},{"$f":"IF('GL Template'!D400<>\"\",'GL Template'!D400,0)","v":0},"Error",null,null,null,null,null,null,null,null,null,null,{"$f":"IF(OR(LEFT('Web Links'!$C386,2)=\"In\",$C386=\"Error\"),\"?????\",\"\"&C386)","v":"?????"},{"$f":"IF(OR(LEFT('Web Links'!$C386,2)=\"In\",$C386=\"Error\"),\"??????????\",\"\"&D386)","v":"??????????"},{"$f":"IF(OR(LEFT('Web Links'!$C386,2)=\"In\",$C386=\"Error\"),\"???\",IF(LEN(E386)=2,\"0\",IF(LEN(E386)=1,\"00\",\"\")))&'Web Links'!E386","v":"???"},{"$f":"IF(OR(LEFT('Web Links'!$C386,2)=\"In\",$C386=\"Error\"),\"?????\",IF(LEN(G386)=4,\"\",IF(LEN(G386)=3,\"\",IF(LEN(G386)=2,\"\",IF(LEN(G386)=1,\"\",\"\"))))&'Web Links'!G386)","v":"?????"},{"$f":"IF(OR(LEFT('Web Links'!$C386,2)=\"In\",$C386=\"Error\"),\"???????????????\",\"\"&F386)","v":"???????????????"}]
[{"$f":"IF('GL Template'!B401<>\"\",'GL Template'!B401,0)","v":0},{"$f":"IF('GL Template'!D401<>\"\",'GL Template'!D401,0)","v":0},"Error",null,null,null,null,null,null,null,null,null,null,{"$f":"IF(OR(LEFT('Web Links'!$C387,2)=\"In\",$C387=\"Error\"),\"?????\",\"\"&C387)","v":"?????"},{"$f":"IF(OR(LEFT('Web Links'!$C387,2)=\"In\",$C387=\"Error\"),\"??????????\",\"\"&D387)","v":"??????????"},{"$f":"IF(OR(LEFT('Web Links'!$C387,2)=\"In\",$C387=\"Error\"),\"???\",IF(LEN(E387)=2,\"0\",IF(LEN(E387)=1,\"00\",\"\")))&'Web Links'!E387","v":"???"},{"$f":"IF(OR(LEFT('Web Links'!$C387,2)=\"In\",$C387=\"Error\"),\"?????\",IF(LEN(G387)=4,\"\",IF(LEN(G387)=3,\"\",IF(LEN(G387)=2,\"\",IF(LEN(G387)=1,\"\",\"\"))))&'Web Links'!G387)","v":"?????"},{"$f":"IF(OR(LEFT('Web Links'!$C387,2)=\"In\",$C387=\"Error\"),\"???????????????\",\"\"&F387)","v":"???????????????"}]
[{"$f":"IF('GL Template'!B402<>\"\",'GL Template'!B402,0)","v":0},{"$f":"IF('GL Template'!D402<>\"\",'GL Template'!D402,0)","v":0},"Error",null,null,null,null,null,null,null,null,null,null,{"$f":"IF(OR(LEFT('Web Links'!$C388,2)=\"In\",$C388=\"Error\"),\"?????\",\"\"&C388)","v":"?????"},{"$f":"IF(OR(LEFT('Web Links'!$C388,2)=\"In\",$C388=\"Error\"),\"??????????\",\"\"&D388)","v":"??????????"},{"$f":"IF(OR(LEFT('Web Links'!$C388,2)=\"In\",$C388=\"Error\"),\"???\",IF(LEN(E388)=2,\"0\",IF(LEN(E388)=1,\"00\",\"\")))&'Web Links'!E388","v":"???"},{"$f":"IF(OR(LEFT('Web Links'!$C388,2)=\"In\",$C388=\"Error\"),\"?????\",IF(LEN(G388)=4,\"\",IF(LEN(G388)=3,\"\",IF(LEN(G388)=2,\"\",IF(LEN(G388)=1,\"\",\"\"))))&'Web Links'!G388)","v":"?????"},{"$f":"IF(OR(LEFT('Web Links'!$C388,2)=\"In\",$C388=\"Error\"),\"???????????????\",\"\"&F388)","v":"???????????????"}]
[{"$f":"IF('GL Template'!B403<>\"\",'GL Template'!B403,0)","v":0},{"$f":"IF('GL Template'!D403<>\"\",'GL Template'!D403,0)","v":0},"Error",null,null,null,null,null,null,null,null,null,null,{"$f":"IF(OR(LEFT('Web Links'!$C389,2)=\"In\",$C389=\"Error\"),\"?????\",\"\"&C389)","v":"?????"},{"$f":"IF(OR(LEFT('Web Links'!$C389,2)=\"In\",$C389=\"Error\"),\"??????????\",\"\"&D389)","v":"??????????"},{"$f":"IF(OR(LEFT('Web Links'!$C389,2)=\"In\",$C389=\"Error\"),\"???\",IF(LEN(E389)=2,\"0\",IF(LEN(E389)=1,\"00\",\"\")))&'Web Links'!E389","v":"???"},{"$f":"IF(OR(LEFT('Web Links'!$C389,2)=\"In\",$C389=\"Error\"),\"?????\",IF(LEN(G389)=4,\"\",IF(LEN(G389)=3,\"\",IF(LEN(G389)=2,\"\",IF(LEN(G389)=1,\"\",\"\"))))&'Web Links'!G389)","v":"?????"},{"$f":"IF(OR(LEFT('Web Links'!$C389,2)=\"In\",$C389=\"Error\"),\"???????????????\",\"\"&F389)","v":"???????????????"}]
[{"$f":"IF('GL Template'!B404<>\"\",'GL Template'!B404,0)","v":0},{"$f":"IF('GL Template'!D404<>\"\",'GL Template'!D404,0)","v":0},"Error",null,null,null,null,null,null,null,null,null,null,{"$f":"IF(OR(LEFT('Web Links'!$C390,2)=\"In\",$C390=\"Error\"),\"?????\",\"\"&C390)","v":"?????"},{"$f":"IF(OR(LEFT('Web Links'!$C390,2)=\"In\",$C390=\"Error\"),\"??????????\",\"\"&D390)","v":"??????????"},{"$f":"IF(OR(LEFT('Web Links'!$C390,2)=\"In\",$C390=\"Error\"),\"???\",IF(LEN(E390)=2,\"0\",IF(LEN(E390)=1,\"00\",\"\")))&'Web Links'!E390","v":"???"},{"$f":"IF(OR(LEFT('Web Links'!$C390,2)=\"In\",$C390=\"Error\"),\"?????\",IF(LEN(G390)=4,\"\",IF(LEN(G390)=3,\"\",IF(LEN(G390)=2,\"\",IF(LEN(G390)=1,\"\",\"\"))))&'Web Links'!G390)","v":"?????"},{"$f":"IF(OR(LEFT('Web Links'!$C390,2)=\"In\",$C390=\"Error\"),\"???????????????\",\"\"&F390)","v":"???????????????"}]
[{"$f":"IF('GL Template'!B405<>\"\",'GL Template'!B405,0)","v":0},{"$f":"IF('GL Template'!D405<>\"\",'GL Template'!D405,0)","v":0},"Error",null,null,null,null,null,null,null,null,null,null,{"$f":"IF(OR(LEFT('Web Links'!$C391,2)=\"In\",$C391=\"Error\"),\"?????\",\"\"&C391)","v":"?????"},{"$f":"IF(OR(LEFT('Web Links'!$C391,2)=\"In\",$C391=\"Error\"),\"??????????\",\"\"&D391)","v":"??????????"},{"$f":"IF(OR(LEFT('Web Links'!$C391,2)=\"In\",$C391=\"Error\"),\"???\",IF(LEN(E391)=2,\"0\",IF(LEN(E391)=1,\"00\",\"\")))&'Web Links'!E391","v":"???"},{"$f":"IF(OR(LEFT('Web Links'!$C391,2)=\"In\",$C391=\"Error\"),\"?????\",IF(LEN(G391)=4,\"\",IF(LEN(G391)=3,\"\",IF(LEN(G391)=2,\"\",IF(LEN(G391)=1,\"\",\"\"))))&'Web Links'!G391)","v":"?????"},{"$f":"IF(OR(LEFT('Web Links'!$C391,2)=\"In\",$C391=\"Error\"),\"???????????????\",\"\"&F391)","v":"???????????????"}]
[{"$f":"IF('GL Template'!B406<>\"\",'GL Template'!B406,0)","v":0},{"$f":"IF('GL Template'!D406<>\"\",'GL Template'!D406,0)","v":0},"Error",null,null,null,null,null,null,null,null,null,null,{"$f":"IF(OR(LEFT('Web Links'!$C392,2)=\"In\",$C392=\"Error\"),\"?????\",\"\"&C392)","v":"?????"},{"$f":"IF(OR(LEFT('Web Links'!$C392,2)=\"In\",$C392=\"Error\"),\"??????????\",\"\"&D392)","v":"??????????"},{"$f":"IF(OR(LEFT('Web Links'!$C392,2)=\"In\",$C392=\"Error\"),\"???\",IF(LEN(E392)=2,\"0\",IF(LEN(E392)=1,\"00\",\"\")))&'Web Links'!E392","v":"???"},{"$f":"IF(OR(LEFT('Web Links'!$C392,2)=\"In\",$C392=\"Error\"),\"?????\",IF(LEN(G392)=4,\"\",IF(LEN(G392)=3,\"\",IF(LEN(G392)=2,\"\",IF(LEN(G392)=1,\"\",\"\"))))&'Web Links'!G392)","v":"?????"},{"$f":"IF(OR(LEFT('Web Links'!$C392,2)=\"In\",$C392=\"Error\"),\"???????????????\",\"\"&F392)","v":"???????????????"}]
[{"$f":"IF('GL Template'!B407<>\"\",'GL Template'!B407,0)","v":0},{"$f":"IF('GL Template'!D407<>\"\",'GL Template'!D407,0)","v":0},"Error",null,null,null,null,null,null,null,null,null,null,{"$f":"IF(OR(LEFT('Web Links'!$C393,2)=\"In\",$C393=\"Error\"),\"?????\",\"\"&C393)","v":"?????"},{"$f":"IF(OR(LEFT('Web Links'!$C393,2)=\"In\",$C393=\"Error\"),\"??????????\",\"\"&D393)","v":"??????????"},{"$f":"IF(OR(LEFT('Web Links'!$C393,2)=\"In\",$C393=\"Error\"),\"???\",IF(LEN(E393)=2,\"0\",IF(LEN(E393)=1,\"00\",\"\")))&'Web Links'!E393","v":"???"},{"$f":"IF(OR(LEFT('Web Links'!$C393,2)=\"In\",$C393=\"Error\"),\"?????\",IF(LEN(G393)=4,\"\",IF(LEN(G393)=3,\"\",IF(LEN(G393)=2,\"\",IF(LEN(G393)=1,\"\",\"\"))))&'Web Links'!G393)","v":"?????"},{"$f":"IF(OR(LEFT('Web Links'!$C393,2)=\"In\",$C393=\"Error\"),\"???????????????\",\"\"&F393)","v":"???????????????"}]
[{"$f":"IF('GL Template'!B408<>\"\",'GL Template'!B408,0)","v":0},{"$f":"IF('GL Template'!D408<>\"\",'GL Template'!D408,0)","v":0},"Error",null,null,null,null,null,null,null,null,null,null,{"$f":"IF(OR(LEFT('Web Links'!$C394,2)=\"In\",$C394=\"Error\"),\"?????\",\"\"&C394)","v":"?????"},{"$f":"IF(OR(LEFT('Web Links'!$C394,2)=\"In\",$C394=\"Error\"),\"??????????\",\"\"&D394)","v":"??????????"},{"$f":"IF(OR(LEFT('Web Links'!$C394,2)=\"In\",$C394=\"Error\"),\"???\",IF(LEN(E394)=2,\"0\",IF(LEN(E394)=1,\"00\",\"\")))&'Web Links'!E394","v":"???"},{"$f":"IF(OR(LEFT('Web Links'!$C394,2)=\"In\",$C394=\"Error\"),\"?????\",IF(LEN(G394)=4,\"\",IF(LEN(G394)=3,\"\",IF(LEN(G394)=2,\"\",IF(LEN(G394)=1,\"\",\"\"))))&'Web Links'!G394)","v":"?????"},{"$f":"IF(OR(LEFT('Web Links'!$C394,2)=\"In\",$C394=\"Error\"),\"???????????????\",\"\"&F394)","v":"???????????????"}]
[{"$f":"IF('GL Template'!B409<>\"\",'GL Template'!B409,0)","v":0},{"$f":"IF('GL Template'!D409<>\"\",'GL Template'!D409,0)","v":0},"Error",null,null,null,null,null,null,null,null,null,null,{"$f":"IF(OR(LEFT('Web Links'!$C395,2)=\"In\",$C395=\"Error\"),\"?????\",\"\"&C395)","v":"?????"},{"$f":"IF(OR(LEFT('Web Links'!$C395,2)=\"In\",$C395=\"Error\"),\"??????????\",\"\"&D395)","v":"??????????"},{"$f":"IF(OR(LEFT('Web Links'!$C395,2)=\"In\",$C395=\"Error\"),\"???\",IF(LEN(E395)=2,\"0\",IF(LEN(E395)=1,\"00\",\"\")))&'Web Links'!E395","v":"???"},{"$f":"IF(OR(LEFT('Web Links'!$C395,2)=\"In\",$C395=\"Error\"),\"?????\",IF(LEN(G395)=4,\"\",IF(LEN(G395)=3,\"\",IF(LEN(G395)=2,\"\",IF(LEN(G395)=1,\"\",\"\"))))&'Web Links'!G395)","v":"?????"},{"$f":"IF(OR(LEFT('Web Links'!$C395,2)=\"In\",$C395=\"Error\"),\"???????????????\",\"\"&F395)","v":"???????????????"}]
[{"$f":"IF('GL Template'!B410<>\"\",'GL Template'!B410,0)","v":0},{"$f":"IF('GL Template'!D410<>\"\",'GL Template'!D410,0)","v":0},"Error",null,null,null,null,null,null,null,null,null,null,{"$f":"IF(OR(LEFT('Web Links'!$C396,2)=\"In\",$C396=\"Error\"),\"?????\",\"\"&C396)","v":"?????"},{"$f":"IF(OR(LEFT('Web Links'!$C396,2)=\"In\",$C396=\"Error\"),\"??????????\",\"\"&D396)","v":"??????????"},{"$f":"IF(OR(LEFT('Web Links'!$C396,2)=\"In\",$C396=\"Error\"),\"???\",IF(LEN(E396)=2,\"0\",IF(LEN(E396)=1,\"00\",\"\")))&'Web Links'!E396","v":"???"},{"$f":"IF(OR(LEFT('Web Links'!$C396,2)=\"In\",$C396=\"Error\"),\"?????\",IF(LEN(G396)=4,\"\",IF(LEN(G396)=3,\"\",IF(LEN(G396)=2,\"\",IF(LEN(G396)=1,\"\",\"\"))))&'Web Links'!G396)","v":"?????"},{"$f":"IF(OR(LEFT('Web Links'!$C396,2)=\"In\",$C396=\"Error\"),\"???????????????\",\"\"&F396)","v":"???????????????"}]
[{"$f":"IF('GL Template'!B411<>\"\",'GL Template'!B411,0)","v":0},{"$f":"IF('GL Template'!D411<>\"\",'GL Template'!D411,0)","v":0},"Error",null,null,null,null,null,null,null,null,null,null,{"$f":"IF(OR(LEFT('Web Links'!$C397,2)=\"In\",$C397=\"Error\"),\"?????\",\"\"&C397)","v":"?????"},{"$f":"IF(OR(LEFT('Web Links'!$C397,2)=\"In\",$C397=\"Error\"),\"??????????\",\"\"&D397)","v":"??????????"},{"$f":"IF(OR(LEFT('Web Links'!$C397,2)=\"In\",$C397=\"Error\"),\"???\",IF(LEN(E397)=2,\"0\",IF(LEN(E397)=1,\"00\",\"\")))&'Web Links'!E397","v":"???"},{"$f":"IF(OR(LEFT('Web Links'!$C397,2)=\"In\",$C397=\"Error\"),\"?????\",IF(LEN(G397)=4,\"\",IF(LEN(G397)=3,\"\",IF(LEN(G397)=2,\"\",IF(LEN(G397)=1,\"\",\"\"))))&'Web Links'!G397)","v":"?????"},{"$f":"IF(OR(LEFT('Web Links'!$C397,2)=\"In\",$C397=\"Error\"),\"???????????????\",\"\"&F397)","v":"???????????????"}]
[{"$f":"IF('GL Template'!B412<>\"\",'GL Template'!B412,0)","v":0},{"$f":"IF('GL Template'!D412<>\"\",'GL Template'!D412,0)","v":0},"Error",null,null,null,null,null,null,null,null,null,null,{"$f":"IF(OR(LEFT('Web Links'!$C398,2)=\"In\",$C398=\"Error\"),\"?????\",\"\"&C398)","v":"?????"},{"$f":"IF(OR(LEFT('Web Links'!$C398,2)=\"In\",$C398=\"Error\"),\"??????????\",\"\"&D398)","v":"??????????"},{"$f":"IF(OR(LEFT('Web Links'!$C398,2)=\"In\",$C398=\"Error\"),\"???\",IF(LEN(E398)=2,\"0\",IF(LEN(E398)=1,\"00\",\"\")))&'Web Links'!E398","v":"???"},{"$f":"IF(OR(LEFT('Web Links'!$C398,2)=\"In\",$C398=\"Error\"),\"?????\",IF(LEN(G398)=4,\"\",IF(LEN(G398)=3,\"\",IF(LEN(G398)=2,\"\",IF(LEN(G398)=1,\"\",\"\"))))&'Web Links'!G398)","v":"?????"},{"$f":"IF(OR(LEFT('Web Links'!$C398,2)=\"In\",$C398=\"Error\"),\"???????????????\",\"\"&F398)","v":"???????????????"}]
[{"$f":"IF('GL Template'!B413<>\"\",'GL Template'!B413,0)","v":0},{"$f":"IF('GL Template'!D413<>\"\",'GL Template'!D413,0)","v":0},"Error",null,null,null,null,null,null,null,null,null,null,{"$f":"IF(OR(LEFT('Web Links'!$C399,2)=\"In\",$C399=\"Error\"),\"?????\",\"\"&C399)","v":"?????"},{"$f":"IF(OR(LEFT('Web Links'!$C399,2)=\"In\",$C399=\"Error\"),\"??????????\",\"\"&D399)","v":"??????????"},{"$f":"IF(OR(LEFT('Web Links'!$C399,2)=\"In\",$C399=\"Error\"),\"???\",IF(LEN(E399)=2,\"0\",IF(LEN(E399)=1,\"00\",\"\")))&'Web Links'!E399","v":"???"},{"$f":"IF(OR(LEFT('Web Links'!$C399,2)=\"In\",$C399=\"Error\"),\"?????\",IF(LEN(G399)=4,\"\",IF(LEN(G399)=3,\"\",IF(LEN(G399)=2,\"\",IF(LEN(G399)=1,\"\",\"\"))))&'Web Links'!G399)","v":"?????"},{"$f":"IF(OR(LEFT('Web Links'!$C399,2)=\"In\",$C399=\"Error\"),\"???????????????\",\"\"&F399)","v":"???????????????"}]
[{"$f":"IF('GL Template'!B414<>\"\",'GL Template'!B414,0)","v":0},{"$f":"IF('GL Template'!D414<>\"\",'GL Template'!D414,0)","v":0},"Error",null,null,null,null,null,null,null,null,null,null,{"$f":"IF(OR(LEFT('Web Links'!$C400,2)=\"In\",$C400=\"Error\"),\"?????\",\"\"&C400)","v":"?????"},{"$f":"IF(OR(LEFT('Web Links'!$C400,2)=\"In\",$C400=\"Error\"),\"??????????\",\"\"&D400)","v":"??????????"},{"$f":"IF(OR(LEFT('Web Links'!$C400,2)=\"In\",$C400=\"Error\"),\"???\",IF(LEN(E400)=2,\"0\",IF(LEN(E400)=1,\"00\",\"\")))&'Web Links'!E400","v":"???"},{"$f":"IF(OR(LEFT('Web Links'!$C400,2)=\"In\",$C400=\"Error\"),\"?????\",IF(LEN(G400)=4,\"\",IF(LEN(G400)=3,\"\",IF(LEN(G400)=2,\"\",IF(LEN(G400)=1,\"\",\"\"))))&'Web Links'!G400)","v":"?????"},{"$f":"IF(OR(LEFT('Web Links'!$C400,2)=\"In\",$C400=\"Error\"),\"???????????????\",\"\"&F400)","v":"???????????????"}]
[{"$f":"IF('GL Template'!B415<>\"\",'GL Template'!B415,0)","v":0},{"$f":"IF('GL Template'!D415<>\"\",'GL Template'!D415,0)","v":0},"Error",null,null,null,null,null,null,null,null,null,null,{"$f":"IF(OR(LEFT('Web Links'!$C401,2)=\"In\",$C401=\"Error\"),\"?????\",\"\"&C401)","v":"?????"},{"$f":"IF(OR(LEFT('Web Links'!$C401,2)=\"In\",$C401=\"Error\"),\"??????????\",\"\"&D401)","v":"??????????"},{"$f":"IF(OR(LEFT('Web Links'!$C401,2)=\"In\",$C401=\"Error\"),\"???\",IF(LEN(E401)=2,\"0\",IF(LEN(E401)=1,\"00\",\"\")))&'Web Links'!E401","v":"???"},{"$f":"IF(OR(LEFT('Web Links'!$C401,2)=\"In\",$C401=\"Error\"),\"?????\",IF(LEN(G401)=4,\"\",IF(LEN(G401)=3,\"\",IF(LEN(G401)=2,\"\",IF(LEN(G401)=1,\"\",\"\"))))&'Web Links'!G401)","v":"?????"},{"$f":"IF(OR(LEFT('Web Links'!$C401,2)=\"In\",$C401=\"Error\"),\"???????????????\",\"\"&F401)","v":"???????????????"}]
[{"$f":"IF('GL Template'!B416<>\"\",'GL Template'!B416,0)","v":0},{"$f":"IF('GL Template'!D416<>\"\",'GL Template'!D416,0)","v":0},"Error",null,null,null,null,null,null,null,null,null,null,{"$f":"IF(OR(LEFT('Web Links'!$C402,2)=\"In\",$C402=\"Error\"),\"?????\",\"\"&C402)","v":"?????"},{"$f":"IF(OR(LEFT('Web Links'!$C402,2)=\"In\",$C402=\"Error\"),\"??????????\",\"\"&D402)","v":"??????????"},{"$f":"IF(OR(LEFT('Web Links'!$C402,2)=\"In\",$C402=\"Error\"),\"???\",IF(LEN(E402)=2,\"0\",IF(LEN(E402)=1,\"00\",\"\")))&'Web Links'!E402","v":"???"},{"$f":"IF(OR(LEFT('Web Links'!$C402,2)=\"In\",$C402=\"Error\"),\"?????\",IF(LEN(G402)=4,\"\",IF(LEN(G402)=3,\"\",IF(LEN(G402)=2,\"\",IF(LEN(G402)=1,\"\",\"\"))))&'Web Links'!G402)","v":"?????"},{"$f":"IF(OR(LEFT('Web Links'!$C402,2)=\"In\",$C402=\"Error\"),\"???????????????\",\"\"&F402)","v":"???????????????"}]
[{"$f":"IF('GL Template'!B417<>\"\",'GL Template'!B417,0)","v":0},{"$f":"IF('GL Template'!D417<>\"\",'GL Template'!D417,0)","v":0},"Error",null,null,null,null,null,null,null,null,null,null,{"$f":"IF(OR(LEFT('Web Links'!$C403,2)=\"In\",$C403=\"Error\"),\"?????\",\"\"&C403)","v":"?????"},{"$f":"IF(OR(LEFT('Web Links'!$C403,2)=\"In\",$C403=\"Error\"),\"??????????\",\"\"&D403)","v":"??????????"},{"$f":"IF(OR(LEFT('Web Links'!$C403,2)=\"In\",$C403=\"Error\"),\"???\",IF(LEN(E403)=2,\"0\",IF(LEN(E403)=1,\"00\",\"\")))&'Web Links'!E403","v":"???"},{"$f":"IF(OR(LEFT('Web Links'!$C403,2)=\"In\",$C403=\"Error\"),\"?????\",IF(LEN(G403)=4,\"\",IF(LEN(G403)=3,\"\",IF(LEN(G403)=2,\"\",IF(LEN(G403)=1,\"\",\"\"))))&'Web Links'!G403)","v":"?????"},{"$f":"IF(OR(LEFT('Web Links'!$C403,2)=\"In\",$C403=\"Error\"),\"???????????????\",\"\"&F403)","v":"???????????????"}]
[{"$f":"IF('GL Template'!B418<>\"\",'GL Template'!B418,0)","v":0},{"$f":"IF('GL Template'!D418<>\"\",'GL Template'!D418,0)","v":0},"Error",null,null,null,null,null,null,null,null,null,null,{"$f":"IF(OR(LEFT('Web Links'!$C404,2)=\"In\",$C404=\"Error\"),\"?????\",\"\"&C404)","v":"?????"},{"$f":"IF(OR(LEFT('Web Links'!$C404,2)=\"In\",$C404=\"Error\"),\"??????????\",\"\"&D404)","v":"??????????"},{"$f":"IF(OR(LEFT('Web Links'!$C404,2)=\"In\",$C404=\"Error\"),\"???\",IF(LEN(E404)=2,\"0\",IF(LEN(E404)=1,\"00\",\"\")))&'Web Links'!E404","v":"???"},{"$f":"IF(OR(LEFT('Web Links'!$C404,2)=\"In\",$C404=\"Error\"),\"?????\",IF(LEN(G404)=4,\"\",IF(LEN(G404)=3,\"\",IF(LEN(G404)=2,\"\",IF(LEN(G404)=1,\"\",\"\"))))&'Web Links'!G404)","v":"?????"},{"$f":"IF(OR(LEFT('Web Links'!$C404,2)=\"In\",$C404=\"Error\"),\"???????????????\",\"\"&F404)","v":"???????????????"}]
[{"$f":"IF('GL Template'!B419<>\"\",'GL Template'!B419,0)","v":0},{"$f":"IF('GL Template'!D419<>\"\",'GL Template'!D419,0)","v":0},"Error",null,null,null,null,null,null,null,null,null,null,{"$f":"IF(OR(LEFT('Web Links'!$C405,2)=\"In\",$C405=\"Error\"),\"?????\",\"\"&C405)","v":"?????"},{"$f":"IF(OR(LEFT('Web Links'!$C405,2)=\"In\",$C405=\"Error\"),\"??????????\",\"\"&D405)","v":"??????????"},{"$f":"IF(OR(LEFT('Web Links'!$C405,2)=\"In\",$C405=\"Error\"),\"???\",IF(LEN(E405)=2,\"0\",IF(LEN(E405)=1,\"00\",\"\")))&'Web Links'!E405","v":"???"},{"$f":"IF(OR(LEFT('Web Links'!$C405,2)=\"In\",$C405=\"Error\"),\"?????\",IF(LEN(G405)=4,\"\",IF(LEN(G405)=3,\"\",IF(LEN(G405)=2,\"\",IF(LEN(G405)=1,\"\",\"\"))))&'Web Links'!G405)","v":"?????"},{"$f":"IF(OR(LEFT('Web Links'!$C405,2)=\"In\",$C405=\"Error\"),\"???????????????\",\"\"&F405)","v":"???????????????"}]
[{"$f":"IF('GL Template'!B420<>\"\",'GL Template'!B420,0)","v":0},{"$f":"IF('GL Template'!D420<>\"\",'GL Template'!D420,0)","v":0},"Error",null,null,null,null,null,null,null,null,null,null,{"$f":"IF(OR(LEFT('Web Links'!$C406,2)=\"In\",$C406=\"Error\"),\"?????\",\"\"&C406)","v":"?????"},{"$f":"IF(OR(LEFT('Web Links'!$C406,2)=\"In\",$C406=\"Error\"),\"??????????\",\"\"&D406)","v":"??????????"},{"$f":"IF(OR(LEFT('Web Links'!$C406,2)=\"In\",$C406=\"Error\"),\"???\",IF(LEN(E406)=2,\"0\",IF(LEN(E406)=1,\"00\",\"\")))&'Web Links'!E406","v":"???"},{"$f":"IF(OR(LEFT('Web Links'!$C406,2)=\"In\",$C406=\"Error\"),\"?????\",IF(LEN(G406)=4,\"\",IF(LEN(G406)=3,\"\",IF(LEN(G406)=2,\"\",IF(LEN(G406)=1,\"\",\"\"))))&'Web Links'!G406)","v":"?????"},{"$f":"IF(OR(LEFT('Web Links'!$C406,2)=\"In\",$C406=\"Error\"),\"???????????????\",\"\"&F406)","v":"???????????????"}]
[{"$f":"IF('GL Template'!B421<>\"\",'GL Template'!B421,0)","v":0},{"$f":"IF('GL Template'!D421<>\"\",'GL Template'!D421,0)","v":0},"Error",null,null,null,null,null,null,null,null,null,null,{"$f":"IF(OR(LEFT('Web Links'!$C407,2)=\"In\",$C407=\"Error\"),\"?????\",\"\"&C407)","v":"?????"},{"$f":"IF(OR(LEFT('Web Links'!$C407,2)=\"In\",$C407=\"Error\"),\"??????????\",\"\"&D407)","v":"??????????"},{"$f":"IF(OR(LEFT('Web Links'!$C407,2)=\"In\",$C407=\"Error\"),\"???\",IF(LEN(E407)=2,\"0\",IF(LEN(E407)=1,\"00\",\"\")))&'Web Links'!E407","v":"???"},{"$f":"IF(OR(LEFT('Web Links'!$C407,2)=\"In\",$C407=\"Error\"),\"?????\",IF(LEN(G407)=4,\"\",IF(LEN(G407)=3,\"\",IF(LEN(G407)=2,\"\",IF(LEN(G407)=1,\"\",\"\"))))&'Web Links'!G407)","v":"?????"},{"$f":"IF(OR(LEFT('Web Links'!$C407,2)=\"In\",$C407=\"Error\"),\"???????????????\",\"\"&F407)","v":"???????????????"}]
[{"$f":"IF('GL Template'!B422<>\"\",'GL Template'!B422,0)","v":0},{"$f":"IF('GL Template'!D422<>\"\",'GL Template'!D422,0)","v":0},"Error",null,null,null,null,null,null,null,null,null,null,{"$f":"IF(OR(LEFT('Web Links'!$C408,2)=\"In\",$C408=\"Error\"),\"?????\",\"\"&C408)","v":"?????"},{"$f":"IF(OR(LEFT('Web Links'!$C408,2)=\"In\",$C408=\"Error\"),\"??????????\",\"\"&D408)","v":"??????????"},{"$f":"IF(OR(LEFT('Web Links'!$C408,2)=\"In\",$C408=\"Error\"),\"???\",IF(LEN(E408)=2,\"0\",IF(LEN(E408)=1,\"00\",\"\")))&'Web Links'!E408","v":"???"},{"$f":"IF(OR(LEFT('Web Links'!$C408,2)=\"In\",$C408=\"Error\"),\"?????\",IF(LEN(G408)=4,\"\",IF(LEN(G408)=3,\"\",IF(LEN(G408)=2,\"\",IF(LEN(G408)=1,\"\",\"\"))))&'Web Links'!G408)","v":"?????"},{"$f":"IF(OR(LEFT('Web Links'!$C408,2)=\"In\",$C408=\"Error\"),\"???????????????\",\"\"&F408)","v":"???????????????"}]
[{"$f":"IF('GL Template'!B423<>\"\",'GL Template'!B423,0)","v":0},{"$f":"IF('GL Template'!D423<>\"\",'GL Template'!D423,0)","v":0},"Error",null,null,null,null,null,null,null,null,null,null,{"$f":"IF(OR(LEFT('Web Links'!$C409,2)=\"In\",$C409=\"Error\"),\"?????\",\"\"&C409)","v":"?????"},{"$f":"IF(OR(LEFT('Web Links'!$C409,2)=\"In\",$C409=\"Error\"),\"??????????\",\"\"&D409)","v":"??????????"},{"$f":"IF(OR(LEFT('Web Links'!$C409,2)=\"In\",$C409=\"Error\"),\"???\",IF(LEN(E409)=2,\"0\",IF(LEN(E409)=1,\"00\",\"\")))&'Web Links'!E409","v":"???"},{"$f":"IF(OR(LEFT('Web Links'!$C409,2)=\"In\",$C409=\"Error\"),\"?????\",IF(LEN(G409)=4,\"\",IF(LEN(G409)=3,\"\",IF(LEN(G409)=2,\"\",IF(LEN(G409)=1,\"\",\"\"))))&'Web Links'!G409)","v":"?????"},{"$f":"IF(OR(LEFT('Web Links'!$C409,2)=\"In\",$C409=\"Error\"),\"???????????????\",\"\"&F409)","v":"???????????????"}]
[{"$f":"IF('GL Template'!B424<>\"\",'GL Template'!B424,0)","v":0},{"$f":"IF('GL Template'!D424<>\"\",'GL Template'!D424,0)","v":0},"Error",null,null,null,null,null,null,null,null,null,null,{"$f":"IF(OR(LEFT('Web Links'!$C410,2)=\"In\",$C410=\"Error\"),\"?????\",\"\"&C410)","v":"?????"},{"$f":"IF(OR(LEFT('Web Links'!$C410,2)=\"In\",$C410=\"Error\"),\"??????????\",\"\"&D410)","v":"??????????"},{"$f":"IF(OR(LEFT('Web Links'!$C410,2)=\"In\",$C410=\"Error\"),\"???\",IF(LEN(E410)=2,\"0\",IF(LEN(E410)=1,\"00\",\"\")))&'Web Links'!E410","v":"???"},{"$f":"IF(OR(LEFT('Web Links'!$C410,2)=\"In\",$C410=\"Error\"),\"?????\",IF(LEN(G410)=4,\"\",IF(LEN(G410)=3,\"\",IF(LEN(G410)=2,\"\",IF(LEN(G410)=1,\"\",\"\"))))&'Web Links'!G410)","v":"?????"},{"$f":"IF(OR(LEFT('Web Links'!$C410,2)=\"In\",$C410=\"Error\"),\"???????????????\",\"\"&F410)","v":"???????????????"}]
[{"$f":"IF('GL Template'!B425<>\"\",'GL Template'!B425,0)","v":0},{"$f":"IF('GL Template'!D425<>\"\",'GL Template'!D425,0)","v":0},"Error",null,null,null,null,null,null,null,null,null,null,{"$f":"IF(OR(LEFT('Web Links'!$C411,2)=\"In\",$C411=\"Error\"),\"?????\",\"\"&C411)","v":"?????"},{"$f":"IF(OR(LEFT('Web Links'!$C411,2)=\"In\",$C411=\"Error\"),\"??????????\",\"\"&D411)","v":"??????????"},{"$f":"IF(OR(LEFT('Web Links'!$C411,2)=\"In\",$C411=\"Error\"),\"???\",IF(LEN(E411)=2,\"0\",IF(LEN(E411)=1,\"00\",\"\")))&'Web Links'!E411","v":"???"},{"$f":"IF(OR(LEFT('Web Links'!$C411,2)=\"In\",$C411=\"Error\"),\"?????\",IF(LEN(G411)=4,\"\",IF(LEN(G411)=3,\"\",IF(LEN(G411)=2,\"\",IF(LEN(G411)=1,\"\",\"\"))))&'Web Links'!G411)","v":"?????"},{"$f":"IF(OR(LEFT('Web Links'!$C411,2)=\"In\",$C411=\"Error\"),\"???????????????\",\"\"&F411)","v":"???????????????"}]
[{"$f":"IF('GL Template'!B426<>\"\",'GL Template'!B426,0)","v":0},{"$f":"IF('GL Template'!D426<>\"\",'GL Template'!D426,0)","v":0},"Error",null,null,null,null,null,null,null,null,null,null,{"$f":"IF(OR(LEFT('Web Links'!$C412,2)=\"In\",$C412=\"Error\"),\"?????\",\"\"&C412)","v":"?????"},{"$f":"IF(OR(LEFT('Web Links'!$C412,2)=\"In\",$C412=\"Error\"),\"??????????\",\"\"&D412)","v":"??????????"},{"$f":"IF(OR(LEFT('Web Links'!$C412,2)=\"In\",$C412=\"Error\"),\"???\",IF(LEN(E412)=2,\"0\",IF(LEN(E412)=1,\"00\",\"\")))&'Web Links'!E412","v":"???"},{"$f":"IF(OR(LEFT('Web Links'!$C412,2)=\"In\",$C412=\"Error\"),\"?????\",IF(LEN(G412)=4,\"\",IF(LEN(G412)=3,\"\",IF(LEN(G412)=2,\"\",IF(LEN(G412)=1,\"\",\"\"))))&'Web Links'!G412)","v":"?????"},{"$f":"IF(OR(LEFT('Web Links'!$C412,2)=\"In\",$C412=\"Error\"),\"???????????????\",\"\"&F412)","v":"???????????????"}]
[{"$f":"IF('GL Template'!B427<>\"\",'GL Template'!B427,0)","v":0},{"$f":"IF('GL Template'!D427<>\"\",'GL Template'!D427,0)","v":0},"Error",null,null,null,null,null,null,null,null,null,null,{"$f":"IF(OR(LEFT('Web Links'!$C413,2)=\"In\",$C413=\"Error\"),\"?????\",\"\"&C413)","v":"?????"},{"$f":"IF(OR(LEFT('Web Links'!$C413,2)=\"In\",$C413=\"Error\"),\"??????????\",\"\"&D413)","v":"??????????"},{"$f":"IF(OR(LEFT('Web Links'!$C413,2)=\"In\",$C413=\"Error\"),\"???\",IF(LEN(E413)=2,\"0\",IF(LEN(E413)=1,\"00\",\"\")))&'Web Links'!E413","v":"???"},{"$f":"IF(OR(LEFT('Web Links'!$C413,2)=\"In\",$C413=\"Error\"),\"?????\",IF(LEN(G413)=4,\"\",IF(LEN(G413)=3,\"\",IF(LEN(G413)=2,\"\",IF(LEN(G413)=1,\"\",\"\"))))&'Web Links'!G413)","v":"?????"},{"$f":"IF(OR(LEFT('Web Links'!$C413,2)=\"In\",$C413=\"Error\"),\"???????????????\",\"\"&F413)","v":"???????????????"}]
[{"$f":"IF('GL Template'!B428<>\"\",'GL Template'!B428,0)","v":0},{"$f":"IF('GL Template'!D428<>\"\",'GL Template'!D428,0)","v":0},"Error",null,null,null,null,null,null,null,null,null,null,{"$f":"IF(OR(LEFT('Web Links'!$C414,2)=\"In\",$C414=\"Error\"),\"?????\",\"\"&C414)","v":"?????"},{"$f":"IF(OR(LEFT('Web Links'!$C414,2)=\"In\",$C414=\"Error\"),\"??????????\",\"\"&D414)","v":"??????????"},{"$f":"IF(OR(LEFT('Web Links'!$C414,2)=\"In\",$C414=\"Error\"),\"???\",IF(LEN(E414)=2,\"0\",IF(LEN(E414)=1,\"00\",\"\")))&'Web Links'!E414","v":"???"},{"$f":"IF(OR(LEFT('Web Links'!$C414,2)=\"In\",$C414=\"Error\"),\"?????\",IF(LEN(G414)=4,\"\",IF(LEN(G414)=3,\"\",IF(LEN(G414)=2,\"\",IF(LEN(G414)=1,\"\",\"\"))))&'Web Links'!G414)","v":"?????"},{"$f":"IF(OR(LEFT('Web Links'!$C414,2)=\"In\",$C414=\"Error\"),\"???????????????\",\"\"&F414)","v":"???????????????"}]
[{"$f":"IF('GL Template'!B429<>\"\",'GL Template'!B429,0)","v":0},{"$f":"IF('GL Template'!D429<>\"\",'GL Template'!D429,0)","v":0},"Error",null,null,null,null,null,null,null,null,null,null,{"$f":"IF(OR(LEFT('Web Links'!$C415,2)=\"In\",$C415=\"Error\"),\"?????\",\"\"&C415)","v":"?????"},{"$f":"IF(OR(LEFT('Web Links'!$C415,2)=\"In\",$C415=\"Error\"),\"??????????\",\"\"&D415)","v":"??????????"},{"$f":"IF(OR(LEFT('Web Links'!$C415,2)=\"In\",$C415=\"Error\"),\"???\",IF(LEN(E415)=2,\"0\",IF(LEN(E415)=1,\"00\",\"\")))&'Web Links'!E415","v":"???"},{"$f":"IF(OR(LEFT('Web Links'!$C415,2)=\"In\",$C415=\"Error\"),\"?????\",IF(LEN(G415)=4,\"\",IF(LEN(G415)=3,\"\",IF(LEN(G415)=2,\"\",IF(LEN(G415)=1,\"\",\"\"))))&'Web Links'!G415)","v":"?????"},{"$f":"IF(OR(LEFT('Web Links'!$C415,2)=\"In\",$C415=\"Error\"),\"???????????????\",\"\"&F415)","v":"???????????????"}]
[{"$f":"IF('GL Template'!B430<>\"\",'GL Template'!B430,0)","v":0},{"$f":"IF('GL Template'!D430<>\"\",'GL Template'!D430,0)","v":0},"Error",null,null,null,null,null,null,null,null,null,null,{"$f":"IF(OR(LEFT('Web Links'!$C416,2)=\"In\",$C416=\"Error\"),\"?????\",\"\"&C416)","v":"?????"},{"$f":"IF(OR(LEFT('Web Links'!$C416,2)=\"In\",$C416=\"Error\"),\"??????????\",\"\"&D416)","v":"??????????"},{"$f":"IF(OR(LEFT('Web Links'!$C416,2)=\"In\",$C416=\"Error\"),\"???\",IF(LEN(E416)=2,\"0\",IF(LEN(E416)=1,\"00\",\"\")))&'Web Links'!E416","v":"???"},{"$f":"IF(OR(LEFT('Web Links'!$C416,2)=\"In\",$C416=\"Error\"),\"?????\",IF(LEN(G416)=4,\"\",IF(LEN(G416)=3,\"\",IF(LEN(G416)=2,\"\",IF(LEN(G416)=1,\"\",\"\"))))&'Web Links'!G416)","v":"?????"},{"$f":"IF(OR(LEFT('Web Links'!$C416,2)=\"In\",$C416=\"Error\"),\"???????????????\",\"\"&F416)","v":"???????????????"}]
[{"$f":"IF('GL Template'!B431<>\"\",'GL Template'!B431,0)","v":0},{"$f":"IF('GL Template'!D431<>\"\",'GL Template'!D431,0)","v":0},"Error",null,null,null,null,null,null,null,null,null,null,{"$f":"IF(OR(LEFT('Web Links'!$C417,2)=\"In\",$C417=\"Error\"),\"?????\",\"\"&C417)","v":"?????"},{"$f":"IF(OR(LEFT('Web Links'!$C417,2)=\"In\",$C417=\"Error\"),\"??????????\",\"\"&D417)","v":"??????????"},{"$f":"IF(OR(LEFT('Web Links'!$C417,2)=\"In\",$C417=\"Error\"),\"???\",IF(LEN(E417)=2,\"0\",IF(LEN(E417)=1,\"00\",\"\")))&'Web Links'!E417","v":"???"},{"$f":"IF(OR(LEFT('Web Links'!$C417,2)=\"In\",$C417=\"Error\"),\"?????\",IF(LEN(G417)=4,\"\",IF(LEN(G417)=3,\"\",IF(LEN(G417)=2,\"\",IF(LEN(G417)=1,\"\",\"\"))))&'Web Links'!G417)","v":"?????"},{"$f":"IF(OR(LEFT('Web Links'!$C417,2)=\"In\",$C417=\"Error\"),\"???????????????\",\"\"&F417)","v":"???????????????"}]
[{"$f":"IF('GL Template'!B432<>\"\",'GL Template'!B432,0)","v":0},{"$f":"IF('GL Template'!D432<>\"\",'GL Template'!D432,0)","v":0},"Error",null,null,null,null,null,null,null,null,null,null,{"$f":"IF(OR(LEFT('Web Links'!$C418,2)=\"In\",$C418=\"Error\"),\"?????\",\"\"&C418)","v":"?????"},{"$f":"IF(OR(LEFT('Web Links'!$C418,2)=\"In\",$C418=\"Error\"),\"??????????\",\"\"&D418)","v":"??????????"},{"$f":"IF(OR(LEFT('Web Links'!$C418,2)=\"In\",$C418=\"Error\"),\"???\",IF(LEN(E418)=2,\"0\",IF(LEN(E418)=1,\"00\",\"\")))&'Web Links'!E418","v":"???"},{"$f":"IF(OR(LEFT('Web Links'!$C418,2)=\"In\",$C418=\"Error\"),\"?????\",IF(LEN(G418)=4,\"\",IF(LEN(G418)=3,\"\",IF(LEN(G418)=2,\"\",IF(LEN(G418)=1,\"\",\"\"))))&'Web Links'!G418)","v":"?????"},{"$f":"IF(OR(LEFT('Web Links'!$C418,2)=\"In\",$C418=\"Error\"),\"???????????????\",\"\"&F418)","v":"???????????????"}]
[{"$f":"IF('GL Template'!B433<>\"\",'GL Template'!B433,0)","v":0},{"$f":"IF('GL Template'!D433<>\"\",'GL Template'!D433,0)","v":0},"Error",null,null,null,null,null,null,null,null,null,null,{"$f":"IF(OR(LEFT('Web Links'!$C419,2)=\"In\",$C419=\"Error\"),\"?????\",\"\"&C419)","v":"?????"},{"$f":"IF(OR(LEFT('Web Links'!$C419,2)=\"In\",$C419=\"Error\"),\"??????????\",\"\"&D419)","v":"??????????"},{"$f":"IF(OR(LEFT('Web Links'!$C419,2)=\"In\",$C419=\"Error\"),\"???\",IF(LEN(E419)=2,\"0\",IF(LEN(E419)=1,\"00\",\"\")))&'Web Links'!E419","v":"???"},{"$f":"IF(OR(LEFT('Web Links'!$C419,2)=\"In\",$C419=\"Error\"),\"?????\",IF(LEN(G419)=4,\"\",IF(LEN(G419)=3,\"\",IF(LEN(G419)=2,\"\",IF(LEN(G419)=1,\"\",\"\"))))&'Web Links'!G419)","v":"?????"},{"$f":"IF(OR(LEFT('Web Links'!$C419,2)=\"In\",$C419=\"Error\"),\"???????????????\",\"\"&F419)","v":"???????????????"}]
[{"$f":"IF('GL Template'!B434<>\"\",'GL Template'!B434,0)","v":0},{"$f":"IF('GL Template'!D434<>\"\",'GL Template'!D434,0)","v":0},"Error",null,null,null,null,null,null,null,null,null,null,{"$f":"IF(OR(LEFT('Web Links'!$C420,2)=\"In\",$C420=\"Error\"),\"?????\",\"\"&C420)","v":"?????"},{"$f":"IF(OR(LEFT('Web Links'!$C420,2)=\"In\",$C420=\"Error\"),\"??????????\",\"\"&D420)","v":"??????????"},{"$f":"IF(OR(LEFT('Web Links'!$C420,2)=\"In\",$C420=\"Error\"),\"???\",IF(LEN(E420)=2,\"0\",IF(LEN(E420)=1,\"00\",\"\")))&'Web Links'!E420","v":"???"},{"$f":"IF(OR(LEFT('Web Links'!$C420,2)=\"In\",$C420=\"Error\"),\"?????\",IF(LEN(G420)=4,\"\",IF(LEN(G420)=3,\"\",IF(LEN(G420)=2,\"\",IF(LEN(G420)=1,\"\",\"\"))))&'Web Links'!G420)","v":"?????"},{"$f":"IF(OR(LEFT('Web Links'!$C420,2)=\"In\",$C420=\"Error\"),\"???????????????\",\"\"&F420)","v":"???????????????"}]
[{"$f":"IF('GL Template'!B435<>\"\",'GL Template'!B435,0)","v":0},{"$f":"IF('GL Template'!D435<>\"\",'GL Template'!D435,0)","v":0},"Error",null,null,null,null,null,null,null,null,null,null,{"$f":"IF(OR(LEFT('Web Links'!$C421,2)=\"In\",$C421=\"Error\"),\"?????\",\"\"&C421)","v":"?????"},{"$f":"IF(OR(LEFT('Web Links'!$C421,2)=\"In\",$C421=\"Error\"),\"??????????\",\"\"&D421)","v":"??????????"},{"$f":"IF(OR(LEFT('Web Links'!$C421,2)=\"In\",$C421=\"Error\"),\"???\",IF(LEN(E421)=2,\"0\",IF(LEN(E421)=1,\"00\",\"\")))&'Web Links'!E421","v":"???"},{"$f":"IF(OR(LEFT('Web Links'!$C421,2)=\"In\",$C421=\"Error\"),\"?????\",IF(LEN(G421)=4,\"\",IF(LEN(G421)=3,\"\",IF(LEN(G421)=2,\"\",IF(LEN(G421)=1,\"\",\"\"))))&'Web Links'!G421)","v":"?????"},{"$f":"IF(OR(LEFT('Web Links'!$C421,2)=\"In\",$C421=\"Error\"),\"???????????????\",\"\"&F421)","v":"???????????????"}]
[{"$f":"IF('GL Template'!B436<>\"\",'GL Template'!B436,0)","v":0},{"$f":"IF('GL Template'!D436<>\"\",'GL Template'!D436,0)","v":0},"Error",null,null,null,null,null,null,null,null,null,null,{"$f":"IF(OR(LEFT('Web Links'!$C422,2)=\"In\",$C422=\"Error\"),\"?????\",\"\"&C422)","v":"?????"},{"$f":"IF(OR(LEFT('Web Links'!$C422,2)=\"In\",$C422=\"Error\"),\"??????????\",\"\"&D422)","v":"??????????"},{"$f":"IF(OR(LEFT('Web Links'!$C422,2)=\"In\",$C422=\"Error\"),\"???\",IF(LEN(E422)=2,\"0\",IF(LEN(E422)=1,\"00\",\"\")))&'Web Links'!E422","v":"???"},{"$f":"IF(OR(LEFT('Web Links'!$C422,2)=\"In\",$C422=\"Error\"),\"?????\",IF(LEN(G422)=4,\"\",IF(LEN(G422)=3,\"\",IF(LEN(G422)=2,\"\",IF(LEN(G422)=1,\"\",\"\"))))&'Web Links'!G422)","v":"?????"},{"$f":"IF(OR(LEFT('Web Links'!$C422,2)=\"In\",$C422=\"Error\"),\"???????????????\",\"\"&F422)","v":"???????????????"}]
[{"$f":"IF('GL Template'!B437<>\"\",'GL Template'!B437,0)","v":0},{"$f":"IF('GL Template'!D437<>\"\",'GL Template'!D437,0)","v":0},"Error",null,null,null,null,null,null,null,null,null,null,{"$f":"IF(OR(LEFT('Web Links'!$C423,2)=\"In\",$C423=\"Error\"),\"?????\",\"\"&C423)","v":"?????"},{"$f":"IF(OR(LEFT('Web Links'!$C423,2)=\"In\",$C423=\"Error\"),\"??????????\",\"\"&D423)","v":"??????????"},{"$f":"IF(OR(LEFT('Web Links'!$C423,2)=\"In\",$C423=\"Error\"),\"???\",IF(LEN(E423)=2,\"0\",IF(LEN(E423)=1,\"00\",\"\")))&'Web Links'!E423","v":"???"},{"$f":"IF(OR(LEFT('Web Links'!$C423,2)=\"In\",$C423=\"Error\"),\"?????\",IF(LEN(G423)=4,\"\",IF(LEN(G423)=3,\"\",IF(LEN(G423)=2,\"\",IF(LEN(G423)=1,\"\",\"\"))))&'Web Links'!G423)","v":"?????"},{"$f":"IF(OR(LEFT('Web Links'!$C423,2)=\"In\",$C423=\"Error\"),\"???????????????\",\"\"&F423)","v":"???????????????"}]
[{"$f":"IF('GL Template'!B438<>\"\",'GL Template'!B438,0)","v":0},{"$f":"IF('GL Template'!D438<>\"\",'GL Template'!D438,0)","v":0},"Error",null,null,null,null,null,null,null,null,null,null,{"$f":"IF(OR(LEFT('Web Links'!$C424,2)=\"In\",$C424=\"Error\"),\"?????\",\"\"&C424)","v":"?????"},{"$f":"IF(OR(LEFT('Web Links'!$C424,2)=\"In\",$C424=\"Error\"),\"??????????\",\"\"&D424)","v":"??????????"},{"$f":"IF(OR(LEFT('Web Links'!$C424,2)=\"In\",$C424=\"Error\"),\"???\",IF(LEN(E424)=2,\"0\",IF(LEN(E424)=1,\"00\",\"\")))&'Web Links'!E424","v":"???"},{"$f":"IF(OR(LEFT('Web Links'!$C424,2)=\"In\",$C424=\"Error\"),\"?????\",IF(LEN(G424)=4,\"\",IF(LEN(G424)=3,\"\",IF(LEN(G424)=2,\"\",IF(LEN(G424)=1,\"\",\"\"))))&'Web Links'!G424)","v":"?????"},{"$f":"IF(OR(LEFT('Web Links'!$C424,2)=\"In\",$C424=\"Error\"),\"???????????????\",\"\"&F424)","v":"???????????????"}]
[{"$f":"IF('GL Template'!B439<>\"\",'GL Template'!B439,0)","v":0},{"$f":"IF('GL Template'!D439<>\"\",'GL Template'!D439,0)","v":0},"Error",null,null,null,null,null,null,null,null,null,null,{"$f":"IF(OR(LEFT('Web Links'!$C425,2)=\"In\",$C425=\"Error\"),\"?????\",\"\"&C425)","v":"?????"},{"$f":"IF(OR(LEFT('Web Links'!$C425,2)=\"In\",$C425=\"Error\"),\"??????????\",\"\"&D425)","v":"??????????"},{"$f":"IF(OR(LEFT('Web Links'!$C425,2)=\"In\",$C425=\"Error\"),\"???\",IF(LEN(E425)=2,\"0\",IF(LEN(E425)=1,\"00\",\"\")))&'Web Links'!E425","v":"???"},{"$f":"IF(OR(LEFT('Web Links'!$C425,2)=\"In\",$C425=\"Error\"),\"?????\",IF(LEN(G425)=4,\"\",IF(LEN(G425)=3,\"\",IF(LEN(G425)=2,\"\",IF(LEN(G425)=1,\"\",\"\"))))&'Web Links'!G425)","v":"?????"},{"$f":"IF(OR(LEFT('Web Links'!$C425,2)=\"In\",$C425=\"Error\"),\"???????????????\",\"\"&F425)","v":"???????????????"}]
[{"$f":"IF('GL Template'!B440<>\"\",'GL Template'!B440,0)","v":0},{"$f":"IF('GL Template'!D440<>\"\",'GL Template'!D440,0)","v":0},"Error",null,null,null,null,null,null,null,null,null,null,{"$f":"IF(OR(LEFT('Web Links'!$C426,2)=\"In\",$C426=\"Error\"),\"?????\",\"\"&C426)","v":"?????"},{"$f":"IF(OR(LEFT('Web Links'!$C426,2)=\"In\",$C426=\"Error\"),\"??????????\",\"\"&D426)","v":"??????????"},{"$f":"IF(OR(LEFT('Web Links'!$C426,2)=\"In\",$C426=\"Error\"),\"???\",IF(LEN(E426)=2,\"0\",IF(LEN(E426)=1,\"00\",\"\")))&'Web Links'!E426","v":"???"},{"$f":"IF(OR(LEFT('Web Links'!$C426,2)=\"In\",$C426=\"Error\"),\"?????\",IF(LEN(G426)=4,\"\",IF(LEN(G426)=3,\"\",IF(LEN(G426)=2,\"\",IF(LEN(G426)=1,\"\",\"\"))))&'Web Links'!G426)","v":"?????"},{"$f":"IF(OR(LEFT('Web Links'!$C426,2)=\"In\",$C426=\"Error\"),\"???????????????\",\"\"&F426)","v":"???????????????"}]
[{"$f":"IF('GL Template'!B441<>\"\",'GL Template'!B441,0)","v":0},{"$f":"IF('GL Template'!D441<>\"\",'GL Template'!D441,0)","v":0},"Error",null,null,null,null,null,null,null,null,null,null,{"$f":"IF(OR(LEFT('Web Links'!$C427,2)=\"In\",$C427=\"Error\"),\"?????\",\"\"&C427)","v":"?????"},{"$f":"IF(OR(LEFT('Web Links'!$C427,2)=\"In\",$C427=\"Error\"),\"??????????\",\"\"&D427)","v":"??????????"},{"$f":"IF(OR(LEFT('Web Links'!$C427,2)=\"In\",$C427=\"Error\"),\"???\",IF(LEN(E427)=2,\"0\",IF(LEN(E427)=1,\"00\",\"\")))&'Web Links'!E427","v":"???"},{"$f":"IF(OR(LEFT('Web Links'!$C427,2)=\"In\",$C427=\"Error\"),\"?????\",IF(LEN(G427)=4,\"\",IF(LEN(G427)=3,\"\",IF(LEN(G427)=2,\"\",IF(LEN(G427)=1,\"\",\"\"))))&'Web Links'!G427)","v":"?????"},{"$f":"IF(OR(LEFT('Web Links'!$C427,2)=\"In\",$C427=\"Error\"),\"???????????????\",\"\"&F427)","v":"???????????????"}]
[{"$f":"IF('GL Template'!B442<>\"\",'GL Template'!B442,0)","v":0},{"$f":"IF('GL Template'!D442<>\"\",'GL Template'!D442,0)","v":0},"Error",null,null,null,null,null,null,null,null,null,null,{"$f":"IF(OR(LEFT('Web Links'!$C428,2)=\"In\",$C428=\"Error\"),\"?????\",\"\"&C428)","v":"?????"},{"$f":"IF(OR(LEFT('Web Links'!$C428,2)=\"In\",$C428=\"Error\"),\"??????????\",\"\"&D428)","v":"??????????"},{"$f":"IF(OR(LEFT('Web Links'!$C428,2)=\"In\",$C428=\"Error\"),\"???\",IF(LEN(E428)=2,\"0\",IF(LEN(E428)=1,\"00\",\"\")))&'Web Links'!E428","v":"???"},{"$f":"IF(OR(LEFT('Web Links'!$C428,2)=\"In\",$C428=\"Error\"),\"?????\",IF(LEN(G428)=4,\"\",IF(LEN(G428)=3,\"\",IF(LEN(G428)=2,\"\",IF(LEN(G428)=1,\"\",\"\"))))&'Web Links'!G428)","v":"?????"},{"$f":"IF(OR(LEFT('Web Links'!$C428,2)=\"In\",$C428=\"Error\"),\"???????????????\",\"\"&F428)","v":"???????????????"}]
[{"$f":"IF('GL Template'!B443<>\"\",'GL Template'!B443,0)","v":0},{"$f":"IF('GL Template'!D443<>\"\",'GL Template'!D443,0)","v":0},"Error",null,null,null,null,null,null,null,null,null,null,{"$f":"IF(OR(LEFT('Web Links'!$C429,2)=\"In\",$C429=\"Error\"),\"?????\",\"\"&C429)","v":"?????"},{"$f":"IF(OR(LEFT('Web Links'!$C429,2)=\"In\",$C429=\"Error\"),\"??????????\",\"\"&D429)","v":"??????????"},{"$f":"IF(OR(LEFT('Web Links'!$C429,2)=\"In\",$C429=\"Error\"),\"???\",IF(LEN(E429)=2,\"0\",IF(LEN(E429)=1,\"00\",\"\")))&'Web Links'!E429","v":"???"},{"$f":"IF(OR(LEFT('Web Links'!$C429,2)=\"In\",$C429=\"Error\"),\"?????\",IF(LEN(G429)=4,\"\",IF(LEN(G429)=3,\"\",IF(LEN(G429)=2,\"\",IF(LEN(G429)=1,\"\",\"\"))))&'Web Links'!G429)","v":"?????"},{"$f":"IF(OR(LEFT('Web Links'!$C429,2)=\"In\",$C429=\"Error\"),\"???????????????\",\"\"&F429)","v":"???????????????"}]
[{"$f":"IF('GL Template'!B444<>\"\",'GL Template'!B444,0)","v":0},{"$f":"IF('GL Template'!D444<>\"\",'GL Template'!D444,0)","v":0},"Error",null,null,null,null,null,null,null,null,null,null,{"$f":"IF(OR(LEFT('Web Links'!$C430,2)=\"In\",$C430=\"Error\"),\"?????\",\"\"&C430)","v":"?????"},{"$f":"IF(OR(LEFT('Web Links'!$C430,2)=\"In\",$C430=\"Error\"),\"??????????\",\"\"&D430)","v":"??????????"},{"$f":"IF(OR(LEFT('Web Links'!$C430,2)=\"In\",$C430=\"Error\"),\"???\",IF(LEN(E430)=2,\"0\",IF(LEN(E430)=1,\"00\",\"\")))&'Web Links'!E430","v":"???"},{"$f":"IF(OR(LEFT('Web Links'!$C430,2)=\"In\",$C430=\"Error\"),\"?????\",IF(LEN(G430)=4,\"\",IF(LEN(G430)=3,\"\",IF(LEN(G430)=2,\"\",IF(LEN(G430)=1,\"\",\"\"))))&'Web Links'!G430)","v":"?????"},{"$f":"IF(OR(LEFT('Web Links'!$C430,2)=\"In\",$C430=\"Error\"),\"???????????????\",\"\"&F430)","v":"???????????????"}]
[{"$f":"IF('GL Template'!B445<>\"\",'GL Template'!B445,0)","v":0},{"$f":"IF('GL Template'!D445<>\"\",'GL Template'!D445,0)","v":0},"Error",null,null,null,null,null,null,null,null,null,null,{"$f":"IF(OR(LEFT('Web Links'!$C431,2)=\"In\",$C431=\"Error\"),\"?????\",\"\"&C431)","v":"?????"},{"$f":"IF(OR(LEFT('Web Links'!$C431,2)=\"In\",$C431=\"Error\"),\"??????????\",\"\"&D431)","v":"??????????"},{"$f":"IF(OR(LEFT('Web Links'!$C431,2)=\"In\",$C431=\"Error\"),\"???\",IF(LEN(E431)=2,\"0\",IF(LEN(E431)=1,\"00\",\"\")))&'Web Links'!E431","v":"???"},{"$f":"IF(OR(LEFT('Web Links'!$C431,2)=\"In\",$C431=\"Error\"),\"?????\",IF(LEN(G431)=4,\"\",IF(LEN(G431)=3,\"\",IF(LEN(G431)=2,\"\",IF(LEN(G431)=1,\"\",\"\"))))&'Web Links'!G431)","v":"?????"},{"$f":"IF(OR(LEFT('Web Links'!$C431,2)=\"In\",$C431=\"Error\"),\"???????????????\",\"\"&F431)","v":"???????????????"}]
[{"$f":"IF('GL Template'!B446<>\"\",'GL Template'!B446,0)","v":0},{"$f":"IF('GL Template'!D446<>\"\",'GL Template'!D446,0)","v":0},"Error",null,null,null,null,null,null,null,null,null,null,{"$f":"IF(OR(LEFT('Web Links'!$C432,2)=\"In\",$C432=\"Error\"),\"?????\",\"\"&C432)","v":"?????"},{"$f":"IF(OR(LEFT('Web Links'!$C432,2)=\"In\",$C432=\"Error\"),\"??????????\",\"\"&D432)","v":"??????????"},{"$f":"IF(OR(LEFT('Web Links'!$C432,2)=\"In\",$C432=\"Error\"),\"???\",IF(LEN(E432)=2,\"0\",IF(LEN(E432)=1,\"00\",\"\")))&'Web Links'!E432","v":"???"},{"$f":"IF(OR(LEFT('Web Links'!$C432,2)=\"In\",$C432=\"Error\"),\"?????\",IF(LEN(G432)=4,\"\",IF(LEN(G432)=3,\"\",IF(LEN(G432)=2,\"\",IF(LEN(G432)=1,\"\",\"\"))))&'Web Links'!G432)","v":"?????"},{"$f":"IF(OR(LEFT('Web Links'!$C432,2)=\"In\",$C432=\"Error\"),\"???????????????\",\"\"&F432)","v":"???????????????"}]
[{"$f":"IF('GL Template'!B447<>\"\",'GL Template'!B447,0)","v":0},{"$f":"IF('GL Template'!D447<>\"\",'GL Template'!D447,0)","v":0},"Error",null,null,null,null,null,null,null,null,null,null,{"$f":"IF(OR(LEFT('Web Links'!$C433,2)=\"In\",$C433=\"Error\"),\"?????\",\"\"&C433)","v":"?????"},{"$f":"IF(OR(LEFT('Web Links'!$C433,2)=\"In\",$C433=\"Error\"),\"??????????\",\"\"&D433)","v":"??????????"},{"$f":"IF(OR(LEFT('Web Links'!$C433,2)=\"In\",$C433=\"Error\"),\"???\",IF(LEN(E433)=2,\"0\",IF(LEN(E433)=1,\"00\",\"\")))&'Web Links'!E433","v":"???"},{"$f":"IF(OR(LEFT('Web Links'!$C433,2)=\"In\",$C433=\"Error\"),\"?????\",IF(LEN(G433)=4,\"\",IF(LEN(G433)=3,\"\",IF(LEN(G433)=2,\"\",IF(LEN(G433)=1,\"\",\"\"))))&'Web Links'!G433)","v":"?????"},{"$f":"IF(OR(LEFT('Web Links'!$C433,2)=\"In\",$C433=\"Error\"),\"???????????????\",\"\"&F433)","v":"???????????????"}]
[{"$f":"IF('GL Template'!B448<>\"\",'GL Template'!B448,0)","v":0},{"$f":"IF('GL Template'!D448<>\"\",'GL Template'!D448,0)","v":0},"Error",null,null,null,null,null,null,null,null,null,null,{"$f":"IF(OR(LEFT('Web Links'!$C434,2)=\"In\",$C434=\"Error\"),\"?????\",\"\"&C434)","v":"?????"},{"$f":"IF(OR(LEFT('Web Links'!$C434,2)=\"In\",$C434=\"Error\"),\"??????????\",\"\"&D434)","v":"??????????"},{"$f":"IF(OR(LEFT('Web Links'!$C434,2)=\"In\",$C434=\"Error\"),\"???\",IF(LEN(E434)=2,\"0\",IF(LEN(E434)=1,\"00\",\"\")))&'Web Links'!E434","v":"???"},{"$f":"IF(OR(LEFT('Web Links'!$C434,2)=\"In\",$C434=\"Error\"),\"?????\",IF(LEN(G434)=4,\"\",IF(LEN(G434)=3,\"\",IF(LEN(G434)=2,\"\",IF(LEN(G434)=1,\"\",\"\"))))&'Web Links'!G434)","v":"?????"},{"$f":"IF(OR(LEFT('Web Links'!$C434,2)=\"In\",$C434=\"Error\"),\"???????????????\",\"\"&F434)","v":"???????????????"}]
[{"$f":"IF('GL Template'!B449<>\"\",'GL Template'!B449,0)","v":0},{"$f":"IF('GL Template'!D449<>\"\",'GL Template'!D449,0)","v":0},"Error",null,null,null,null,null,null,null,null,null,null,{"$f":"IF(OR(LEFT('Web Links'!$C435,2)=\"In\",$C435=\"Error\"),\"?????\",\"\"&C435)","v":"?????"},{"$f":"IF(OR(LEFT('Web Links'!$C435,2)=\"In\",$C435=\"Error\"),\"??????????\",\"\"&D435)","v":"??????????"},{"$f":"IF(OR(LEFT('Web Links'!$C435,2)=\"In\",$C435=\"Error\"),\"???\",IF(LEN(E435)=2,\"0\",IF(LEN(E435)=1,\"00\",\"\")))&'Web Links'!E435","v":"???"},{"$f":"IF(OR(LEFT('Web Links'!$C435,2)=\"In\",$C435=\"Error\"),\"?????\",IF(LEN(G435)=4,\"\",IF(LEN(G435)=3,\"\",IF(LEN(G435)=2,\"\",IF(LEN(G435)=1,\"\",\"\"))))&'Web Links'!G435)","v":"?????"},{"$f":"IF(OR(LEFT('Web Links'!$C435,2)=\"In\",$C435=\"Error\"),\"???????????????\",\"\"&F435)","v":"???????????????"}]
[{"$f":"IF('GL Template'!B450<>\"\",'GL Template'!B450,0)","v":0},{"$f":"IF('GL Template'!D450<>\"\",'GL Template'!D450,0)","v":0},"Error",null,null,null,null,null,null,null,null,null,null,{"$f":"IF(OR(LEFT('Web Links'!$C436,2)=\"In\",$C436=\"Error\"),\"?????\",\"\"&C436)","v":"?????"},{"$f":"IF(OR(LEFT('Web Links'!$C436,2)=\"In\",$C436=\"Error\"),\"??????????\",\"\"&D436)","v":"??????????"},{"$f":"IF(OR(LEFT('Web Links'!$C436,2)=\"In\",$C436=\"Error\"),\"???\",IF(LEN(E436)=2,\"0\",IF(LEN(E436)=1,\"00\",\"\")))&'Web Links'!E436","v":"???"},{"$f":"IF(OR(LEFT('Web Links'!$C436,2)=\"In\",$C436=\"Error\"),\"?????\",IF(LEN(G436)=4,\"\",IF(LEN(G436)=3,\"\",IF(LEN(G436)=2,\"\",IF(LEN(G436)=1,\"\",\"\"))))&'Web Links'!G436)","v":"?????"},{"$f":"IF(OR(LEFT('Web Links'!$C436,2)=\"In\",$C436=\"Error\"),\"???????????????\",\"\"&F436)","v":"???????????????"}]
[{"$f":"IF('GL Template'!B451<>\"\",'GL Template'!B451,0)","v":0},{"$f":"IF('GL Template'!D451<>\"\",'GL Template'!D451,0)","v":0},"Error",null,null,null,null,null,null,null,null,null,null,{"$f":"IF(OR(LEFT('Web Links'!$C437,2)=\"In\",$C437=\"Error\"),\"?????\",\"\"&C437)","v":"?????"},{"$f":"IF(OR(LEFT('Web Links'!$C437,2)=\"In\",$C437=\"Error\"),\"??????????\",\"\"&D437)","v":"??????????"},{"$f":"IF(OR(LEFT('Web Links'!$C437,2)=\"In\",$C437=\"Error\"),\"???\",IF(LEN(E437)=2,\"0\",IF(LEN(E437)=1,\"00\",\"\")))&'Web Links'!E437","v":"???"},{"$f":"IF(OR(LEFT('Web Links'!$C437,2)=\"In\",$C437=\"Error\"),\"?????\",IF(LEN(G437)=4,\"\",IF(LEN(G437)=3,\"\",IF(LEN(G437)=2,\"\",IF(LEN(G437)=1,\"\",\"\"))))&'Web Links'!G437)","v":"?????"},{"$f":"IF(OR(LEFT('Web Links'!$C437,2)=\"In\",$C437=\"Error\"),\"???????????????\",\"\"&F437)","v":"???????????????"}]
[{"$f":"IF('GL Template'!B452<>\"\",'GL Template'!B452,0)","v":0},{"$f":"IF('GL Template'!D452<>\"\",'GL Template'!D452,0)","v":0},"Error",null,null,null,null,null,null,null,null,null,null,{"$f":"IF(OR(LEFT('Web Links'!$C438,2)=\"In\",$C438=\"Error\"),\"?????\",\"\"&C438)","v":"?????"},{"$f":"IF(OR(LEFT('Web Links'!$C438,2)=\"In\",$C438=\"Error\"),\"??????????\",\"\"&D438)","v":"??????????"},{"$f":"IF(OR(LEFT('Web Links'!$C438,2)=\"In\",$C438=\"Error\"),\"???\",IF(LEN(E438)=2,\"0\",IF(LEN(E438)=1,\"00\",\"\")))&'Web Links'!E438","v":"???"},{"$f":"IF(OR(LEFT('Web Links'!$C438,2)=\"In\",$C438=\"Error\"),\"?????\",IF(LEN(G438)=4,\"\",IF(LEN(G438)=3,\"\",IF(LEN(G438)=2,\"\",IF(LEN(G438)=1,\"\",\"\"))))&'Web Links'!G438)","v":"?????"},{"$f":"IF(OR(LEFT('Web Links'!$C438,2)=\"In\",$C438=\"Error\"),\"???????????????\",\"\"&F438)","v":"???????????????"}]
[{"$f":"IF('GL Template'!B453<>\"\",'GL Template'!B453,0)","v":0},{"$f":"IF('GL Template'!D453<>\"\",'GL Template'!D453,0)","v":0},"Error",null,null,null,null,null,null,null,null,null,null,{"$f":"IF(OR(LEFT('Web Links'!$C439,2)=\"In\",$C439=\"Error\"),\"?????\",\"\"&C439)","v":"?????"},{"$f":"IF(OR(LEFT('Web Links'!$C439,2)=\"In\",$C439=\"Error\"),\"??????????\",\"\"&D439)","v":"??????????"},{"$f":"IF(OR(LEFT('Web Links'!$C439,2)=\"In\",$C439=\"Error\"),\"???\",IF(LEN(E439)=2,\"0\",IF(LEN(E439)=1,\"00\",\"\")))&'Web Links'!E439","v":"???"},{"$f":"IF(OR(LEFT('Web Links'!$C439,2)=\"In\",$C439=\"Error\"),\"?????\",IF(LEN(G439)=4,\"\",IF(LEN(G439)=3,\"\",IF(LEN(G439)=2,\"\",IF(LEN(G439)=1,\"\",\"\"))))&'Web Links'!G439)","v":"?????"},{"$f":"IF(OR(LEFT('Web Links'!$C439,2)=\"In\",$C439=\"Error\"),\"???????????????\",\"\"&F439)","v":"???????????????"}]
[{"$f":"IF('GL Template'!B454<>\"\",'GL Template'!B454,0)","v":0},{"$f":"IF('GL Template'!D454<>\"\",'GL Template'!D454,0)","v":0},"Error",null,null,null,null,null,null,null,null,null,null,{"$f":"IF(OR(LEFT('Web Links'!$C440,2)=\"In\",$C440=\"Error\"),\"?????\",\"\"&C440)","v":"?????"},{"$f":"IF(OR(LEFT('Web Links'!$C440,2)=\"In\",$C440=\"Error\"),\"??????????\",\"\"&D440)","v":"??????????"},{"$f":"IF(OR(LEFT('Web Links'!$C440,2)=\"In\",$C440=\"Error\"),\"???\",IF(LEN(E440)=2,\"0\",IF(LEN(E440)=1,\"00\",\"\")))&'Web Links'!E440","v":"???"},{"$f":"IF(OR(LEFT('Web Links'!$C440,2)=\"In\",$C440=\"Error\"),\"?????\",IF(LEN(G440)=4,\"\",IF(LEN(G440)=3,\"\",IF(LEN(G440)=2,\"\",IF(LEN(G440)=1,\"\",\"\"))))&'Web Links'!G440)","v":"?????"},{"$f":"IF(OR(LEFT('Web Links'!$C440,2)=\"In\",$C440=\"Error\"),\"???????????????\",\"\"&F440)","v":"???????????????"}]
[{"$f":"IF('GL Template'!B455<>\"\",'GL Template'!B455,0)","v":0},{"$f":"IF('GL Template'!D455<>\"\",'GL Template'!D455,0)","v":0},"Error",null,null,null,null,null,null,null,null,null,null,{"$f":"IF(OR(LEFT('Web Links'!$C441,2)=\"In\",$C441=\"Error\"),\"?????\",\"\"&C441)","v":"?????"},{"$f":"IF(OR(LEFT('Web Links'!$C441,2)=\"In\",$C441=\"Error\"),\"??????????\",\"\"&D441)","v":"??????????"},{"$f":"IF(OR(LEFT('Web Links'!$C441,2)=\"In\",$C441=\"Error\"),\"???\",IF(LEN(E441)=2,\"0\",IF(LEN(E441)=1,\"00\",\"\")))&'Web Links'!E441","v":"???"},{"$f":"IF(OR(LEFT('Web Links'!$C441,2)=\"In\",$C441=\"Error\"),\"?????\",IF(LEN(G441)=4,\"\",IF(LEN(G441)=3,\"\",IF(LEN(G441)=2,\"\",IF(LEN(G441)=1,\"\",\"\"))))&'Web Links'!G441)","v":"?????"},{"$f":"IF(OR(LEFT('Web Links'!$C441,2)=\"In\",$C441=\"Error\"),\"???????????????\",\"\"&F441)","v":"???????????????"}]
[{"$f":"IF('GL Template'!B456<>\"\",'GL Template'!B456,0)","v":0},{"$f":"IF('GL Template'!D456<>\"\",'GL Template'!D456,0)","v":0},"Error",null,null,null,null,null,null,null,null,null,null,{"$f":"IF(OR(LEFT('Web Links'!$C442,2)=\"In\",$C442=\"Error\"),\"?????\",\"\"&C442)","v":"?????"},{"$f":"IF(OR(LEFT('Web Links'!$C442,2)=\"In\",$C442=\"Error\"),\"??????????\",\"\"&D442)","v":"??????????"},{"$f":"IF(OR(LEFT('Web Links'!$C442,2)=\"In\",$C442=\"Error\"),\"???\",IF(LEN(E442)=2,\"0\",IF(LEN(E442)=1,\"00\",\"\")))&'Web Links'!E442","v":"???"},{"$f":"IF(OR(LEFT('Web Links'!$C442,2)=\"In\",$C442=\"Error\"),\"?????\",IF(LEN(G442)=4,\"\",IF(LEN(G442)=3,\"\",IF(LEN(G442)=2,\"\",IF(LEN(G442)=1,\"\",\"\"))))&'Web Links'!G442)","v":"?????"},{"$f":"IF(OR(LEFT('Web Links'!$C442,2)=\"In\",$C442=\"Error\"),\"???????????????\",\"\"&F442)","v":"???????????????"}]
[{"$f":"IF('GL Template'!B457<>\"\",'GL Template'!B457,0)","v":0},{"$f":"IF('GL Template'!D457<>\"\",'GL Template'!D457,0)","v":0},"Error",null,null,null,null,null,null,null,null,null,null,{"$f":"IF(OR(LEFT('Web Links'!$C443,2)=\"In\",$C443=\"Error\"),\"?????\",\"\"&C443)","v":"?????"},{"$f":"IF(OR(LEFT('Web Links'!$C443,2)=\"In\",$C443=\"Error\"),\"??????????\",\"\"&D443)","v":"??????????"},{"$f":"IF(OR(LEFT('Web Links'!$C443,2)=\"In\",$C443=\"Error\"),\"???\",IF(LEN(E443)=2,\"0\",IF(LEN(E443)=1,\"00\",\"\")))&'Web Links'!E443","v":"???"},{"$f":"IF(OR(LEFT('Web Links'!$C443,2)=\"In\",$C443=\"Error\"),\"?????\",IF(LEN(G443)=4,\"\",IF(LEN(G443)=3,\"\",IF(LEN(G443)=2,\"\",IF(LEN(G443)=1,\"\",\"\"))))&'Web Links'!G443)","v":"?????"},{"$f":"IF(OR(LEFT('Web Links'!$C443,2)=\"In\",$C443=\"Error\"),\"???????????????\",\"\"&F443)","v":"???????????????"}]
[{"$f":"IF('GL Template'!B458<>\"\",'GL Template'!B458,0)","v":0},{"$f":"IF('GL Template'!D458<>\"\",'GL Template'!D458,0)","v":0},"Error",null,null,null,null,null,null,null,null,null,null,{"$f":"IF(OR(LEFT('Web Links'!$C444,2)=\"In\",$C444=\"Error\"),\"?????\",\"\"&C444)","v":"?????"},{"$f":"IF(OR(LEFT('Web Links'!$C444,2)=\"In\",$C444=\"Error\"),\"??????????\",\"\"&D444)","v":"??????????"},{"$f":"IF(OR(LEFT('Web Links'!$C444,2)=\"In\",$C444=\"Error\"),\"???\",IF(LEN(E444)=2,\"0\",IF(LEN(E444)=1,\"00\",\"\")))&'Web Links'!E444","v":"???"},{"$f":"IF(OR(LEFT('Web Links'!$C444,2)=\"In\",$C444=\"Error\"),\"?????\",IF(LEN(G444)=4,\"\",IF(LEN(G444)=3,\"\",IF(LEN(G444)=2,\"\",IF(LEN(G444)=1,\"\",\"\"))))&'Web Links'!G444)","v":"?????"},{"$f":"IF(OR(LEFT('Web Links'!$C444,2)=\"In\",$C444=\"Error\"),\"???????????????\",\"\"&F444)","v":"???????????????"}]
[{"$f":"IF('GL Template'!B459<>\"\",'GL Template'!B459,0)","v":0},{"$f":"IF('GL Template'!D459<>\"\",'GL Template'!D459,0)","v":0},"Error",null,null,null,null,null,null,null,null,null,null,{"$f":"IF(OR(LEFT('Web Links'!$C445,2)=\"In\",$C445=\"Error\"),\"?????\",\"\"&C445)","v":"?????"},{"$f":"IF(OR(LEFT('Web Links'!$C445,2)=\"In\",$C445=\"Error\"),\"??????????\",\"\"&D445)","v":"??????????"},{"$f":"IF(OR(LEFT('Web Links'!$C445,2)=\"In\",$C445=\"Error\"),\"???\",IF(LEN(E445)=2,\"0\",IF(LEN(E445)=1,\"00\",\"\")))&'Web Links'!E445","v":"???"},{"$f":"IF(OR(LEFT('Web Links'!$C445,2)=\"In\",$C445=\"Error\"),\"?????\",IF(LEN(G445)=4,\"\",IF(LEN(G445)=3,\"\",IF(LEN(G445)=2,\"\",IF(LEN(G445)=1,\"\",\"\"))))&'Web Links'!G445)","v":"?????"},{"$f":"IF(OR(LEFT('Web Links'!$C445,2)=\"In\",$C445=\"Error\"),\"???????????????\",\"\"&F445)","v":"???????????????"}]
[{"$f":"IF('GL Template'!B460<>\"\",'GL Template'!B460,0)","v":0},{"$f":"IF('GL Template'!D460<>\"\",'GL Template'!D460,0)","v":0},"Error",null,null,null,null,null,null,null,null,null,null,{"$f":"IF(OR(LEFT('Web Links'!$C446,2)=\"In\",$C446=\"Error\"),\"?????\",\"\"&C446)","v":"?????"},{"$f":"IF(OR(LEFT('Web Links'!$C446,2)=\"In\",$C446=\"Error\"),\"??????????\",\"\"&D446)","v":"??????????"},{"$f":"IF(OR(LEFT('Web Links'!$C446,2)=\"In\",$C446=\"Error\"),\"???\",IF(LEN(E446)=2,\"0\",IF(LEN(E446)=1,\"00\",\"\")))&'Web Links'!E446","v":"???"},{"$f":"IF(OR(LEFT('Web Links'!$C446,2)=\"In\",$C446=\"Error\"),\"?????\",IF(LEN(G446)=4,\"\",IF(LEN(G446)=3,\"\",IF(LEN(G446)=2,\"\",IF(LEN(G446)=1,\"\",\"\"))))&'Web Links'!G446)","v":"?????"},{"$f":"IF(OR(LEFT('Web Links'!$C446,2)=\"In\",$C446=\"Error\"),\"???????????????\",\"\"&F446)","v":"???????????????"}]
[{"$f":"IF('GL Template'!B461<>\"\",'GL Template'!B461,0)","v":0},{"$f":"IF('GL Template'!D461<>\"\",'GL Template'!D461,0)","v":0},"Error",null,null,null,null,null,null,null,null,null,null,{"$f":"IF(OR(LEFT('Web Links'!$C447,2)=\"In\",$C447=\"Error\"),\"?????\",\"\"&C447)","v":"?????"},{"$f":"IF(OR(LEFT('Web Links'!$C447,2)=\"In\",$C447=\"Error\"),\"??????????\",\"\"&D447)","v":"??????????"},{"$f":"IF(OR(LEFT('Web Links'!$C447,2)=\"In\",$C447=\"Error\"),\"???\",IF(LEN(E447)=2,\"0\",IF(LEN(E447)=1,\"00\",\"\")))&'Web Links'!E447","v":"???"},{"$f":"IF(OR(LEFT('Web Links'!$C447,2)=\"In\",$C447=\"Error\"),\"?????\",IF(LEN(G447)=4,\"\",IF(LEN(G447)=3,\"\",IF(LEN(G447)=2,\"\",IF(LEN(G447)=1,\"\",\"\"))))&'Web Links'!G447)","v":"?????"},{"$f":"IF(OR(LEFT('Web Links'!$C447,2)=\"In\",$C447=\"Error\"),\"???????????????\",\"\"&F447)","v":"???????????????"}]
[{"$f":"IF('GL Template'!B462<>\"\",'GL Template'!B462,0)","v":0},{"$f":"IF('GL Template'!D462<>\"\",'GL Template'!D462,0)","v":0},"Error",null,null,null,null,null,null,null,null,null,null,{"$f":"IF(OR(LEFT('Web Links'!$C448,2)=\"In\",$C448=\"Error\"),\"?????\",\"\"&C448)","v":"?????"},{"$f":"IF(OR(LEFT('Web Links'!$C448,2)=\"In\",$C448=\"Error\"),\"??????????\",\"\"&D448)","v":"??????????"},{"$f":"IF(OR(LEFT('Web Links'!$C448,2)=\"In\",$C448=\"Error\"),\"???\",IF(LEN(E448)=2,\"0\",IF(LEN(E448)=1,\"00\",\"\")))&'Web Links'!E448","v":"???"},{"$f":"IF(OR(LEFT('Web Links'!$C448,2)=\"In\",$C448=\"Error\"),\"?????\",IF(LEN(G448)=4,\"\",IF(LEN(G448)=3,\"\",IF(LEN(G448)=2,\"\",IF(LEN(G448)=1,\"\",\"\"))))&'Web Links'!G448)","v":"?????"},{"$f":"IF(OR(LEFT('Web Links'!$C448,2)=\"In\",$C448=\"Error\"),\"???????????????\",\"\"&F448)","v":"???????????????"}]
[{"$f":"IF('GL Template'!B463<>\"\",'GL Template'!B463,0)","v":0},{"$f":"IF('GL Template'!D463<>\"\",'GL Template'!D463,0)","v":0},"Error",null,null,null,null,null,null,null,null,null,null,{"$f":"IF(OR(LEFT('Web Links'!$C449,2)=\"In\",$C449=\"Error\"),\"?????\",\"\"&C449)","v":"?????"},{"$f":"IF(OR(LEFT('Web Links'!$C449,2)=\"In\",$C449=\"Error\"),\"??????????\",\"\"&D449)","v":"??????????"},{"$f":"IF(OR(LEFT('Web Links'!$C449,2)=\"In\",$C449=\"Error\"),\"???\",IF(LEN(E449)=2,\"0\",IF(LEN(E449)=1,\"00\",\"\")))&'Web Links'!E449","v":"???"},{"$f":"IF(OR(LEFT('Web Links'!$C449,2)=\"In\",$C449=\"Error\"),\"?????\",IF(LEN(G449)=4,\"\",IF(LEN(G449)=3,\"\",IF(LEN(G449)=2,\"\",IF(LEN(G449)=1,\"\",\"\"))))&'Web Links'!G449)","v":"?????"},{"$f":"IF(OR(LEFT('Web Links'!$C449,2)=\"In\",$C449=\"Error\"),\"???????????????\",\"\"&F449)","v":"???????????????"}]
[{"$f":"IF('GL Template'!B464<>\"\",'GL Template'!B464,0)","v":0},{"$f":"IF('GL Template'!D464<>\"\",'GL Template'!D464,0)","v":0},"Error",null,null,null,null,null,null,null,null,null,null,{"$f":"IF(OR(LEFT('Web Links'!$C450,2)=\"In\",$C450=\"Error\"),\"?????\",\"\"&C450)","v":"?????"},{"$f":"IF(OR(LEFT('Web Links'!$C450,2)=\"In\",$C450=\"Error\"),\"??????????\",\"\"&D450)","v":"??????????"},{"$f":"IF(OR(LEFT('Web Links'!$C450,2)=\"In\",$C450=\"Error\"),\"???\",IF(LEN(E450)=2,\"0\",IF(LEN(E450)=1,\"00\",\"\")))&'Web Links'!E450","v":"???"},{"$f":"IF(OR(LEFT('Web Links'!$C450,2)=\"In\",$C450=\"Error\"),\"?????\",IF(LEN(G450)=4,\"\",IF(LEN(G450)=3,\"\",IF(LEN(G450)=2,\"\",IF(LEN(G450)=1,\"\",\"\"))))&'Web Links'!G450)","v":"?????"},{"$f":"IF(OR(LEFT('Web Links'!$C450,2)=\"In\",$C450=\"Error\"),\"???????????????\",\"\"&F450)","v":"???????????????"}]
[{"$f":"IF('GL Template'!B465<>\"\",'GL Template'!B465,0)","v":0},{"$f":"IF('GL Template'!D465<>\"\",'GL Template'!D465,0)","v":0},"Error",null,null,null,null,null,null,null,null,null,null,{"$f":"IF(OR(LEFT('Web Links'!$C451,2)=\"In\",$C451=\"Error\"),\"?????\",\"\"&C451)","v":"?????"},{"$f":"IF(OR(LEFT('Web Links'!$C451,2)=\"In\",$C451=\"Error\"),\"??????????\",\"\"&D451)","v":"??????????"},{"$f":"IF(OR(LEFT('Web Links'!$C451,2)=\"In\",$C451=\"Error\"),\"???\",IF(LEN(E451)=2,\"0\",IF(LEN(E451)=1,\"00\",\"\")))&'Web Links'!E451","v":"???"},{"$f":"IF(OR(LEFT('Web Links'!$C451,2)=\"In\",$C451=\"Error\"),\"?????\",IF(LEN(G451)=4,\"\",IF(LEN(G451)=3,\"\",IF(LEN(G451)=2,\"\",IF(LEN(G451)=1,\"\",\"\"))))&'Web Links'!G451)","v":"?????"},{"$f":"IF(OR(LEFT('Web Links'!$C451,2)=\"In\",$C451=\"Error\"),\"???????????????\",\"\"&F451)","v":"???????????????"}]
[{"$f":"IF('GL Template'!B466<>\"\",'GL Template'!B466,0)","v":0},{"$f":"IF('GL Template'!D466<>\"\",'GL Template'!D466,0)","v":0},"Error",null,null,null,null,null,null,null,null,null,null,{"$f":"IF(OR(LEFT('Web Links'!$C452,2)=\"In\",$C452=\"Error\"),\"?????\",\"\"&C452)","v":"?????"},{"$f":"IF(OR(LEFT('Web Links'!$C452,2)=\"In\",$C452=\"Error\"),\"??????????\",\"\"&D452)","v":"??????????"},{"$f":"IF(OR(LEFT('Web Links'!$C452,2)=\"In\",$C452=\"Error\"),\"???\",IF(LEN(E452)=2,\"0\",IF(LEN(E452)=1,\"00\",\"\")))&'Web Links'!E452","v":"???"},{"$f":"IF(OR(LEFT('Web Links'!$C452,2)=\"In\",$C452=\"Error\"),\"?????\",IF(LEN(G452)=4,\"\",IF(LEN(G452)=3,\"\",IF(LEN(G452)=2,\"\",IF(LEN(G452)=1,\"\",\"\"))))&'Web Links'!G452)","v":"?????"},{"$f":"IF(OR(LEFT('Web Links'!$C452,2)=\"In\",$C452=\"Error\"),\"???????????????\",\"\"&F452)","v":"???????????????"}]
[{"$f":"IF('GL Template'!B467<>\"\",'GL Template'!B467,0)","v":0},{"$f":"IF('GL Template'!D467<>\"\",'GL Template'!D467,0)","v":0},"Error",null,null,null,null,null,null,null,null,null,null,{"$f":"IF(OR(LEFT('Web Links'!$C453,2)=\"In\",$C453=\"Error\"),\"?????\",\"\"&C453)","v":"?????"},{"$f":"IF(OR(LEFT('Web Links'!$C453,2)=\"In\",$C453=\"Error\"),\"??????????\",\"\"&D453)","v":"??????????"},{"$f":"IF(OR(LEFT('Web Links'!$C453,2)=\"In\",$C453=\"Error\"),\"???\",IF(LEN(E453)=2,\"0\",IF(LEN(E453)=1,\"00\",\"\")))&'Web Links'!E453","v":"???"},{"$f":"IF(OR(LEFT('Web Links'!$C453,2)=\"In\",$C453=\"Error\"),\"?????\",IF(LEN(G453)=4,\"\",IF(LEN(G453)=3,\"\",IF(LEN(G453)=2,\"\",IF(LEN(G453)=1,\"\",\"\"))))&'Web Links'!G453)","v":"?????"},{"$f":"IF(OR(LEFT('Web Links'!$C453,2)=\"In\",$C453=\"Error\"),\"???????????????\",\"\"&F453)","v":"???????????????"}]
[{"$f":"IF('GL Template'!B468<>\"\",'GL Template'!B468,0)","v":0},{"$f":"IF('GL Template'!D468<>\"\",'GL Template'!D468,0)","v":0},"Error",null,null,null,null,null,null,null,null,null,null,{"$f":"IF(OR(LEFT('Web Links'!$C454,2)=\"In\",$C454=\"Error\"),\"?????\",\"\"&C454)","v":"?????"},{"$f":"IF(OR(LEFT('Web Links'!$C454,2)=\"In\",$C454=\"Error\"),\"??????????\",\"\"&D454)","v":"??????????"},{"$f":"IF(OR(LEFT('Web Links'!$C454,2)=\"In\",$C454=\"Error\"),\"???\",IF(LEN(E454)=2,\"0\",IF(LEN(E454)=1,\"00\",\"\")))&'Web Links'!E454","v":"???"},{"$f":"IF(OR(LEFT('Web Links'!$C454,2)=\"In\",$C454=\"Error\"),\"?????\",IF(LEN(G454)=4,\"\",IF(LEN(G454)=3,\"\",IF(LEN(G454)=2,\"\",IF(LEN(G454)=1,\"\",\"\"))))&'Web Links'!G454)","v":"?????"},{"$f":"IF(OR(LEFT('Web Links'!$C454,2)=\"In\",$C454=\"Error\"),\"???????????????\",\"\"&F454)","v":"???????????????"}]
[{"$f":"IF('GL Template'!B469<>\"\",'GL Template'!B469,0)","v":0},{"$f":"IF('GL Template'!D469<>\"\",'GL Template'!D469,0)","v":0},"Error",null,null,null,null,null,null,null,null,null,null,{"$f":"IF(OR(LEFT('Web Links'!$C455,2)=\"In\",$C455=\"Error\"),\"?????\",\"\"&C455)","v":"?????"},{"$f":"IF(OR(LEFT('Web Links'!$C455,2)=\"In\",$C455=\"Error\"),\"??????????\",\"\"&D455)","v":"??????????"},{"$f":"IF(OR(LEFT('Web Links'!$C455,2)=\"In\",$C455=\"Error\"),\"???\",IF(LEN(E455)=2,\"0\",IF(LEN(E455)=1,\"00\",\"\")))&'Web Links'!E455","v":"???"},{"$f":"IF(OR(LEFT('Web Links'!$C455,2)=\"In\",$C455=\"Error\"),\"?????\",IF(LEN(G455)=4,\"\",IF(LEN(G455)=3,\"\",IF(LEN(G455)=2,\"\",IF(LEN(G455)=1,\"\",\"\"))))&'Web Links'!G455)","v":"?????"},{"$f":"IF(OR(LEFT('Web Links'!$C455,2)=\"In\",$C455=\"Error\"),\"???????????????\",\"\"&F455)","v":"???????????????"}]
[{"$f":"IF('GL Template'!B470<>\"\",'GL Template'!B470,0)","v":0},{"$f":"IF('GL Template'!D470<>\"\",'GL Template'!D470,0)","v":0},"Error",null,null,null,null,null,null,null,null,null,null,{"$f":"IF(OR(LEFT('Web Links'!$C456,2)=\"In\",$C456=\"Error\"),\"?????\",\"\"&C456)","v":"?????"},{"$f":"IF(OR(LEFT('Web Links'!$C456,2)=\"In\",$C456=\"Error\"),\"??????????\",\"\"&D456)","v":"??????????"},{"$f":"IF(OR(LEFT('Web Links'!$C456,2)=\"In\",$C456=\"Error\"),\"???\",IF(LEN(E456)=2,\"0\",IF(LEN(E456)=1,\"00\",\"\")))&'Web Links'!E456","v":"???"},{"$f":"IF(OR(LEFT('Web Links'!$C456,2)=\"In\",$C456=\"Error\"),\"?????\",IF(LEN(G456)=4,\"\",IF(LEN(G456)=3,\"\",IF(LEN(G456)=2,\"\",IF(LEN(G456)=1,\"\",\"\"))))&'Web Links'!G456)","v":"?????"},{"$f":"IF(OR(LEFT('Web Links'!$C456,2)=\"In\",$C456=\"Error\"),\"???????????????\",\"\"&F456)","v":"???????????????"}]
[{"$f":"IF('GL Template'!B471<>\"\",'GL Template'!B471,0)","v":0},{"$f":"IF('GL Template'!D471<>\"\",'GL Template'!D471,0)","v":0},"Error",null,null,null,null,null,null,null,null,null,null,{"$f":"IF(OR(LEFT('Web Links'!$C457,2)=\"In\",$C457=\"Error\"),\"?????\",\"\"&C457)","v":"?????"},{"$f":"IF(OR(LEFT('Web Links'!$C457,2)=\"In\",$C457=\"Error\"),\"??????????\",\"\"&D457)","v":"??????????"},{"$f":"IF(OR(LEFT('Web Links'!$C457,2)=\"In\",$C457=\"Error\"),\"???\",IF(LEN(E457)=2,\"0\",IF(LEN(E457)=1,\"00\",\"\")))&'Web Links'!E457","v":"???"},{"$f":"IF(OR(LEFT('Web Links'!$C457,2)=\"In\",$C457=\"Error\"),\"?????\",IF(LEN(G457)=4,\"\",IF(LEN(G457)=3,\"\",IF(LEN(G457)=2,\"\",IF(LEN(G457)=1,\"\",\"\"))))&'Web Links'!G457)","v":"?????"},{"$f":"IF(OR(LEFT('Web Links'!$C457,2)=\"In\",$C457=\"Error\"),\"???????????????\",\"\"&F457)","v":"???????????????"}]
[{"$f":"IF('GL Template'!B472<>\"\",'GL Template'!B472,0)","v":0},{"$f":"IF('GL Template'!D472<>\"\",'GL Template'!D472,0)","v":0},"Error",null,null,null,null,null,null,null,null,null,null,{"$f":"IF(OR(LEFT('Web Links'!$C458,2)=\"In\",$C458=\"Error\"),\"?????\",\"\"&C458)","v":"?????"},{"$f":"IF(OR(LEFT('Web Links'!$C458,2)=\"In\",$C458=\"Error\"),\"??????????\",\"\"&D458)","v":"??????????"},{"$f":"IF(OR(LEFT('Web Links'!$C458,2)=\"In\",$C458=\"Error\"),\"???\",IF(LEN(E458)=2,\"0\",IF(LEN(E458)=1,\"00\",\"\")))&'Web Links'!E458","v":"???"},{"$f":"IF(OR(LEFT('Web Links'!$C458,2)=\"In\",$C458=\"Error\"),\"?????\",IF(LEN(G458)=4,\"\",IF(LEN(G458)=3,\"\",IF(LEN(G458)=2,\"\",IF(LEN(G458)=1,\"\",\"\"))))&'Web Links'!G458)","v":"?????"},{"$f":"IF(OR(LEFT('Web Links'!$C458,2)=\"In\",$C458=\"Error\"),\"???????????????\",\"\"&F458)","v":"???????????????"}]
[{"$f":"IF('GL Template'!B473<>\"\",'GL Template'!B473,0)","v":0},{"$f":"IF('GL Template'!D473<>\"\",'GL Template'!D473,0)","v":0},"Error",null,null,null,null,null,null,null,null,null,null,{"$f":"IF(OR(LEFT('Web Links'!$C459,2)=\"In\",$C459=\"Error\"),\"?????\",\"\"&C459)","v":"?????"},{"$f":"IF(OR(LEFT('Web Links'!$C459,2)=\"In\",$C459=\"Error\"),\"??????????\",\"\"&D459)","v":"??????????"},{"$f":"IF(OR(LEFT('Web Links'!$C459,2)=\"In\",$C459=\"Error\"),\"???\",IF(LEN(E459)=2,\"0\",IF(LEN(E459)=1,\"00\",\"\")))&'Web Links'!E459","v":"???"},{"$f":"IF(OR(LEFT('Web Links'!$C459,2)=\"In\",$C459=\"Error\"),\"?????\",IF(LEN(G459)=4,\"\",IF(LEN(G459)=3,\"\",IF(LEN(G459)=2,\"\",IF(LEN(G459)=1,\"\",\"\"))))&'Web Links'!G459)","v":"?????"},{"$f":"IF(OR(LEFT('Web Links'!$C459,2)=\"In\",$C459=\"Error\"),\"???????????????\",\"\"&F459)","v":"???????????????"}]
[{"$f":"IF('GL Template'!B474<>\"\",'GL Template'!B474,0)","v":0},{"$f":"IF('GL Template'!D474<>\"\",'GL Template'!D474,0)","v":0},"Error",null,null,null,null,null,null,null,null,null,null,{"$f":"IF(OR(LEFT('Web Links'!$C460,2)=\"In\",$C460=\"Error\"),\"?????\",\"\"&C460)","v":"?????"},{"$f":"IF(OR(LEFT('Web Links'!$C460,2)=\"In\",$C460=\"Error\"),\"??????????\",\"\"&D460)","v":"??????????"},{"$f":"IF(OR(LEFT('Web Links'!$C460,2)=\"In\",$C460=\"Error\"),\"???\",IF(LEN(E460)=2,\"0\",IF(LEN(E460)=1,\"00\",\"\")))&'Web Links'!E460","v":"???"},{"$f":"IF(OR(LEFT('Web Links'!$C460,2)=\"In\",$C460=\"Error\"),\"?????\",IF(LEN(G460)=4,\"\",IF(LEN(G460)=3,\"\",IF(LEN(G460)=2,\"\",IF(LEN(G460)=1,\"\",\"\"))))&'Web Links'!G460)","v":"?????"},{"$f":"IF(OR(LEFT('Web Links'!$C460,2)=\"In\",$C460=\"Error\"),\"???????????????\",\"\"&F460)","v":"???????????????"}]
[{"$f":"IF('GL Template'!B475<>\"\",'GL Template'!B475,0)","v":0},{"$f":"IF('GL Template'!D475<>\"\",'GL Template'!D475,0)","v":0},"Error",null,null,null,null,null,null,null,null,null,null,{"$f":"IF(OR(LEFT('Web Links'!$C461,2)=\"In\",$C461=\"Error\"),\"?????\",\"\"&C461)","v":"?????"},{"$f":"IF(OR(LEFT('Web Links'!$C461,2)=\"In\",$C461=\"Error\"),\"??????????\",\"\"&D461)","v":"??????????"},{"$f":"IF(OR(LEFT('Web Links'!$C461,2)=\"In\",$C461=\"Error\"),\"???\",IF(LEN(E461)=2,\"0\",IF(LEN(E461)=1,\"00\",\"\")))&'Web Links'!E461","v":"???"},{"$f":"IF(OR(LEFT('Web Links'!$C461,2)=\"In\",$C461=\"Error\"),\"?????\",IF(LEN(G461)=4,\"\",IF(LEN(G461)=3,\"\",IF(LEN(G461)=2,\"\",IF(LEN(G461)=1,\"\",\"\"))))&'Web Links'!G461)","v":"?????"},{"$f":"IF(OR(LEFT('Web Links'!$C461,2)=\"In\",$C461=\"Error\"),\"???????????????\",\"\"&F461)","v":"???????????????"}]
[{"$f":"IF('GL Template'!B476<>\"\",'GL Template'!B476,0)","v":0},{"$f":"IF('GL Template'!D476<>\"\",'GL Template'!D476,0)","v":0},"Error",null,null,null,null,null,null,null,null,null,null,{"$f":"IF(OR(LEFT('Web Links'!$C462,2)=\"In\",$C462=\"Error\"),\"?????\",\"\"&C462)","v":"?????"},{"$f":"IF(OR(LEFT('Web Links'!$C462,2)=\"In\",$C462=\"Error\"),\"??????????\",\"\"&D462)","v":"??????????"},{"$f":"IF(OR(LEFT('Web Links'!$C462,2)=\"In\",$C462=\"Error\"),\"???\",IF(LEN(E462)=2,\"0\",IF(LEN(E462)=1,\"00\",\"\")))&'Web Links'!E462","v":"???"},{"$f":"IF(OR(LEFT('Web Links'!$C462,2)=\"In\",$C462=\"Error\"),\"?????\",IF(LEN(G462)=4,\"\",IF(LEN(G462)=3,\"\",IF(LEN(G462)=2,\"\",IF(LEN(G462)=1,\"\",\"\"))))&'Web Links'!G462)","v":"?????"},{"$f":"IF(OR(LEFT('Web Links'!$C462,2)=\"In\",$C462=\"Error\"),\"???????????????\",\"\"&F462)","v":"???????????????"}]
[{"$f":"IF('GL Template'!B477<>\"\",'GL Template'!B477,0)","v":0},{"$f":"IF('GL Template'!D477<>\"\",'GL Template'!D477,0)","v":0},"Error",null,null,null,null,null,null,null,null,null,null,{"$f":"IF(OR(LEFT('Web Links'!$C463,2)=\"In\",$C463=\"Error\"),\"?????\",\"\"&C463)","v":"?????"},{"$f":"IF(OR(LEFT('Web Links'!$C463,2)=\"In\",$C463=\"Error\"),\"??????????\",\"\"&D463)","v":"??????????"},{"$f":"IF(OR(LEFT('Web Links'!$C463,2)=\"In\",$C463=\"Error\"),\"???\",IF(LEN(E463)=2,\"0\",IF(LEN(E463)=1,\"00\",\"\")))&'Web Links'!E463","v":"???"},{"$f":"IF(OR(LEFT('Web Links'!$C463,2)=\"In\",$C463=\"Error\"),\"?????\",IF(LEN(G463)=4,\"\",IF(LEN(G463)=3,\"\",IF(LEN(G463)=2,\"\",IF(LEN(G463)=1,\"\",\"\"))))&'Web Links'!G463)","v":"?????"},{"$f":"IF(OR(LEFT('Web Links'!$C463,2)=\"In\",$C463=\"Error\"),\"???????????????\",\"\"&F463)","v":"???????????????"}]
[{"$f":"IF('GL Template'!B478<>\"\",'GL Template'!B478,0)","v":0},{"$f":"IF('GL Template'!D478<>\"\",'GL Template'!D478,0)","v":0},"Error",null,null,null,null,null,null,null,null,null,null,{"$f":"IF(OR(LEFT('Web Links'!$C464,2)=\"In\",$C464=\"Error\"),\"?????\",\"\"&C464)","v":"?????"},{"$f":"IF(OR(LEFT('Web Links'!$C464,2)=\"In\",$C464=\"Error\"),\"??????????\",\"\"&D464)","v":"??????????"},{"$f":"IF(OR(LEFT('Web Links'!$C464,2)=\"In\",$C464=\"Error\"),\"???\",IF(LEN(E464)=2,\"0\",IF(LEN(E464)=1,\"00\",\"\")))&'Web Links'!E464","v":"???"},{"$f":"IF(OR(LEFT('Web Links'!$C464,2)=\"In\",$C464=\"Error\"),\"?????\",IF(LEN(G464)=4,\"\",IF(LEN(G464)=3,\"\",IF(LEN(G464)=2,\"\",IF(LEN(G464)=1,\"\",\"\"))))&'Web Links'!G464)","v":"?????"},{"$f":"IF(OR(LEFT('Web Links'!$C464,2)=\"In\",$C464=\"Error\"),\"???????????????\",\"\"&F464)","v":"???????????????"}]
[{"$f":"IF('GL Template'!B479<>\"\",'GL Template'!B479,0)","v":0},{"$f":"IF('GL Template'!D479<>\"\",'GL Template'!D479,0)","v":0},"Error",null,null,null,null,null,null,null,null,null,null,{"$f":"IF(OR(LEFT('Web Links'!$C465,2)=\"In\",$C465=\"Error\"),\"?????\",\"\"&C465)","v":"?????"},{"$f":"IF(OR(LEFT('Web Links'!$C465,2)=\"In\",$C465=\"Error\"),\"??????????\",\"\"&D465)","v":"??????????"},{"$f":"IF(OR(LEFT('Web Links'!$C465,2)=\"In\",$C465=\"Error\"),\"???\",IF(LEN(E465)=2,\"0\",IF(LEN(E465)=1,\"00\",\"\")))&'Web Links'!E465","v":"???"},{"$f":"IF(OR(LEFT('Web Links'!$C465,2)=\"In\",$C465=\"Error\"),\"?????\",IF(LEN(G465)=4,\"\",IF(LEN(G465)=3,\"\",IF(LEN(G465)=2,\"\",IF(LEN(G465)=1,\"\",\"\"))))&'Web Links'!G465)","v":"?????"},{"$f":"IF(OR(LEFT('Web Links'!$C465,2)=\"In\",$C465=\"Error\"),\"???????????????\",\"\"&F465)","v":"???????????????"}]
[{"$f":"IF('GL Template'!B480<>\"\",'GL Template'!B480,0)","v":0},{"$f":"IF('GL Template'!D480<>\"\",'GL Template'!D480,0)","v":0},"Error",null,null,null,null,null,null,null,null,null,null,{"$f":"IF(OR(LEFT('Web Links'!$C466,2)=\"In\",$C466=\"Error\"),\"?????\",\"\"&C466)","v":"?????"},{"$f":"IF(OR(LEFT('Web Links'!$C466,2)=\"In\",$C466=\"Error\"),\"??????????\",\"\"&D466)","v":"??????????"},{"$f":"IF(OR(LEFT('Web Links'!$C466,2)=\"In\",$C466=\"Error\"),\"???\",IF(LEN(E466)=2,\"0\",IF(LEN(E466)=1,\"00\",\"\")))&'Web Links'!E466","v":"???"},{"$f":"IF(OR(LEFT('Web Links'!$C466,2)=\"In\",$C466=\"Error\"),\"?????\",IF(LEN(G466)=4,\"\",IF(LEN(G466)=3,\"\",IF(LEN(G466)=2,\"\",IF(LEN(G466)=1,\"\",\"\"))))&'Web Links'!G466)","v":"?????"},{"$f":"IF(OR(LEFT('Web Links'!$C466,2)=\"In\",$C466=\"Error\"),\"???????????????\",\"\"&F466)","v":"???????????????"}]
[{"$f":"IF('GL Template'!B481<>\"\",'GL Template'!B481,0)","v":0},{"$f":"IF('GL Template'!D481<>\"\",'GL Template'!D481,0)","v":0},"Error",null,null,null,null,null,null,null,null,null,null,{"$f":"IF(OR(LEFT('Web Links'!$C467,2)=\"In\",$C467=\"Error\"),\"?????\",\"\"&C467)","v":"?????"},{"$f":"IF(OR(LEFT('Web Links'!$C467,2)=\"In\",$C467=\"Error\"),\"??????????\",\"\"&D467)","v":"??????????"},{"$f":"IF(OR(LEFT('Web Links'!$C467,2)=\"In\",$C467=\"Error\"),\"???\",IF(LEN(E467)=2,\"0\",IF(LEN(E467)=1,\"00\",\"\")))&'Web Links'!E467","v":"???"},{"$f":"IF(OR(LEFT('Web Links'!$C467,2)=\"In\",$C467=\"Error\"),\"?????\",IF(LEN(G467)=4,\"\",IF(LEN(G467)=3,\"\",IF(LEN(G467)=2,\"\",IF(LEN(G467)=1,\"\",\"\"))))&'Web Links'!G467)","v":"?????"},{"$f":"IF(OR(LEFT('Web Links'!$C467,2)=\"In\",$C467=\"Error\"),\"???????????????\",\"\"&F467)","v":"???????????????"}]
[{"$f":"IF('GL Template'!B482<>\"\",'GL Template'!B482,0)","v":0},{"$f":"IF('GL Template'!D482<>\"\",'GL Template'!D482,0)","v":0},"Error",null,null,null,null,null,null,null,null,null,null,{"$f":"IF(OR(LEFT('Web Links'!$C468,2)=\"In\",$C468=\"Error\"),\"?????\",\"\"&C468)","v":"?????"},{"$f":"IF(OR(LEFT('Web Links'!$C468,2)=\"In\",$C468=\"Error\"),\"??????????\",\"\"&D468)","v":"??????????"},{"$f":"IF(OR(LEFT('Web Links'!$C468,2)=\"In\",$C468=\"Error\"),\"???\",IF(LEN(E468)=2,\"0\",IF(LEN(E468)=1,\"00\",\"\")))&'Web Links'!E468","v":"???"},{"$f":"IF(OR(LEFT('Web Links'!$C468,2)=\"In\",$C468=\"Error\"),\"?????\",IF(LEN(G468)=4,\"\",IF(LEN(G468)=3,\"\",IF(LEN(G468)=2,\"\",IF(LEN(G468)=1,\"\",\"\"))))&'Web Links'!G468)","v":"?????"},{"$f":"IF(OR(LEFT('Web Links'!$C468,2)=\"In\",$C468=\"Error\"),\"???????????????\",\"\"&F468)","v":"???????????????"}]
[{"$f":"IF('GL Template'!B483<>\"\",'GL Template'!B483,0)","v":0},{"$f":"IF('GL Template'!D483<>\"\",'GL Template'!D483,0)","v":0},"Error",null,null,null,null,null,null,null,null,null,null,{"$f":"IF(OR(LEFT('Web Links'!$C469,2)=\"In\",$C469=\"Error\"),\"?????\",\"\"&C469)","v":"?????"},{"$f":"IF(OR(LEFT('Web Links'!$C469,2)=\"In\",$C469=\"Error\"),\"??????????\",\"\"&D469)","v":"??????????"},{"$f":"IF(OR(LEFT('Web Links'!$C469,2)=\"In\",$C469=\"Error\"),\"???\",IF(LEN(E469)=2,\"0\",IF(LEN(E469)=1,\"00\",\"\")))&'Web Links'!E469","v":"???"},{"$f":"IF(OR(LEFT('Web Links'!$C469,2)=\"In\",$C469=\"Error\"),\"?????\",IF(LEN(G469)=4,\"\",IF(LEN(G469)=3,\"\",IF(LEN(G469)=2,\"\",IF(LEN(G469)=1,\"\",\"\"))))&'Web Links'!G469)","v":"?????"},{"$f":"IF(OR(LEFT('Web Links'!$C469,2)=\"In\",$C469=\"Error\"),\"???????????????\",\"\"&F469)","v":"???????????????"}]
[{"$f":"IF('GL Template'!B484<>\"\",'GL Template'!B484,0)","v":0},{"$f":"IF('GL Template'!D484<>\"\",'GL Template'!D484,0)","v":0},"Error",null,null,null,null,null,null,null,null,null,null,{"$f":"IF(OR(LEFT('Web Links'!$C470,2)=\"In\",$C470=\"Error\"),\"?????\",\"\"&C470)","v":"?????"},{"$f":"IF(OR(LEFT('Web Links'!$C470,2)=\"In\",$C470=\"Error\"),\"??????????\",\"\"&D470)","v":"??????????"},{"$f":"IF(OR(LEFT('Web Links'!$C470,2)=\"In\",$C470=\"Error\"),\"???\",IF(LEN(E470)=2,\"0\",IF(LEN(E470)=1,\"00\",\"\")))&'Web Links'!E470","v":"???"},{"$f":"IF(OR(LEFT('Web Links'!$C470,2)=\"In\",$C470=\"Error\"),\"?????\",IF(LEN(G470)=4,\"\",IF(LEN(G470)=3,\"\",IF(LEN(G470)=2,\"\",IF(LEN(G470)=1,\"\",\"\"))))&'Web Links'!G470)","v":"?????"},{"$f":"IF(OR(LEFT('Web Links'!$C470,2)=\"In\",$C470=\"Error\"),\"???????????????\",\"\"&F470)","v":"???????????????"}]
[{"$f":"IF('GL Template'!B485<>\"\",'GL Template'!B485,0)","v":0},{"$f":"IF('GL Template'!D485<>\"\",'GL Template'!D485,0)","v":0},"Error",null,null,null,null,null,null,null,null,null,null,{"$f":"IF(OR(LEFT('Web Links'!$C471,2)=\"In\",$C471=\"Error\"),\"?????\",\"\"&C471)","v":"?????"},{"$f":"IF(OR(LEFT('Web Links'!$C471,2)=\"In\",$C471=\"Error\"),\"??????????\",\"\"&D471)","v":"??????????"},{"$f":"IF(OR(LEFT('Web Links'!$C471,2)=\"In\",$C471=\"Error\"),\"???\",IF(LEN(E471)=2,\"0\",IF(LEN(E471)=1,\"00\",\"\")))&'Web Links'!E471","v":"???"},{"$f":"IF(OR(LEFT('Web Links'!$C471,2)=\"In\",$C471=\"Error\"),\"?????\",IF(LEN(G471)=4,\"\",IF(LEN(G471)=3,\"\",IF(LEN(G471)=2,\"\",IF(LEN(G471)=1,\"\",\"\"))))&'Web Links'!G471)","v":"?????"},{"$f":"IF(OR(LEFT('Web Links'!$C471,2)=\"In\",$C471=\"Error\"),\"???????????????\",\"\"&F471)","v":"???????????????"}]
[{"$f":"IF('GL Template'!B486<>\"\",'GL Template'!B486,0)","v":0},{"$f":"IF('GL Template'!D486<>\"\",'GL Template'!D486,0)","v":0},"Error",null,null,null,null,null,null,null,null,null,null,{"$f":"IF(OR(LEFT('Web Links'!$C472,2)=\"In\",$C472=\"Error\"),\"?????\",\"\"&C472)","v":"?????"},{"$f":"IF(OR(LEFT('Web Links'!$C472,2)=\"In\",$C472=\"Error\"),\"??????????\",\"\"&D472)","v":"??????????"},{"$f":"IF(OR(LEFT('Web Links'!$C472,2)=\"In\",$C472=\"Error\"),\"???\",IF(LEN(E472)=2,\"0\",IF(LEN(E472)=1,\"00\",\"\")))&'Web Links'!E472","v":"???"},{"$f":"IF(OR(LEFT('Web Links'!$C472,2)=\"In\",$C472=\"Error\"),\"?????\",IF(LEN(G472)=4,\"\",IF(LEN(G472)=3,\"\",IF(LEN(G472)=2,\"\",IF(LEN(G472)=1,\"\",\"\"))))&'Web Links'!G472)","v":"?????"},{"$f":"IF(OR(LEFT('Web Links'!$C472,2)=\"In\",$C472=\"Error\"),\"???????????????\",\"\"&F472)","v":"???????????????"}]
[{"$f":"IF('GL Template'!B487<>\"\",'GL Template'!B487,0)","v":0},{"$f":"IF('GL Template'!D487<>\"\",'GL Template'!D487,0)","v":0},"Error",null,null,null,null,null,null,null,null,null,null,{"$f":"IF(OR(LEFT('Web Links'!$C473,2)=\"In\",$C473=\"Error\"),\"?????\",\"\"&C473)","v":"?????"},{"$f":"IF(OR(LEFT('Web Links'!$C473,2)=\"In\",$C473=\"Error\"),\"??????????\",\"\"&D473)","v":"??????????"},{"$f":"IF(OR(LEFT('Web Links'!$C473,2)=\"In\",$C473=\"Error\"),\"???\",IF(LEN(E473)=2,\"0\",IF(LEN(E473)=1,\"00\",\"\")))&'Web Links'!E473","v":"???"},{"$f":"IF(OR(LEFT('Web Links'!$C473,2)=\"In\",$C473=\"Error\"),\"?????\",IF(LEN(G473)=4,\"\",IF(LEN(G473)=3,\"\",IF(LEN(G473)=2,\"\",IF(LEN(G473)=1,\"\",\"\"))))&'Web Links'!G473)","v":"?????"},{"$f":"IF(OR(LEFT('Web Links'!$C473,2)=\"In\",$C473=\"Error\"),\"???????????????\",\"\"&F473)","v":"???????????????"}]
[{"$f":"IF('GL Template'!B488<>\"\",'GL Template'!B488,0)","v":0},{"$f":"IF('GL Template'!D488<>\"\",'GL Template'!D488,0)","v":0},"Error",null,null,null,null,null,null,null,null,null,null,{"$f":"IF(OR(LEFT('Web Links'!$C474,2)=\"In\",$C474=\"Error\"),\"?????\",\"\"&C474)","v":"?????"},{"$f":"IF(OR(LEFT('Web Links'!$C474,2)=\"In\",$C474=\"Error\"),\"??????????\",\"\"&D474)","v":"??????????"},{"$f":"IF(OR(LEFT('Web Links'!$C474,2)=\"In\",$C474=\"Error\"),\"???\",IF(LEN(E474)=2,\"0\",IF(LEN(E474)=1,\"00\",\"\")))&'Web Links'!E474","v":"???"},{"$f":"IF(OR(LEFT('Web Links'!$C474,2)=\"In\",$C474=\"Error\"),\"?????\",IF(LEN(G474)=4,\"\",IF(LEN(G474)=3,\"\",IF(LEN(G474)=2,\"\",IF(LEN(G474)=1,\"\",\"\"))))&'Web Links'!G474)","v":"?????"},{"$f":"IF(OR(LEFT('Web Links'!$C474,2)=\"In\",$C474=\"Error\"),\"???????????????\",\"\"&F474)","v":"???????????????"}]
[{"$f":"IF('GL Template'!B489<>\"\",'GL Template'!B489,0)","v":0},{"$f":"IF('GL Template'!D489<>\"\",'GL Template'!D489,0)","v":0},"Error",null,null,null,null,null,null,null,null,null,null,{"$f":"IF(OR(LEFT('Web Links'!$C475,2)=\"In\",$C475=\"Error\"),\"?????\",\"\"&C475)","v":"?????"},{"$f":"IF(OR(LEFT('Web Links'!$C475,2)=\"In\",$C475=\"Error\"),\"??????????\",\"\"&D475)","v":"??????????"},{"$f":"IF(OR(LEFT('Web Links'!$C475,2)=\"In\",$C475=\"Error\"),\"???\",IF(LEN(E475)=2,\"0\",IF(LEN(E475)=1,\"00\",\"\")))&'Web Links'!E475","v":"???"},{"$f":"IF(OR(LEFT('Web Links'!$C475,2)=\"In\",$C475=\"Error\"),\"?????\",IF(LEN(G475)=4,\"\",IF(LEN(G475)=3,\"\",IF(LEN(G475)=2,\"\",IF(LEN(G475)=1,\"\",\"\"))))&'Web Links'!G475)","v":"?????"},{"$f":"IF(OR(LEFT('Web Links'!$C475,2)=\"In\",$C475=\"Error\"),\"???????????????\",\"\"&F475)","v":"???????????????"}]
[{"$f":"IF('GL Template'!B490<>\"\",'GL Template'!B490,0)","v":0},{"$f":"IF('GL Template'!D490<>\"\",'GL Template'!D490,0)","v":0},"Error",null,null,null,null,null,null,null,null,null,null,{"$f":"IF(OR(LEFT('Web Links'!$C476,2)=\"In\",$C476=\"Error\"),\"?????\",\"\"&C476)","v":"?????"},{"$f":"IF(OR(LEFT('Web Links'!$C476,2)=\"In\",$C476=\"Error\"),\"??????????\",\"\"&D476)","v":"??????????"},{"$f":"IF(OR(LEFT('Web Links'!$C476,2)=\"In\",$C476=\"Error\"),\"???\",IF(LEN(E476)=2,\"0\",IF(LEN(E476)=1,\"00\",\"\")))&'Web Links'!E476","v":"???"},{"$f":"IF(OR(LEFT('Web Links'!$C476,2)=\"In\",$C476=\"Error\"),\"?????\",IF(LEN(G476)=4,\"\",IF(LEN(G476)=3,\"\",IF(LEN(G476)=2,\"\",IF(LEN(G476)=1,\"\",\"\"))))&'Web Links'!G476)","v":"?????"},{"$f":"IF(OR(LEFT('Web Links'!$C476,2)=\"In\",$C476=\"Error\"),\"???????????????\",\"\"&F476)","v":"???????????????"}]
[{"$f":"IF('GL Template'!B491<>\"\",'GL Template'!B491,0)","v":0},{"$f":"IF('GL Template'!D491<>\"\",'GL Template'!D491,0)","v":0},"Error",null,null,null,null,null,null,null,null,null,null,{"$f":"IF(OR(LEFT('Web Links'!$C477,2)=\"In\",$C477=\"Error\"),\"?????\",\"\"&C477)","v":"?????"},{"$f":"IF(OR(LEFT('Web Links'!$C477,2)=\"In\",$C477=\"Error\"),\"??????????\",\"\"&D477)","v":"??????????"},{"$f":"IF(OR(LEFT('Web Links'!$C477,2)=\"In\",$C477=\"Error\"),\"???\",IF(LEN(E477)=2,\"0\",IF(LEN(E477)=1,\"00\",\"\")))&'Web Links'!E477","v":"???"},{"$f":"IF(OR(LEFT('Web Links'!$C477,2)=\"In\",$C477=\"Error\"),\"?????\",IF(LEN(G477)=4,\"\",IF(LEN(G477)=3,\"\",IF(LEN(G477)=2,\"\",IF(LEN(G477)=1,\"\",\"\"))))&'Web Links'!G477)","v":"?????"},{"$f":"IF(OR(LEFT('Web Links'!$C477,2)=\"In\",$C477=\"Error\"),\"???????????????\",\"\"&F477)","v":"???????????????"}]
[{"$f":"IF('GL Template'!B492<>\"\",'GL Template'!B492,0)","v":0},{"$f":"IF('GL Template'!D492<>\"\",'GL Template'!D492,0)","v":0},"Error",null,null,null,null,null,null,null,null,null,null,{"$f":"IF(OR(LEFT('Web Links'!$C478,2)=\"In\",$C478=\"Error\"),\"?????\",\"\"&C478)","v":"?????"},{"$f":"IF(OR(LEFT('Web Links'!$C478,2)=\"In\",$C478=\"Error\"),\"??????????\",\"\"&D478)","v":"??????????"},{"$f":"IF(OR(LEFT('Web Links'!$C478,2)=\"In\",$C478=\"Error\"),\"???\",IF(LEN(E478)=2,\"0\",IF(LEN(E478)=1,\"00\",\"\")))&'Web Links'!E478","v":"???"},{"$f":"IF(OR(LEFT('Web Links'!$C478,2)=\"In\",$C478=\"Error\"),\"?????\",IF(LEN(G478)=4,\"\",IF(LEN(G478)=3,\"\",IF(LEN(G478)=2,\"\",IF(LEN(G478)=1,\"\",\"\"))))&'Web Links'!G478)","v":"?????"},{"$f":"IF(OR(LEFT('Web Links'!$C478,2)=\"In\",$C478=\"Error\"),\"???????????????\",\"\"&F478)","v":"???????????????"}]
[{"$f":"IF('GL Template'!B493<>\"\",'GL Template'!B493,0)","v":0},{"$f":"IF('GL Template'!D493<>\"\",'GL Template'!D493,0)","v":0},"Error",null,null,null,null,null,null,null,null,null,null,{"$f":"IF(OR(LEFT('Web Links'!$C479,2)=\"In\",$C479=\"Error\"),\"?????\",\"\"&C479)","v":"?????"},{"$f":"IF(OR(LEFT('Web Links'!$C479,2)=\"In\",$C479=\"Error\"),\"??????????\",\"\"&D479)","v":"??????????"},{"$f":"IF(OR(LEFT('Web Links'!$C479,2)=\"In\",$C479=\"Error\"),\"???\",IF(LEN(E479)=2,\"0\",IF(LEN(E479)=1,\"00\",\"\")))&'Web Links'!E479","v":"???"},{"$f":"IF(OR(LEFT('Web Links'!$C479,2)=\"In\",$C479=\"Error\"),\"?????\",IF(LEN(G479)=4,\"\",IF(LEN(G479)=3,\"\",IF(LEN(G479)=2,\"\",IF(LEN(G479)=1,\"\",\"\"))))&'Web Links'!G479)","v":"?????"},{"$f":"IF(OR(LEFT('Web Links'!$C479,2)=\"In\",$C479=\"Error\"),\"???????????????\",\"\"&F479)","v":"???????????????"}]
[{"$f":"IF('GL Template'!B494<>\"\",'GL Template'!B494,0)","v":0},{"$f":"IF('GL Template'!D494<>\"\",'GL Template'!D494,0)","v":0},"Error",null,null,null,null,null,null,null,null,null,null,{"$f":"IF(OR(LEFT('Web Links'!$C480,2)=\"In\",$C480=\"Error\"),\"?????\",\"\"&C480)","v":"?????"},{"$f":"IF(OR(LEFT('Web Links'!$C480,2)=\"In\",$C480=\"Error\"),\"??????????\",\"\"&D480)","v":"??????????"},{"$f":"IF(OR(LEFT('Web Links'!$C480,2)=\"In\",$C480=\"Error\"),\"???\",IF(LEN(E480)=2,\"0\",IF(LEN(E480)=1,\"00\",\"\")))&'Web Links'!E480","v":"???"},{"$f":"IF(OR(LEFT('Web Links'!$C480,2)=\"In\",$C480=\"Error\"),\"?????\",IF(LEN(G480)=4,\"\",IF(LEN(G480)=3,\"\",IF(LEN(G480)=2,\"\",IF(LEN(G480)=1,\"\",\"\"))))&'Web Links'!G480)","v":"?????"},{"$f":"IF(OR(LEFT('Web Links'!$C480,2)=\"In\",$C480=\"Error\"),\"???????????????\",\"\"&F480)","v":"???????????????"}]
[{"$f":"IF('GL Template'!B495<>\"\",'GL Template'!B495,0)","v":0},{"$f":"IF('GL Template'!D495<>\"\",'GL Template'!D495,0)","v":0},"Error",null,null,null,null,null,null,null,null,null,null,{"$f":"IF(OR(LEFT('Web Links'!$C481,2)=\"In\",$C481=\"Error\"),\"?????\",\"\"&C481)","v":"?????"},{"$f":"IF(OR(LEFT('Web Links'!$C481,2)=\"In\",$C481=\"Error\"),\"??????????\",\"\"&D481)","v":"??????????"},{"$f":"IF(OR(LEFT('Web Links'!$C481,2)=\"In\",$C481=\"Error\"),\"???\",IF(LEN(E481)=2,\"0\",IF(LEN(E481)=1,\"00\",\"\")))&'Web Links'!E481","v":"???"},{"$f":"IF(OR(LEFT('Web Links'!$C481,2)=\"In\",$C481=\"Error\"),\"?????\",IF(LEN(G481)=4,\"\",IF(LEN(G481)=3,\"\",IF(LEN(G481)=2,\"\",IF(LEN(G481)=1,\"\",\"\"))))&'Web Links'!G481)","v":"?????"},{"$f":"IF(OR(LEFT('Web Links'!$C481,2)=\"In\",$C481=\"Error\"),\"???????????????\",\"\"&F481)","v":"???????????????"}]
[{"$f":"IF('GL Template'!B496<>\"\",'GL Template'!B496,0)","v":0},{"$f":"IF('GL Template'!D496<>\"\",'GL Template'!D496,0)","v":0},"Error",null,null,null,null,null,null,null,null,null,null,{"$f":"IF(OR(LEFT('Web Links'!$C482,2)=\"In\",$C482=\"Error\"),\"?????\",\"\"&C482)","v":"?????"},{"$f":"IF(OR(LEFT('Web Links'!$C482,2)=\"In\",$C482=\"Error\"),\"??????????\",\"\"&D482)","v":"??????????"},{"$f":"IF(OR(LEFT('Web Links'!$C482,2)=\"In\",$C482=\"Error\"),\"???\",IF(LEN(E482)=2,\"0\",IF(LEN(E482)=1,\"00\",\"\")))&'Web Links'!E482","v":"???"},{"$f":"IF(OR(LEFT('Web Links'!$C482,2)=\"In\",$C482=\"Error\"),\"?????\",IF(LEN(G482)=4,\"\",IF(LEN(G482)=3,\"\",IF(LEN(G482)=2,\"\",IF(LEN(G482)=1,\"\",\"\"))))&'Web Links'!G482)","v":"?????"},{"$f":"IF(OR(LEFT('Web Links'!$C482,2)=\"In\",$C482=\"Error\"),\"???????????????\",\"\"&F482)","v":"???????????????"}]
[{"$f":"IF('GL Template'!B497<>\"\",'GL Template'!B497,0)","v":0},{"$f":"IF('GL Template'!D497<>\"\",'GL Template'!D497,0)","v":0},"Error",null,null,null,null,null,null,null,null,null,null,{"$f":"IF(OR(LEFT('Web Links'!$C483,2)=\"In\",$C483=\"Error\"),\"?????\",\"\"&C483)","v":"?????"},{"$f":"IF(OR(LEFT('Web Links'!$C483,2)=\"In\",$C483=\"Error\"),\"??????????\",\"\"&D483)","v":"??????????"},{"$f":"IF(OR(LEFT('Web Links'!$C483,2)=\"In\",$C483=\"Error\"),\"???\",IF(LEN(E483)=2,\"0\",IF(LEN(E483)=1,\"00\",\"\")))&'Web Links'!E483","v":"???"},{"$f":"IF(OR(LEFT('Web Links'!$C483,2)=\"In\",$C483=\"Error\"),\"?????\",IF(LEN(G483)=4,\"\",IF(LEN(G483)=3,\"\",IF(LEN(G483)=2,\"\",IF(LEN(G483)=1,\"\",\"\"))))&'Web Links'!G483)","v":"?????"},{"$f":"IF(OR(LEFT('Web Links'!$C483,2)=\"In\",$C483=\"Error\"),\"???????????????\",\"\"&F483)","v":"???????????????"}]
[{"$f":"IF('GL Template'!B498<>\"\",'GL Template'!B498,0)","v":0},{"$f":"IF('GL Template'!D498<>\"\",'GL Template'!D498,0)","v":0},"Error",null,null,null,null,null,null,null,null,null,null,{"$f":"IF(OR(LEFT('Web Links'!$C484,2)=\"In\",$C484=\"Error\"),\"?????\",\"\"&C484)","v":"?????"},{"$f":"IF(OR(LEFT('Web Links'!$C484,2)=\"In\",$C484=\"Error\"),\"??????????\",\"\"&D484)","v":"??????????"},{"$f":"IF(OR(LEFT('Web Links'!$C484,2)=\"In\",$C484=\"Error\"),\"???\",IF(LEN(E484)=2,\"0\",IF(LEN(E484)=1,\"00\",\"\")))&'Web Links'!E484","v":"???"},{"$f":"IF(OR(LEFT('Web Links'!$C484,2)=\"In\",$C484=\"Error\"),\"?????\",IF(LEN(G484)=4,\"\",IF(LEN(G484)=3,\"\",IF(LEN(G484)=2,\"\",IF(LEN(G484)=1,\"\",\"\"))))&'Web Links'!G484)","v":"?????"},{"$f":"IF(OR(LEFT('Web Links'!$C484,2)=\"In\",$C484=\"Error\"),\"???????????????\",\"\"&F484)","v":"???????????????"}]
[{"$f":"IF('GL Template'!B499<>\"\",'GL Template'!B499,0)","v":0},{"$f":"IF('GL Template'!D499<>\"\",'GL Template'!D499,0)","v":0},"Error",null,null,null,null,null,null,null,null,null,null,{"$f":"IF(OR(LEFT('Web Links'!$C485,2)=\"In\",$C485=\"Error\"),\"?????\",\"\"&C485)","v":"?????"},{"$f":"IF(OR(LEFT('Web Links'!$C485,2)=\"In\",$C485=\"Error\"),\"??????????\",\"\"&D485)","v":"??????????"},{"$f":"IF(OR(LEFT('Web Links'!$C485,2)=\"In\",$C485=\"Error\"),\"???\",IF(LEN(E485)=2,\"0\",IF(LEN(E485)=1,\"00\",\"\")))&'Web Links'!E485","v":"???"},{"$f":"IF(OR(LEFT('Web Links'!$C485,2)=\"In\",$C485=\"Error\"),\"?????\",IF(LEN(G485)=4,\"\",IF(LEN(G485)=3,\"\",IF(LEN(G485)=2,\"\",IF(LEN(G485)=1,\"\",\"\"))))&'Web Links'!G485)","v":"?????"},{"$f":"IF(OR(LEFT('Web Links'!$C485,2)=\"In\",$C485=\"Error\"),\"???????????????\",\"\"&F485)","v":"???????????????"}]
[{"$f":"IF('GL Template'!B500<>\"\",'GL Template'!B500,0)","v":0},{"$f":"IF('GL Template'!D500<>\"\",'GL Template'!D500,0)","v":0},"Error",null,null,null,null,null,null,null,null,null,null,{"$f":"IF(OR(LEFT('Web Links'!$C486,2)=\"In\",$C486=\"Error\"),\"?????\",\"\"&C486)","v":"?????"},{"$f":"IF(OR(LEFT('Web Links'!$C486,2)=\"In\",$C486=\"Error\"),\"??????????\",\"\"&D486)","v":"??????????"},{"$f":"IF(OR(LEFT('Web Links'!$C486,2)=\"In\",$C486=\"Error\"),\"???\",IF(LEN(E486)=2,\"0\",IF(LEN(E486)=1,\"00\",\"\")))&'Web Links'!E486","v":"???"},{"$f":"IF(OR(LEFT('Web Links'!$C486,2)=\"In\",$C486=\"Error\"),\"?????\",IF(LEN(G486)=4,\"\",IF(LEN(G486)=3,\"\",IF(LEN(G486)=2,\"\",IF(LEN(G486)=1,\"\",\"\"))))&'Web Links'!G486)","v":"?????"},{"$f":"IF(OR(LEFT('Web Links'!$C486,2)=\"In\",$C486=\"Error\"),\"???????????????\",\"\"&F486)","v":"???????????????"}]
[{"$f":"IF('GL Template'!B501<>\"\",'GL Template'!B501,0)","v":0},{"$f":"IF('GL Template'!D501<>\"\",'GL Template'!D501,0)","v":0},"Error",null,null,null,null,null,null,null,null,null,null,{"$f":"IF(OR(LEFT('Web Links'!$C487,2)=\"In\",$C487=\"Error\"),\"?????\",\"\"&C487)","v":"?????"},{"$f":"IF(OR(LEFT('Web Links'!$C487,2)=\"In\",$C487=\"Error\"),\"??????????\",\"\"&D487)","v":"??????????"},{"$f":"IF(OR(LEFT('Web Links'!$C487,2)=\"In\",$C487=\"Error\"),\"???\",IF(LEN(E487)=2,\"0\",IF(LEN(E487)=1,\"00\",\"\")))&'Web Links'!E487","v":"???"},{"$f":"IF(OR(LEFT('Web Links'!$C487,2)=\"In\",$C487=\"Error\"),\"?????\",IF(LEN(G487)=4,\"\",IF(LEN(G487)=3,\"\",IF(LEN(G487)=2,\"\",IF(LEN(G487)=1,\"\",\"\"))))&'Web Links'!G487)","v":"?????"},{"$f":"IF(OR(LEFT('Web Links'!$C487,2)=\"In\",$C487=\"Error\"),\"???????????????\",\"\"&F487)","v":"???????????????"}]
[{"$f":"IF('GL Template'!B502<>\"\",'GL Template'!B502,0)","v":0},{"$f":"IF('GL Template'!D502<>\"\",'GL Template'!D502,0)","v":0},"Error",null,null,null,null,null,null,null,null,null,null,{"$f":"IF(OR(LEFT('Web Links'!$C488,2)=\"In\",$C488=\"Error\"),\"?????\",\"\"&C488)","v":"?????"},{"$f":"IF(OR(LEFT('Web Links'!$C488,2)=\"In\",$C488=\"Error\"),\"??????????\",\"\"&D488)","v":"??????????"},{"$f":"IF(OR(LEFT('Web Links'!$C488,2)=\"In\",$C488=\"Error\"),\"???\",IF(LEN(E488)=2,\"0\",IF(LEN(E488)=1,\"00\",\"\")))&'Web Links'!E488","v":"???"},{"$f":"IF(OR(LEFT('Web Links'!$C488,2)=\"In\",$C488=\"Error\"),\"?????\",IF(LEN(G488)=4,\"\",IF(LEN(G488)=3,\"\",IF(LEN(G488)=2,\"\",IF(LEN(G488)=1,\"\",\"\"))))&'Web Links'!G488)","v":"?????"},{"$f":"IF(OR(LEFT('Web Links'!$C488,2)=\"In\",$C488=\"Error\"),\"???????????????\",\"\"&F488)","v":"???????????????"}]
[{"$f":"IF('GL Template'!B503<>\"\",'GL Template'!B503,0)","v":0},{"$f":"IF('GL Template'!D503<>\"\",'GL Template'!D503,0)","v":0},"Error",null,null,null,null,null,null,null,null,null,null,{"$f":"IF(OR(LEFT('Web Links'!$C489,2)=\"In\",$C489=\"Error\"),\"?????\",\"\"&C489)","v":"?????"},{"$f":"IF(OR(LEFT('Web Links'!$C489,2)=\"In\",$C489=\"Error\"),\"??????????\",\"\"&D489)","v":"??????????"},{"$f":"IF(OR(LEFT('Web Links'!$C489,2)=\"In\",$C489=\"Error\"),\"???\",IF(LEN(E489)=2,\"0\",IF(LEN(E489)=1,\"00\",\"\")))&'Web Links'!E489","v":"???"},{"$f":"IF(OR(LEFT('Web Links'!$C489,2)=\"In\",$C489=\"Error\"),\"?????\",IF(LEN(G489)=4,\"\",IF(LEN(G489)=3,\"\",IF(LEN(G489)=2,\"\",IF(LEN(G489)=1,\"\",\"\"))))&'Web Links'!G489)","v":"?????"},{"$f":"IF(OR(LEFT('Web Links'!$C489,2)=\"In\",$C489=\"Error\"),\"???????????????\",\"\"&F489)","v":"???????????????"}]
[{"$f":"IF('GL Template'!B504<>\"\",'GL Template'!B504,0)","v":0},{"$f":"IF('GL Template'!D504<>\"\",'GL Template'!D504,0)","v":0},"Error",null,null,null,null,null,null,null,null,null,null,{"$f":"IF(OR(LEFT('Web Links'!$C490,2)=\"In\",$C490=\"Error\"),\"?????\",\"\"&C490)","v":"?????"},{"$f":"IF(OR(LEFT('Web Links'!$C490,2)=\"In\",$C490=\"Error\"),\"??????????\",\"\"&D490)","v":"??????????"},{"$f":"IF(OR(LEFT('Web Links'!$C490,2)=\"In\",$C490=\"Error\"),\"???\",IF(LEN(E490)=2,\"0\",IF(LEN(E490)=1,\"00\",\"\")))&'Web Links'!E490","v":"???"},{"$f":"IF(OR(LEFT('Web Links'!$C490,2)=\"In\",$C490=\"Error\"),\"?????\",IF(LEN(G490)=4,\"\",IF(LEN(G490)=3,\"\",IF(LEN(G490)=2,\"\",IF(LEN(G490)=1,\"\",\"\"))))&'Web Links'!G490)","v":"?????"},{"$f":"IF(OR(LEFT('Web Links'!$C490,2)=\"In\",$C490=\"Error\"),\"???????????????\",\"\"&F490)","v":"???????????????"}]
[{"$f":"IF('GL Template'!B505<>\"\",'GL Template'!B505,0)","v":0},{"$f":"IF('GL Template'!D505<>\"\",'GL Template'!D505,0)","v":0},"Error",null,null,null,null,null,null,null,null,null,null,{"$f":"IF(OR(LEFT('Web Links'!$C491,2)=\"In\",$C491=\"Error\"),\"?????\",\"\"&C491)","v":"?????"},{"$f":"IF(OR(LEFT('Web Links'!$C491,2)=\"In\",$C491=\"Error\"),\"??????????\",\"\"&D491)","v":"??????????"},{"$f":"IF(OR(LEFT('Web Links'!$C491,2)=\"In\",$C491=\"Error\"),\"???\",IF(LEN(E491)=2,\"0\",IF(LEN(E491)=1,\"00\",\"\")))&'Web Links'!E491","v":"???"},{"$f":"IF(OR(LEFT('Web Links'!$C491,2)=\"In\",$C491=\"Error\"),\"?????\",IF(LEN(G491)=4,\"\",IF(LEN(G491)=3,\"\",IF(LEN(G491)=2,\"\",IF(LEN(G491)=1,\"\",\"\"))))&'Web Links'!G491)","v":"?????"},{"$f":"IF(OR(LEFT('Web Links'!$C491,2)=\"In\",$C491=\"Error\"),\"???????????????\",\"\"&F491)","v":"???????????????"}]
[{"$f":"IF('GL Template'!B506<>\"\",'GL Template'!B506,0)","v":0},{"$f":"IF('GL Template'!D506<>\"\",'GL Template'!D506,0)","v":0},"Error",null,null,null,null,null,null,null,null,null,null,{"$f":"IF(OR(LEFT('Web Links'!$C492,2)=\"In\",$C492=\"Error\"),\"?????\",\"\"&C492)","v":"?????"},{"$f":"IF(OR(LEFT('Web Links'!$C492,2)=\"In\",$C492=\"Error\"),\"??????????\",\"\"&D492)","v":"??????????"},{"$f":"IF(OR(LEFT('Web Links'!$C492,2)=\"In\",$C492=\"Error\"),\"???\",IF(LEN(E492)=2,\"0\",IF(LEN(E492)=1,\"00\",\"\")))&'Web Links'!E492","v":"???"},{"$f":"IF(OR(LEFT('Web Links'!$C492,2)=\"In\",$C492=\"Error\"),\"?????\",IF(LEN(G492)=4,\"\",IF(LEN(G492)=3,\"\",IF(LEN(G492)=2,\"\",IF(LEN(G492)=1,\"\",\"\"))))&'Web Links'!G492)","v":"?????"},{"$f":"IF(OR(LEFT('Web Links'!$C492,2)=\"In\",$C492=\"Error\"),\"???????????????\",\"\"&F492)","v":"???????????????"}]
[{"$f":"IF('GL Template'!B507<>\"\",'GL Template'!B507,0)","v":0},{"$f":"IF('GL Template'!D507<>\"\",'GL Template'!D507,0)","v":0},"Error",null,null,null,null,null,null,null,null,null,null,{"$f":"IF(OR(LEFT('Web Links'!$C493,2)=\"In\",$C493=\"Error\"),\"?????\",\"\"&C493)","v":"?????"},{"$f":"IF(OR(LEFT('Web Links'!$C493,2)=\"In\",$C493=\"Error\"),\"??????????\",\"\"&D493)","v":"??????????"},{"$f":"IF(OR(LEFT('Web Links'!$C493,2)=\"In\",$C493=\"Error\"),\"???\",IF(LEN(E493)=2,\"0\",IF(LEN(E493)=1,\"00\",\"\")))&'Web Links'!E493","v":"???"},{"$f":"IF(OR(LEFT('Web Links'!$C493,2)=\"In\",$C493=\"Error\"),\"?????\",IF(LEN(G493)=4,\"\",IF(LEN(G493)=3,\"\",IF(LEN(G493)=2,\"\",IF(LEN(G493)=1,\"\",\"\"))))&'Web Links'!G493)","v":"?????"},{"$f":"IF(OR(LEFT('Web Links'!$C493,2)=\"In\",$C493=\"Error\"),\"???????????????\",\"\"&F493)","v":"???????????????"}]
[{"$f":"IF('GL Template'!B508<>\"\",'GL Template'!B508,0)","v":0},{"$f":"IF('GL Template'!D508<>\"\",'GL Template'!D508,0)","v":0},"Error",null,null,null,null,null,null,null,null,null,null,{"$f":"IF(OR(LEFT('Web Links'!$C494,2)=\"In\",$C494=\"Error\"),\"?????\",\"\"&C494)","v":"?????"},{"$f":"IF(OR(LEFT('Web Links'!$C494,2)=\"In\",$C494=\"Error\"),\"??????????\",\"\"&D494)","v":"??????????"},{"$f":"IF(OR(LEFT('Web Links'!$C494,2)=\"In\",$C494=\"Error\"),\"???\",IF(LEN(E494)=2,\"0\",IF(LEN(E494)=1,\"00\",\"\")))&'Web Links'!E494","v":"???"},{"$f":"IF(OR(LEFT('Web Links'!$C494,2)=\"In\",$C494=\"Error\"),\"?????\",IF(LEN(G494)=4,\"\",IF(LEN(G494)=3,\"\",IF(LEN(G494)=2,\"\",IF(LEN(G494)=1,\"\",\"\"))))&'Web Links'!G494)","v":"?????"},{"$f":"IF(OR(LEFT('Web Links'!$C494,2)=\"In\",$C494=\"Error\"),\"???????????????\",\"\"&F494)","v":"???????????????"}]
[{"$f":"IF('GL Template'!B509<>\"\",'GL Template'!B509,0)","v":0},{"$f":"IF('GL Template'!D509<>\"\",'GL Template'!D509,0)","v":0},"Error",null,null,null,null,null,null,null,null,null,null,{"$f":"IF(OR(LEFT('Web Links'!$C495,2)=\"In\",$C495=\"Error\"),\"?????\",\"\"&C495)","v":"?????"},{"$f":"IF(OR(LEFT('Web Links'!$C495,2)=\"In\",$C495=\"Error\"),\"??????????\",\"\"&D495)","v":"??????????"},{"$f":"IF(OR(LEFT('Web Links'!$C495,2)=\"In\",$C495=\"Error\"),\"???\",IF(LEN(E495)=2,\"0\",IF(LEN(E495)=1,\"00\",\"\")))&'Web Links'!E495","v":"???"},{"$f":"IF(OR(LEFT('Web Links'!$C495,2)=\"In\",$C495=\"Error\"),\"?????\",IF(LEN(G495)=4,\"\",IF(LEN(G495)=3,\"\",IF(LEN(G495)=2,\"\",IF(LEN(G495)=1,\"\",\"\"))))&'Web Links'!G495)","v":"?????"},{"$f":"IF(OR(LEFT('Web Links'!$C495,2)=\"In\",$C495=\"Error\"),\"???????????????\",\"\"&F495)","v":"???????????????"}]
[{"$f":"IF('GL Template'!B510<>\"\",'GL Template'!B510,0)","v":0},{"$f":"IF('GL Template'!D510<>\"\",'GL Template'!D510,0)","v":0},"Error",null,null,null,null,null,null,null,null,null,null,{"$f":"IF(OR(LEFT('Web Links'!$C496,2)=\"In\",$C496=\"Error\"),\"?????\",\"\"&C496)","v":"?????"},{"$f":"IF(OR(LEFT('Web Links'!$C496,2)=\"In\",$C496=\"Error\"),\"??????????\",\"\"&D496)","v":"??????????"},{"$f":"IF(OR(LEFT('Web Links'!$C496,2)=\"In\",$C496=\"Error\"),\"???\",IF(LEN(E496)=2,\"0\",IF(LEN(E496)=1,\"00\",\"\")))&'Web Links'!E496","v":"???"},{"$f":"IF(OR(LEFT('Web Links'!$C496,2)=\"In\",$C496=\"Error\"),\"?????\",IF(LEN(G496)=4,\"\",IF(LEN(G496)=3,\"\",IF(LEN(G496)=2,\"\",IF(LEN(G496)=1,\"\",\"\"))))&'Web Links'!G496)","v":"?????"},{"$f":"IF(OR(LEFT('Web Links'!$C496,2)=\"In\",$C496=\"Error\"),\"???????????????\",\"\"&F496)","v":"???????????????"}]
[{"$f":"IF('GL Template'!B511<>\"\",'GL Template'!B511,0)","v":0},{"$f":"IF('GL Template'!D511<>\"\",'GL Template'!D511,0)","v":0},"Error",null,null,null,null,null,null,null,null,null,null,{"$f":"IF(OR(LEFT('Web Links'!$C497,2)=\"In\",$C497=\"Error\"),\"?????\",\"\"&C497)","v":"?????"},{"$f":"IF(OR(LEFT('Web Links'!$C497,2)=\"In\",$C497=\"Error\"),\"??????????\",\"\"&D497)","v":"??????????"},{"$f":"IF(OR(LEFT('Web Links'!$C497,2)=\"In\",$C497=\"Error\"),\"???\",IF(LEN(E497)=2,\"0\",IF(LEN(E497)=1,\"00\",\"\")))&'Web Links'!E497","v":"???"},{"$f":"IF(OR(LEFT('Web Links'!$C497,2)=\"In\",$C497=\"Error\"),\"?????\",IF(LEN(G497)=4,\"\",IF(LEN(G497)=3,\"\",IF(LEN(G497)=2,\"\",IF(LEN(G497)=1,\"\",\"\"))))&'Web Links'!G497)","v":"?????"},{"$f":"IF(OR(LEFT('Web Links'!$C497,2)=\"In\",$C497=\"Error\"),\"???????????????\",\"\"&F497)","v":"???????????????"}]
[{"$f":"IF('GL Template'!B512<>\"\",'GL Template'!B512,0)","v":0},{"$f":"IF('GL Template'!D512<>\"\",'GL Template'!D512,0)","v":0},"Error",null,null,null,null,null,null,null,null,null,null,{"$f":"IF(OR(LEFT('Web Links'!$C498,2)=\"In\",$C498=\"Error\"),\"?????\",\"\"&C498)","v":"?????"},{"$f":"IF(OR(LEFT('Web Links'!$C498,2)=\"In\",$C498=\"Error\"),\"??????????\",\"\"&D498)","v":"??????????"},{"$f":"IF(OR(LEFT('Web Links'!$C498,2)=\"In\",$C498=\"Error\"),\"???\",IF(LEN(E498)=2,\"0\",IF(LEN(E498)=1,\"00\",\"\")))&'Web Links'!E498","v":"???"},{"$f":"IF(OR(LEFT('Web Links'!$C498,2)=\"In\",$C498=\"Error\"),\"?????\",IF(LEN(G498)=4,\"\",IF(LEN(G498)=3,\"\",IF(LEN(G498)=2,\"\",IF(LEN(G498)=1,\"\",\"\"))))&'Web Links'!G498)","v":"?????"},{"$f":"IF(OR(LEFT('Web Links'!$C498,2)=\"In\",$C498=\"Error\"),\"???????????????\",\"\"&F498)","v":"???????????????"}]
[{"$f":"IF('GL Template'!B513<>\"\",'GL Template'!B513,0)","v":0},{"$f":"IF('GL Template'!D513<>\"\",'GL Template'!D513,0)","v":0},"Error",null,null,null,null,null,null,null,null,null,null,{"$f":"IF(OR(LEFT('Web Links'!$C499,2)=\"In\",$C499=\"Error\"),\"?????\",\"\"&C499)","v":"?????"},{"$f":"IF(OR(LEFT('Web Links'!$C499,2)=\"In\",$C499=\"Error\"),\"??????????\",\"\"&D499)","v":"??????????"},{"$f":"IF(OR(LEFT('Web Links'!$C499,2)=\"In\",$C499=\"Error\"),\"???\",IF(LEN(E499)=2,\"0\",IF(LEN(E499)=1,\"00\",\"\")))&'Web Links'!E499","v":"???"},{"$f":"IF(OR(LEFT('Web Links'!$C499,2)=\"In\",$C499=\"Error\"),\"?????\",IF(LEN(G499)=4,\"\",IF(LEN(G499)=3,\"\",IF(LEN(G499)=2,\"\",IF(LEN(G499)=1,\"\",\"\"))))&'Web Links'!G499)","v":"?????"},{"$f":"IF(OR(LEFT('Web Links'!$C499,2)=\"In\",$C499=\"Error\"),\"???????????????\",\"\"&F499)","v":"???????????????"}]
[{"$f":"IF('GL Template'!B514<>\"\",'GL Template'!B514,0)","v":0},{"$f":"IF('GL Template'!D514<>\"\",'GL Template'!D514,0)","v":0},"Error",null,null,null,null,null,null,null,null,null,null,{"$f":"IF(OR(LEFT('Web Links'!$C500,2)=\"In\",$C500=\"Error\"),\"?????\",\"\"&C500)","v":"?????"},{"$f":"IF(OR(LEFT('Web Links'!$C500,2)=\"In\",$C500=\"Error\"),\"??????????\",\"\"&D500)","v":"??????????"},{"$f":"IF(OR(LEFT('Web Links'!$C500,2)=\"In\",$C500=\"Error\"),\"???\",IF(LEN(E500)=2,\"0\",IF(LEN(E500)=1,\"00\",\"\")))&'Web Links'!E500","v":"???"},{"$f":"IF(OR(LEFT('Web Links'!$C500,2)=\"In\",$C500=\"Error\"),\"?????\",IF(LEN(G500)=4,\"\",IF(LEN(G500)=3,\"\",IF(LEN(G500)=2,\"\",IF(LEN(G500)=1,\"\",\"\"))))&'Web Links'!G500)","v":"?????"},{"$f":"IF(OR(LEFT('Web Links'!$C500,2)=\"In\",$C500=\"Error\"),\"???????????????\",\"\"&F500)","v":"???????????????"}]
[{"$f":"IF('GL Template'!B515<>\"\",'GL Template'!B515,0)","v":0},{"$f":"IF('GL Template'!D515<>\"\",'GL Template'!D515,0)","v":0},"Error",null,null,null,null,null,null,null,null,null,null,{"$f":"IF(OR(LEFT('Web Links'!$C501,2)=\"In\",$C501=\"Error\"),\"?????\",\"\"&C501)","v":"?????"},{"$f":"IF(OR(LEFT('Web Links'!$C501,2)=\"In\",$C501=\"Error\"),\"??????????\",\"\"&D501)","v":"??????????"},{"$f":"IF(OR(LEFT('Web Links'!$C501,2)=\"In\",$C501=\"Error\"),\"???\",IF(LEN(E501)=2,\"0\",IF(LEN(E501)=1,\"00\",\"\")))&'Web Links'!E501","v":"???"},{"$f":"IF(OR(LEFT('Web Links'!$C501,2)=\"In\",$C501=\"Error\"),\"?????\",IF(LEN(G501)=4,\"\",IF(LEN(G501)=3,\"\",IF(LEN(G501)=2,\"\",IF(LEN(G501)=1,\"\",\"\"))))&'Web Links'!G501)","v":"?????"},{"$f":"IF(OR(LEFT('Web Links'!$C501,2)=\"In\",$C501=\"Error\"),\"???????????????\",\"\"&F501)","v":"???????????????"}]
[null,null,"Invalid Business Unit [0] or Speed Chart Key [0]"]
[null,null,"Invalid Business Unit [0] or Speed Chart Key [0]"]

{"sheet":"Drop Downs","index":4,"n_rows":25,"n_cols":34,"rows_kept":25,"cut":false,"hidden":true,"merged":[]}
[null,null,null,null,null,null,null,null,null,null,null,null,null,null,null,null,null,null,null,null,null,null,null,null,null,null,"UMAMH","UMass Amherst",null,"ACTUALS",null,"N - Do Not Generate Reversal",null,"GLE"]
[null,null,null,null,null,null,null,null,null,null,null,null,null,null,null,null,null,null,null,null,null,null,null,null,null,null,"UMBOS","UMass Boston",null,"ADJUST",null,"B - Beginning of Next Period",null,"GLC"]
[null,null,null,null,null,null,null,null,null,null,null,null,null,null,null,null,null,null,null,null,null,null,null,null,null,null,"UMCEN","UMass President's Office",null,null,null,"E - End of Next Period",null,"CGE"]
[null,null,null,null,null,null,null,null,null,null,null,null,null,null,null,null,null,null,null,null,null,null,null,null,null,null,"UMDAR","UMass Dartmouth",null,null,null,"D - Date Defined by User",null,"CGC"]
[null,null,null,null,null,null,null,null,null,null,null,null,null,null,null,null,null,null,null,null,null,null,null,null,null,null,"UMLOW","UMass Lowell"]
[null,null,null,null,null,null,null,null,null,null,null,null,null,null,null,null,null,null,null,null,null,null,null,null,null,null,"UMWOR","UMass Worcester"]
[null,null,null,null,null,null,null,null,null,null,null,null,null,null,null,null,null,null,null,null,null,null,null,null,null,null,"WCCCP","Worcester City Campus Corp"]
[null,null,null,null,null,null,null,null,null,null,null,null,null,null,null,null,null,null,null,null,null,null,null,null,null,null,"WUMMF","UMass Memorial Foundation"]
[null,null,null,null,null,null,null,null,null,null,null,null,null,null,null,null,null,null,null,null,null,null,null,null,null,null,"WCPSP","WCS Uhealth Solutions"]
[null,null,null,null,null,null,null,null,null,null,null,null,null,null,null,null,null,null,null,null,null,null,null,null,null,null,"WCS00","WCS Inc"]
[null,null,null,null,null,null,null,null,null,null,null,null,null,null,null,null,null,null,null,null,null,null,null,null,null,null,"WCS01","WCS - 222 Maple"]
[null,null,null,null,null,null,null,null,null,null,null,null,null,null,null,null,null,null,null,null,null,null,null,null,null,null,"WCS02","WCS - 460 Walk Hill"]
[null,null,null,null,null,null,null,null,null,null,null,null,null,null,null,null,null,null,null,null,null,null,null,null,null,null,"WCS03","WCS - 100 Century"]
[null,null,null,null,null,null,null,null,null,null,null,null,null,null,null,null,null,null,null,null,null,null,null,null,null,null,"WCS04","WCS - 3 Centennial"]
[null,null,null,null,null,null,null,null,null,null,null,null,null,null,null,null,null,null,null,null,null,null,null,null,null,null,"WCS05","WCS - 55 Lake Ave"]
[null,null,null,null,null,null,null,null,null,null,null,null,null,null,null,null,null,null,null,null,null,null,null,null,null,null,"WCS06","WCS - 365 373 Plantation"]
[null,null,null,null,null,null,null,null,null,null,null,null,null,null,null,null,null,null,null,null,null,null,null,null,null,null,"WCS07","WCS - 333 South"]
[null,null,null,null,null,null,null,null,null,null,null,null,null,null,null,null,null,null,null,null,null,null,null,null,null,null,"WCS08","WCS - 11 Midstate"]
[null,null,null,null,null,null,null,null,null,null,null,null,null,null,null,null,null,null,null,null,null,null,null,null,null,null,"WCS09","WCS - One Innovation Drive,Inc"]
[null,null,null,null,null,null,null,null,null,null,null,null,null,null,null,null,null,null,null,null,null,null,null,null,null,null,"WCS10","WCS - 377 Plantation St, Inc"]
[null,null,null,null,null,null,null,null,null,null,null,null,null,null,null,null,null,null,null,null,null,null,null,null,null,null,"WCS11","WCS - 381 Plantation St, Inc"]
[null,null,null,null,null,null,null,null,null,null,null,null,null,null,null,null,null,null,null,null,null,null,null,null,null,null,"UMFND","UMass Foundation"]
[null,null,null,null,null,null,null,null,null,null,null,null,null,null,null,null,null,null,null,null,null,null,null,null,null,null,"EL600","Elimination for Medical School"]
[null,null,null,null,null,null,null,null,null,null,null,null,null,null,null,null,null,null,null,null,null,null,null,null,null,null,"EL610","Elimination for WCCCP Consol"]
[null,null,null,null,null,null,null,null,null,null,null,null,null,null,null,null,null,null,null,null,null,null,null,null,null,null,"EL650","Elimination for WCS00 Consol"]

{"sheet":"SOAP","index":5,"n_rows":27,"n_cols":4,"rows_kept":27,"cut":false,"hidden":true,"merged":[[25,1,25,13],[26,1,26,13]]}
["Current Instance:","fsprd91"]
["Description:","Production"]
["Currnt URL:","https://fs-prd.erp.umasscs.net/PSIGW/PeopleSoftServiceListeningConnector/UM_SPEEDCHART_SRVC.1.wsdl"]
["Current Host:","https://fs-prd.erp.umasscs.net"]
["Current End Point:","https://fs-prd.erp.umasscs.net/PSIGW/PeopleSoftServiceListeningConnecto"]
[]
[null,"Instance","Description","Value"]
["URL:","fsdev91","Development","https://fs-dev.erp.umasscs.net/PSIGW/PeopleSoftServiceListeningConnector/UM_SPEEDCHART_SRVC.1.wsdl"]
[null,"fsltd91","Long Term Development"]
[null,"fstst91","Test","https://fs-tst.erp.umasscs.net/PSIGW/PeopleSoftServiceListeningConnector/UM_SPEEDCHART_SRVC.1.wsdl"]
[null,"fsltt91","Long Term Test"]
[null,"fsprd91","Production","https://fs-prd.erp.umasscs.net/PSIGW/PeopleSoftServiceListeningConnector/UM_SPEEDCHART_SRVC.1.wsdl"]
[]
["Host:","fsdev91","Development","https://fs-dev.erp.umasscs.net"]
[null,"fsltd91","Long Term Development"]
[null,"fstst91","Test","https://fs-tst.erp.umasscs.net"]
[null,"fsltt91","Long Term Test"]
[null,"fsprd91","Production","https://fs-prd.erp.umasscs.net"]
[]
["End Point:","fsdev91","Development","https://fs-dev.erp.umasscs.net/PSIGW/PeopleSoftServiceListeningConnector"]
[null,"fsltd91","Long Term Development"]
[null,"fstst91","Test","https://fs-tst.erp.umasscs.net/PSIGW/PeopleSoftServiceListeningConnector"]
[null,"fsltt91","Long Term Test"]
[null,"fsprd91","Production","https://fs-prd.erp.umasscs.net/PSIGW/PeopleSoftServiceListeningConnecto"]
[]
["Request:","<soapenv:Envelope xmlns:soapenv=\"http://schemas.xmlsoap.org/soap/envelope/\" xmlns:um=\"http://xmlns.oracle.com/Enterprise/Tools/schemas/UM_SPDCHRT_LKUP.UM_SPDCHRT_LKUP.V1\">   <soapenv:Body>      <um:UM_SPDCHRT_LKUP>         <um:BUSINESS_UNIT>UMLOW</um:BUSINESS_UNIT>         <um:SPEEDCHART_KEY>119003</um:SPEEDCHART_KEY>         <um:UM_HR_ACCT_CD></um:UM_HR_ACCT_CD>\"      </um:UM_SPDCHRT_LKUP>   </soapenv:Body></soapenv:Envelope>"]
["Response:","<?xml version=\"1.0\" encoding=\"UTF-8\"?> <soapenv:Envelope   xmlns:soapenv=\"http://schemas.xmlsoap.org/soap/envelope/\" xmlns:soapenc=\"http://schemas.xmlsoap.org/soap/encoding/\" xmlns:xsd=\"http://www.w3.org/2001/XMLSchema\" xmlns:xsi=\"http://www.w3.org/2001/XMLSchema-instance\"><soapenv:Body><UM_SPDCHRT_RESP xmlns=\"http://xmlns.oracle.com/Enterprise/Tools/schemas/UM_SPDCHRT_LKUP.UM_SPDCHRT_RESP.V1\">\n<BUSINESS_UNIT>UMLOW</BUSINESS_UNIT><CLASS_FLD>CVD19</CLASS_FLD><DEPTID>L230100000</DEPTID><FUND_CODE>51425</FUND_CODE><PROGRAM_CODE>F00</PROGRAM_CODE><PROJECT_ID>M50210000000001</PROJECT_ID><SETID>UMLOW</SETID><SPEEDCHART_KEY>119003</SPEEDCHART_KEY><UM_HR_ACCT_CD>L119003</UM_HR_ACCT_CD></UM_SPDCHRT_RESP></soapenv:Body> </soapenv:Envelope>"]

{"sheet":"Change Log","index":6,"n_rows":26,"n_cols":6,"rows_kept":26,"cut":false,"hidden":true,"merged":[]}
["CSR","Date","Developer","Object Type","Object Name","Comments"]
["FS9-22565","2014-11-05","S Wood","Tab","Change Log","Added tab"]
[null,null,null,null,"SOAP","Added tab"]
[null,null,null,null,"Web Links","Added column labels"]
[]
[null,null,null,"VB","SOAP.Worksheet_Change","Logic to set Current IB information ofr Instance"]
[null,null,null,null,"GL Template.Workshhet_Change","Add call to RetrieveSpeedChartValues"]
[null,null,null,null,null,"Commented out call to XWalkUpdate"]
[null,null,null,null,"Module3.RefreshAll","Add call to RetrieveSpeedChartValues"]
[null,null,null,null,null,"Commented out call to XWalkUpdate"]
[null,null,null,null,"Module2","Added Function RetrieveSpeedChartValues"]
[null,null,null,null,null,"Added Function GetTagValue"]
[]
[null,null,null,"Name","IB_URL","Range of SOAP URL Instances"]
[null,null,null,null,"IB_HOST","Range of SOAP HOST Instances"]
[null,null,null,null,"IB_ENDPOINT","Range of SOAP ENDPOINT Instances"]
[null,null,null,null,"IB_CURRENT_URL","Range of SOAP Current URL Value"]
[null,null,null,null,"IB_CURRENT_HOST","Range of SOAP Current HOST Value"]
[null,null,null,null,"IB_CURRENT_ENDPOINT","Range of SOAP Current ENDPOINT Value"]
[]
[null,null,null,"References","Microsoft XML, v6.0","Included in References"]
[null,null,null,null,"Microsoft Office 14.0 Object Library","Included in References"]
[]
["FS9-23731","2016-11-29","J.Nelson","VB","Module2","Modified RetrieveSpeedChartValues to use objects from XML v3.0 that are available in Windows 7 and Windows 10 (v6.0 not available in Windows 10)"]
[null,null,null,"References","Microsoft XML, v6.0","Removed from References"]
[null,null,null,null,"Microsoft XML, v3.0","Included in References"]